BEGIN:VCALENDAR
VERSION:2.0
PRODID:-//Visit Pajala - ECPv6.14.2//NONSGML v1.0//EN
CALSCALE:GREGORIAN
METHOD:PUBLISH
X-ORIGINAL-URL:https://visitpajala.se
X-WR-CALDESC:Händelser för Visit Pajala
REFRESH-INTERVAL;VALUE=DURATION:PT1H
X-Robots-Tag:noindex
X-PUBLISHED-TTL:PT1H
BEGIN:VTIMEZONE
TZID:Europe/Stockholm
BEGIN:DAYLIGHT
TZOFFSETFROM:+0100
TZOFFSETTO:+0200
TZNAME:CEST
DTSTART:20240331T010000
END:DAYLIGHT
BEGIN:STANDARD
TZOFFSETFROM:+0200
TZOFFSETTO:+0100
TZNAME:CET
DTSTART:20241027T010000
END:STANDARD
END:VTIMEZONE
BEGIN:VEVENT
DTSTART;TZID=Europe/Stockholm:20241120T150000
DTEND;TZID=Europe/Stockholm:20241120T183000
DTSTAMP:20260421T143056
CREATED:20241105T151936Z
LAST-MODIFIED:20241105T151936Z
UID:10001086-1732114800-1732127400@visitpajala.se
SUMMARY:Starta eget i Pajala
DESCRIPTION:Har du en affärsidé\, men känner att steget till att starta företag känns överväldigande? Eller kanske har du redan startat men kämpar med frågor som affärsplanering\, försäljning och hur man skaffar sig kunder? Då kan det här vara precis det du behöver! \nVi vet att de första stegen som företagare är de tuffaste – men du behöver inte göra det ensam. Under utbildningen får du hjälp att navigera genom vanliga utmaningar som nystartade företagare möter: \nOsäkerhet över affärsplanen?\nVi hjälper dig att sätta en tydlig strategi som håller. \nBehöver du kunder?\nFå praktiska tips på hur du når ut och säljer. \nOrolig för ekonomin?\nLär dig att planera och hantera företagets ekonomi smart. \nDetta är en unik chans att få praktisk rådgivning\, nätverka med andra entreprenörer och ta ditt företag till nästa nivå. Starta eget-utbildning passar för de som funderar på att starta\, precis startat eller drivit företag i max 3 år\, i Pajala\, Överkalix och Övertorneå. \nPå plats deltar kommunernas näringslivsutvecklare\, samt Sparbanken Nord. \nDet bästa? Utbildningen är helt gratis och vi bjuder dessutom på middag! \nTack vare stöd från Pajala\, Överkalix och Övertorneå kommun och våra företagspartners behöver du bara investera din tid och ditt engagemang. Men skynda dig\, platserna är begränsade och de fylls snabbt! \nPris: Eventet är kostnadsfritt\, men anmälan krävs. \nPlats: Jockfall Turist och konferens \nNär? Onsdag 20 november 16 – 19:30 \nDigital uppföljning: Vi följer upp denna träff digitalt 4/12\, kl. 16-18. Vid anmälan blir du automatiskt anmäld till båda tillfällen. \nAnmäl dig senast måndag 18 november här: https://simplesignup.se/private_event/221501/319482d412 \nVid frågor kontakta Josefin Karlberg josefin.karlberg@nyforetagarcentrum.se affärsrådgivare Nyföretagarcentrum Nord. \nVälkomna!
URL:https://visitpajala.se/kalender/starta-eget-i-pajala/
LOCATION:NyföretagarCentrum Nord\, Pajala\, Sverige
CATEGORIES:Föreläsning
ATTACH;FMTTYPE=image/jpeg:https://visitpajala.se/wp-content/uploads/2024/11/465108709_959703146190227_1911071802718780262_n.jpg
ORGANIZER;CN="Nyf%C3%B6retagarCentrum Nord%2C Pajala":MAILTO:josefin.karlberg@nyforetagarcentrum.se
END:VEVENT
BEGIN:VEVENT
DTSTART;TZID=Europe/Stockholm:20241024T103000
DTEND;TZID=Europe/Stockholm:20241024T114500
DTSTAMP:20260421T143056
CREATED:20241021T094954Z
LAST-MODIFIED:20241021T094954Z
UID:10001054-1729765800-1729770300@visitpajala.se
SUMMARY:Upptäck Canvas fantastiska värld - webinarium med NyföretagarCentrum Nord
DESCRIPTION:Välkommen till ett inspirerande Canva Basic Webinar! \nUnder en rolig och dynamisk session på cirka 60 minuter kommer du att få upptäcka Canvas fantastiska värld. Du kommer få ta del av massor av användbara tips och tricks som gör att du kan skapa fantastiska designprojekt på nolltid. \nDenna digitala workshop är perfekt för dig som vill släppa loss din kreativitet och lära dig att använda Canva. Tillsammans kommer vi att utforska möjligheter och se till att du känner dig trygg och motiverad att fortsätta på egen hand. \nDetta webinar är ett samarbete mellan Nyföretagarcentrum Nord och Anastasia Waara. \nPris: Eventet är kostnadsfritt\, men anmälan krävs. Kan du inte komma? Glöm inte att avboka. \nBoka din plats här: https://simplesignup.se/private_event/219538/e63d52d9a9 \nPlats: Digitalt på teams \nNär? 24 oktober 11:30 – 12:45 \nVälkomna!
URL:https://visitpajala.se/kalender/upptack-canvas-fantastiska-varld-webinarium-med-nyforetagarcentrum-nord/
LOCATION:NyföretagarCentrum Nord\, Pajala\, Sverige
CATEGORIES:Föreläsning
ATTACH;FMTTYPE=image/png:https://visitpajala.se/wp-content/uploads/2024/10/canva-webinarium-768x768-1.png
ORGANIZER;CN="Nyf%C3%B6retagarCentrum Nord%2C Pajala":MAILTO:josefin.karlberg@nyforetagarcentrum.se
END:VEVENT
BEGIN:VEVENT
DTSTART;TZID=Europe/Stockholm:20241018T163000
DTEND;TZID=Europe/Stockholm:20241125T190000
DTSTAMP:20260421T143056
CREATED:20241021T095046Z
LAST-MODIFIED:20241021T095046Z
UID:10001056-1729269000-1732561200@visitpajala.se
SUMMARY:Att köpa eller sälja företag
DESCRIPTION:Välkommen till ett kostnadsfritt digitalt seminarium! Detta evenemang är perfekt för dig som planerar att köpa eller sälja ett företag i Boden\, Haparanda\, Luleå\, Pajala\, Överkalix och Övertorneå. \nÄr du redo att ta nästa steg i ditt företagande? Oavsett om du står inför ett generationsskifte\, ägarbyte eller funderar på att ta in en ny delägare\, finns det många frågor att överväga: \nHur säkerställer jag rättvisa mellan barnen?\nVad är skillnaden mellan att köpa aktier och inkråm?\nVilka är de ekonomiska konsekvenserna och hur fastställer jag det rätta priset?\nHur finansierar jag mitt bolagsköp?\nVad är mitt företag värt?\nPå detta seminarium får du insikter och råd för att planera ditt ägarskifte på ett klokt sätt\, oavsett om du är säljare eller köpare. \nMedverkande experter: \nNyföretagarCentrum: Monica Wikström-Johansson inleder och hälsar välkommen.\nSvensk Företagsförmedling: Peter Kieri pratar om företagsöverlåtelser och ägarskiften.\nSparbanken Nord och ALMI Nord: Victoria Hannedahl och Mathias Larsson diskuterar finansieringslösningar.\nAdvise North: Claus Thingvall ger ekonomiska och juridiska perspektiv.\nCooCon: Ulrika Sundqvist pratar om processen kring hållbara ägarskiften.\nNyföretagarCentrum Nord: Monica Wikström-Johansson avslutar med frågor och summering. \nOBS: Boka din plats senast den 18 november! \nPris: Eventet är kostnadsfritt\, men anmälan krävs. Om du inte kan delta\, vänligen avboka din plats. \nBoka din plats här: https://simplesignup.se/private_event/220922/7375a7229a \nPlats: Digitalt seminarium – Länk skickas i nära anslutning till eventet \nNär: 25 november 2024\, kl. 17:30–20:00
URL:https://visitpajala.se/kalender/att-kopa-eller-salja-foretag/
LOCATION:NyföretagarCentrum Nord\, Pajala\, Sverige
CATEGORIES:Föreläsning
ATTACH;FMTTYPE=image/png:https://visitpajala.se/wp-content/uploads/2024/10/Skydda-ditt-foretag-1-768x768-1.png
ORGANIZER;CN="Nyf%C3%B6retagarCentrum Nord%2C Pajala":MAILTO:josefin.karlberg@nyforetagarcentrum.se
END:VEVENT
END:VCALENDAR