BEGIN:VCALENDAR
VERSION:2.0
PRODID:-//Visit Pajala - ECPv6.14.2//NONSGML v1.0//EN
CALSCALE:GREGORIAN
METHOD:PUBLISH
X-WR-CALNAME:Visit Pajala
X-ORIGINAL-URL:https://visitpajala.se
X-WR-CALDESC:Händelser för Visit Pajala
REFRESH-INTERVAL;VALUE=DURATION:PT1H
X-Robots-Tag:noindex
X-PUBLISHED-TTL:PT1H
BEGIN:VTIMEZONE
TZID:Europe/Stockholm
BEGIN:DAYLIGHT
TZOFFSETFROM:+0100
TZOFFSETTO:+0200
TZNAME:CEST
DTSTART:20240331T010000
END:DAYLIGHT
BEGIN:STANDARD
TZOFFSETFROM:+0200
TZOFFSETTO:+0100
TZNAME:CET
DTSTART:20241027T010000
END:STANDARD
BEGIN:DAYLIGHT
TZOFFSETFROM:+0100
TZOFFSETTO:+0200
TZNAME:CEST
DTSTART:20250330T010000
END:DAYLIGHT
BEGIN:STANDARD
TZOFFSETFROM:+0200
TZOFFSETTO:+0100
TZNAME:CET
DTSTART:20251026T010000
END:STANDARD
END:VTIMEZONE
BEGIN:VEVENT
DTSTART;TZID=Europe/Stockholm:20250405T090000
DTEND;TZID=Europe/Stockholm:20250405T140000
DTSTAMP:20260423T171600
CREATED:20250402T121646Z
LAST-MODIFIED:20250402T121646Z
UID:10001544-1743843600-1743861600@visitpajala.se
SUMMARY:Skoter & Familje CAFE
DESCRIPTION:KIEKSIÄISVAARA HEMBYGDSFÖRENING ANORDNAR SKOTER CAFE PÅ LÖRDAGAR. \nKieksiäisvaara hembygdsförening anordnar skoter cafe på lördagar. \nDet går även jättebra att komma dit med bil \nVälkommen
URL:https://visitpajala.se/kalender/skoter-familje-cafe-2/
LOCATION:kieksiäisvaara\, Kieksiäisvaara\, Pajala\, Sverige
ATTACH;FMTTYPE=image/jpeg:https://visitpajala.se/wp-content/uploads/2025/04/Screenshot_20250320_084946_Instagram.jpg
ORGANIZER;CN="Kieksi%C3%A4isvaara Hembygdsf%C3%B6rening":MAILTO:pajalahuskies@gmail.com
END:VEVENT
BEGIN:VEVENT
DTSTART;TZID=Europe/Stockholm:20240629T090000
DTEND;TZID=Europe/Stockholm:20240629T140000
DTSTAMP:20260423T171600
CREATED:20240605T084748Z
LAST-MODIFIED:20240605T084748Z
UID:10000699-1719651600-1719669600@visitpajala.se
SUMMARY:BYALOPPIS KIEKSIÄISVAARA
DESCRIPTION:BYALOPPIS I KIEKSIÄISVAARA\n29 Juni\, 2025 kl 10-15\nArrangeras av Kieksiäisvaara Hembygdsförening.
URL:https://visitpajala.se/kalender/byaloppis-kieksiaisvaara/
LOCATION:kieksiäisvaara\, Kieksiäisvaara\, Pajala\, Sverige
ATTACH;FMTTYPE=image/png:https://visitpajala.se/wp-content/uploads/2024/06/PAJALA-12.png
END:VEVENT
END:VCALENDAR