BEGIN:VCALENDAR
VERSION:2.0
PRODID:-//Visit Pajala - ECPv6.14.2//NONSGML v1.0//EN
CALSCALE:GREGORIAN
METHOD:PUBLISH
X-WR-CALNAME:Visit Pajala
X-ORIGINAL-URL:https://visitpajala.se
X-WR-CALDESC:Händelser för Visit Pajala
REFRESH-INTERVAL;VALUE=DURATION:PT1H
X-Robots-Tag:noindex
X-PUBLISHED-TTL:PT1H
BEGIN:VTIMEZONE
TZID:Europe/Stockholm
BEGIN:DAYLIGHT
TZOFFSETFROM:+0100
TZOFFSETTO:+0200
TZNAME:CEST
DTSTART:20230326T010000
END:DAYLIGHT
BEGIN:STANDARD
TZOFFSETFROM:+0200
TZOFFSETTO:+0100
TZNAME:CET
DTSTART:20231029T010000
END:STANDARD
BEGIN:DAYLIGHT
TZOFFSETFROM:+0100
TZOFFSETTO:+0200
TZNAME:CEST
DTSTART:20240331T010000
END:DAYLIGHT
BEGIN:STANDARD
TZOFFSETFROM:+0200
TZOFFSETTO:+0100
TZNAME:CET
DTSTART:20241027T010000
END:STANDARD
END:VTIMEZONE
BEGIN:VEVENT
DTSTART;TZID=Europe/Stockholm:20240815T170000
DTEND;TZID=Europe/Stockholm:20240815T183000
DTSTAMP:20260421T171732
CREATED:20240730T092912Z
LAST-MODIFIED:20240730T092912Z
UID:10000742-1723741200-1723746600@visitpajala.se
SUMMARY:Skillingnytt till kaffet
DESCRIPTION:MUSIKTEATER & KONST.\nDet som göms i knoppen\, kommer fram vid koppen!\nBerättarföreställningen Skillingnytt till kaffet tar dig med till en hjärtlig gemenskap kring kaffekoppen med minnen förevigade i konst och musikteater\, personliga reseberättelser från scenen – och kanske även historier från publiken?\nHär ryms nutid och dåtid\, allvar och skrattsalvor och såklart: kaffet självt.
URL:https://visitpajala.se/kalender/skillingnytt-till-kaffet/
LOCATION:Kieksiäisvaara 210\, Kieksiäisvaara 210\, Pajala\, 98491\, Sverige
CATEGORIES:Kultur
ATTACH;FMTTYPE=image/png:https://visitpajala.se/wp-content/uploads/2024/07/skillingnytt-png.png
ORGANIZER;CN="Kieksi%C3%A4isvaara Hembygdsf%C3%B6rening":MAILTO:pajalahuskies@gmail.com
END:VEVENT
BEGIN:VEVENT
DTSTART;TZID=Europe/Stockholm:20231206T170000
DTEND;TZID=Europe/Stockholm:20231206T193000
DTSTAMP:20260421T171732
CREATED:20231026T073501Z
LAST-MODIFIED:20231026T073501Z
UID:10000356-1701882000-1701891000@visitpajala.se
SUMMARY:Cafe kvällar
DESCRIPTION:På Hannala Gården anordnas av Kieksiäisvaara Hembygdsförening.
URL:https://visitpajala.se/kalender/cafe-kvallar/2023-12-06/
LOCATION:Kieksiäisvaara 210\, Kieksiäisvaara 210\, Pajala\, 98491\, Sverige
ATTACH;FMTTYPE=image/jpeg:https://visitpajala.se/wp-content/uploads/2023/10/IMG_20231025_190231-scaled.jpg
ORGANIZER;CN="Kieksi%C3%A4isvaara Hembygdsf%C3%B6rening":MAILTO:pajalahuskies@gmail.com
END:VEVENT
BEGIN:VEVENT
DTSTART;TZID=Europe/Stockholm:20231202T160000
DTEND;TZID=Europe/Stockholm:20231202T190000
DTSTAMP:20260421T171732
CREATED:20231127T095548Z
LAST-MODIFIED:20231128T111927Z
UID:10000398-1701532800-1701543600@visitpajala.se
SUMMARY:JULFEST KIEKSIÄISVAARA
DESCRIPTION:Hannalagården i Kieksiäisvaara \nJulgröt\, Skinksmörgås\, Glögg.\nKaffe med Julfika \nPris 100kr\nBarn under 13 år äter GRATIS \nMusikunderhållning av Sören Pekkari och Hilding Niemi. \nVÄLKOMMEN\nKIEKSIÄISVAARA HEMBYGDSFÖRENING
URL:https://visitpajala.se/kalender/julfest-kieksiaisvaara/
LOCATION:Kieksiäisvaara 210\, Kieksiäisvaara 210\, Pajala\, 98491\, Sverige
CATEGORIES:Kultur
ATTACH;FMTTYPE=image/jpeg:https://visitpajala.se/wp-content/uploads/2023/11/IMG_20231126_191837.jpg
ORGANIZER;CN="Kieksi%C3%A4isvaara Hembygdsf%C3%B6rening":MAILTO:pajalahuskies@gmail.com
END:VEVENT
BEGIN:VEVENT
DTSTART;TZID=Europe/Stockholm:20231122T170000
DTEND;TZID=Europe/Stockholm:20231122T193000
DTSTAMP:20260421T171732
CREATED:20231026T073501Z
LAST-MODIFIED:20231026T073501Z
UID:10000355-1700672400-1700681400@visitpajala.se
SUMMARY:Cafe kvällar
DESCRIPTION:På Hannala Gården anordnas av Kieksiäisvaara Hembygdsförening.
URL:https://visitpajala.se/kalender/cafe-kvallar/2023-11-22/
LOCATION:Kieksiäisvaara 210\, Kieksiäisvaara 210\, Pajala\, 98491\, Sverige
ATTACH;FMTTYPE=image/jpeg:https://visitpajala.se/wp-content/uploads/2023/10/IMG_20231025_190231-scaled.jpg
ORGANIZER;CN="Kieksi%C3%A4isvaara Hembygdsf%C3%B6rening":MAILTO:pajalahuskies@gmail.com
END:VEVENT
BEGIN:VEVENT
DTSTART;TZID=Europe/Stockholm:20231108T170000
DTEND;TZID=Europe/Stockholm:20231108T193000
DTSTAMP:20260421T171732
CREATED:20231026T073501Z
LAST-MODIFIED:20231026T073501Z
UID:10000354-1699462800-1699471800@visitpajala.se
SUMMARY:Cafe kvällar
DESCRIPTION:På Hannala Gården anordnas av Kieksiäisvaara Hembygdsförening.
URL:https://visitpajala.se/kalender/cafe-kvallar/2023-11-08/
LOCATION:Kieksiäisvaara 210\, Kieksiäisvaara 210\, Pajala\, 98491\, Sverige
ATTACH;FMTTYPE=image/jpeg:https://visitpajala.se/wp-content/uploads/2023/10/IMG_20231025_190231-scaled.jpg
ORGANIZER;CN="Kieksi%C3%A4isvaara Hembygdsf%C3%B6rening":MAILTO:pajalahuskies@gmail.com
END:VEVENT
END:VCALENDAR