BEGIN:VCALENDAR
VERSION:2.0
PRODID:-//Visit Pajala - ECPv6.14.2//NONSGML v1.0//EN
CALSCALE:GREGORIAN
METHOD:PUBLISH
X-ORIGINAL-URL:https://visitpajala.se
X-WR-CALDESC:Händelser för Visit Pajala
REFRESH-INTERVAL;VALUE=DURATION:PT1H
X-Robots-Tag:noindex
X-PUBLISHED-TTL:PT1H
BEGIN:VTIMEZONE
TZID:Europe/Stockholm
BEGIN:DAYLIGHT
TZOFFSETFROM:+0100
TZOFFSETTO:+0200
TZNAME:CEST
DTSTART:20240331T010000
END:DAYLIGHT
BEGIN:STANDARD
TZOFFSETFROM:+0200
TZOFFSETTO:+0100
TZNAME:CET
DTSTART:20241027T010000
END:STANDARD
BEGIN:DAYLIGHT
TZOFFSETFROM:+0100
TZOFFSETTO:+0200
TZNAME:CEST
DTSTART:20250330T010000
END:DAYLIGHT
BEGIN:STANDARD
TZOFFSETFROM:+0200
TZOFFSETTO:+0100
TZNAME:CET
DTSTART:20251026T010000
END:STANDARD
END:VTIMEZONE
BEGIN:VEVENT
DTSTART;TZID=Europe/Stockholm:20251002T183000
DTEND;TZID=Europe/Stockholm:20251002T200000
DTSTAMP:20260421T224935
CREATED:20250916T110603Z
LAST-MODIFIED:20250916T110603Z
UID:10002089-1759429800-1759435200@visitpajala.se
SUMMARY:Trubadurafton
DESCRIPTION:Live Music med Bo Lindberg
URL:https://visitpajala.se/kalender/trubadurafton/
LOCATION:Kardis Bygdegård\, Kardis 159\, Pajala
ATTACH;FMTTYPE=image/jpeg:https://visitpajala.se/wp-content/uploads/2025/09/Bo-Lindberg-fejan.jpeg
END:VEVENT
BEGIN:VEVENT
DTSTART;TZID=Europe/Stockholm:20251001T130000
DTEND;TZID=Europe/Stockholm:20251003T190000
DTSTAMP:20260421T224935
CREATED:20250925T114637Z
LAST-MODIFIED:20250925T114637Z
UID:10002098-1759323600-1759518000@visitpajala.se
SUMMARY:Tre dagar för Världens Barn
DESCRIPTION:Insamling till Världens Barn
URL:https://visitpajala.se/kalender/tre-dagar-for-varldens-barn-2/2025-10-01/1/
LOCATION:Kardis Bygdegård\, Kardis 159\, Pajala
CATEGORIES:Kultur
ATTACH;FMTTYPE=image/png:https://visitpajala.se/wp-content/uploads/2025/09/IMG_0195.png
END:VEVENT
BEGIN:VEVENT
DTSTART;TZID=Europe/Stockholm:20251001T080000
DTEND;TZID=Europe/Stockholm:20251001T170000
DTSTAMP:20260421T224935
CREATED:20250925T114637Z
LAST-MODIFIED:20250925T114637Z
UID:10002102-1759305600-1759338000@visitpajala.se
SUMMARY:Tre dagar för Världens Barn
DESCRIPTION:Insamling till Världens Barn
URL:https://visitpajala.se/kalender/tre-dagar-for-varldens-barn-2/2025-10-01/3/
LOCATION:Kardis Bygdegård\, Kardis 159\, Pajala
CATEGORIES:Kultur
ATTACH;FMTTYPE=image/png:https://visitpajala.se/wp-content/uploads/2025/09/IMG_0195.png
END:VEVENT
BEGIN:VEVENT
DTSTART;TZID=Europe/Stockholm:20250723T190000
DTEND;TZID=Europe/Stockholm:20250723T210000
DTSTAMP:20260421T224935
CREATED:20250617T134421Z
LAST-MODIFIED:20250723T095637Z
UID:10001587-1753297200-1753304400@visitpajala.se
SUMMARY:Rajaton - Gränslöst med Glesbygdsdivan Carina Henriksson och Roger Norén
DESCRIPTION:RAJATON-GRÄNSLÖST – Vi låter språk\, musik & världar mötas i ett gränslöst program\n\nNär Glesbygdsdivan med vänner tar plats på scen svänger sig musiken mellan folkmusik och klassiskt\, TangOpera och RockOpera\, visa och annat. Med egna och andras texter och musik födda och gödda av den Tornedalska myllan\, eller stöpta i Tornedalsdräkt blir det lokalt och globalt\, med nerv av myr och älv. \nVi spelar lika gärna i ett scenrum eller i ert vardagsrum\, på en arenakonsert eller i en bygdegård\, inomhus eller utomhus. Vi lyfter gärna våra nationella minoritetsspråk\, vår kultur\, våra tonsättare och vår musik på scenen blandat med opera\, annan genre\, internationella influenser och övriga språk\, gränslöst och choosefritt. \nCarina Henriksson\, GlesbygdsDivan från Tystnaden är gräns-och genrelös sångerska från Lainio. Dubbel minoritet\, med ena foten i den Tornedalska kulturen och den andra i den samiska traditionen. Roger Norén på piano\, dragspel\, klarinett. \n  \n\n\nEntré 150kr\, kaffe/te smörgås ingår!\n\n\nBuss t/r\, avgår kl 18.00 från Malmen Pajala föranmälan 0702784140.
URL:https://visitpajala.se/kalender/glesbygdsdivan-rajaton-granslost-kardis/
LOCATION:Kardis Bygdegård\, Kardis 159\, Pajala
CATEGORIES:Kaffe/fika/mat,Kultur,Musik
ATTACH;FMTTYPE=image/jpeg:https://visitpajala.se/wp-content/uploads/2025/06/Kopia-av-1-RAJATON-A4.jpg
END:VEVENT
BEGIN:VEVENT
DTSTART;TZID=Europe/Stockholm:20241004T110000
DTEND;TZID=Europe/Stockholm:20241004T180000
DTSTAMP:20260421T224935
CREATED:20241001T093206Z
LAST-MODIFIED:20241001T093206Z
UID:10001035-1728039600-1728064800@visitpajala.se
SUMMARY:Tre dagar för Världens Barn
DESCRIPTION:Program för årets insamling till Världens Barn i Kardis
URL:https://visitpajala.se/kalender/tre-dagar-for-varldens-barn/2024-10-04/
LOCATION:Kardis Bygdegård\, Kardis 159\, Pajala
ATTACH;FMTTYPE=image/jpeg:https://visitpajala.se/wp-content/uploads/2024/09/IMG_0110.jpeg
END:VEVENT
BEGIN:VEVENT
DTSTART;TZID=Europe/Stockholm:20241003T180000
DTEND;TZID=Europe/Stockholm:20241003T200000
DTSTAMP:20260421T224935
CREATED:20241001T093206Z
LAST-MODIFIED:20241001T093206Z
UID:10001034-1727978400-1727985600@visitpajala.se
SUMMARY:Tre dagar för Världens Barn
DESCRIPTION:Program för årets insamling till Världens Barn i Kardis
URL:https://visitpajala.se/kalender/tre-dagar-for-varldens-barn/2024-10-03/
LOCATION:Kardis Bygdegård\, Kardis 159\, Pajala
ATTACH;FMTTYPE=image/jpeg:https://visitpajala.se/wp-content/uploads/2024/09/IMG_0110.jpeg
END:VEVENT
BEGIN:VEVENT
DTSTART;TZID=Europe/Stockholm:20241002T120000
DTEND;TZID=Europe/Stockholm:20241002T143000
DTSTAMP:20260421T224935
CREATED:20241001T093206Z
LAST-MODIFIED:20241001T093206Z
UID:10001033-1727870400-1727879400@visitpajala.se
SUMMARY:Tre dagar för Världens Barn
DESCRIPTION:Program för årets insamling till Världens Barn i Kardis
URL:https://visitpajala.se/kalender/tre-dagar-for-varldens-barn/2024-10-02/
LOCATION:Kardis Bygdegård\, Kardis 159\, Pajala
ATTACH;FMTTYPE=image/jpeg:https://visitpajala.se/wp-content/uploads/2024/09/IMG_0110.jpeg
END:VEVENT
BEGIN:VEVENT
DTSTART;TZID=Europe/Stockholm:20240724T170000
DTEND;TZID=Europe/Stockholm:20240724T170000
DTSTAMP:20260421T224935
CREATED:20240723T082900Z
LAST-MODIFIED:20240723T082900Z
UID:10000735-1721840400-1721840400@visitpajala.se
SUMMARY:Musik i sommarkväll
DESCRIPTION:Fredrik Hangasjärvi och Heidi Haapasaari
URL:https://visitpajala.se/kalender/musik-i-sommarkvall/
LOCATION:Kardis Bygdegård\, Kardis 159\, Pajala
ATTACH;FMTTYPE=image/jpeg:https://visitpajala.se/wp-content/uploads/2024/07/IMG_7060-scaled.jpeg
END:VEVENT
END:VCALENDAR