BEGIN:VCALENDAR
VERSION:2.0
PRODID:-//Visit Pajala - ECPv6.14.2//NONSGML v1.0//EN
CALSCALE:GREGORIAN
METHOD:PUBLISH
X-ORIGINAL-URL:https://visitpajala.se
X-WR-CALDESC:Händelser för Visit Pajala
REFRESH-INTERVAL;VALUE=DURATION:PT1H
X-Robots-Tag:noindex
X-PUBLISHED-TTL:PT1H
BEGIN:VTIMEZONE
TZID:Europe/Stockholm
BEGIN:DAYLIGHT
TZOFFSETFROM:+0100
TZOFFSETTO:+0200
TZNAME:CEST
DTSTART:20230326T010000
END:DAYLIGHT
BEGIN:STANDARD
TZOFFSETFROM:+0200
TZOFFSETTO:+0100
TZNAME:CET
DTSTART:20231029T010000
END:STANDARD
BEGIN:DAYLIGHT
TZOFFSETFROM:+0100
TZOFFSETTO:+0200
TZNAME:CEST
DTSTART:20240331T010000
END:DAYLIGHT
BEGIN:STANDARD
TZOFFSETFROM:+0200
TZOFFSETTO:+0100
TZNAME:CET
DTSTART:20241027T010000
END:STANDARD
END:VTIMEZONE
BEGIN:VEVENT
DTSTART;TZID=Europe/Stockholm:20240810T170000
DTEND;TZID=Europe/Stockholm:20240810T200000
DTSTAMP:20260421T142059
CREATED:20240708T122222Z
LAST-MODIFIED:20240708T122222Z
UID:10000728-1723309200-1723320000@visitpajala.se
SUMMARY:Tapaskväll 10 augusti
DESCRIPTION:Tapaskväll på Arctic River Lodge 18.00-21.00\, baren är öppen till 00.00. Boka ditt bord innan 7 augusti.\nVarmt välkommen!
URL:https://visitpajala.se/kalender/tapaskvall-10-augusti/
LOCATION:Arctic River Lodge\, Niemenrova 43\, Tärendö\, 98493\, Sverige
ATTACH;FMTTYPE=image/jpeg:https://visitpajala.se/wp-content/uploads/2024/07/ARL_Tapaskvall_Augusti_2024_SoMe.jpg
END:VEVENT
BEGIN:VEVENT
DTSTART;TZID=Europe/Stockholm:20240727T170000
DTEND;TZID=Europe/Stockholm:20240727T200000
DTSTAMP:20260421T142059
CREATED:20240708T122231Z
LAST-MODIFIED:20240708T122231Z
UID:10000727-1722099600-1722110400@visitpajala.se
SUMMARY:Grillkväll
DESCRIPTION:Grillkväll på Arctic River Lodge 18.00-21.00\, baren är öppen till 00.00.\nBoka ditt bord innan 24 juli\, varmt välkomna!
URL:https://visitpajala.se/kalender/grillkvall/
LOCATION:Arctic River Lodge\, Niemenrova 43\, Tärendö\, 98493\, Sverige
ATTACH;FMTTYPE=image/jpeg:https://visitpajala.se/wp-content/uploads/2024/07/ARL_Grillkvall_Juli_2024_SoMe.jpg
END:VEVENT
BEGIN:VEVENT
DTSTART;TZID=Europe/Stockholm:20240719T170000
DTEND;TZID=Europe/Stockholm:20240720T000000
DTSTAMP:20260421T142059
CREATED:20240708T122239Z
LAST-MODIFIED:20240708T122239Z
UID:10000726-1721408400-1721433600@visitpajala.se
SUMMARY:Pizzakväll med livemusik
DESCRIPTION:Pizzakväll 18.00-21.00\, baren är öppen till 01.00. Boka bord innan 15 juli.\nLivemusik av Anders Karkea under kvällen\, varmt välkomna!
URL:https://visitpajala.se/kalender/pizzakvall-med-livemusik/
LOCATION:Arctic River Lodge\, Niemenrova 43\, Tärendö\, 98493\, Sverige
ATTACH;FMTTYPE=image/jpeg:https://visitpajala.se/wp-content/uploads/2024/07/ARL_Pizzakvall_Juli_2024_SoMe.jpg
END:VEVENT
BEGIN:VEVENT
DTSTART;TZID=Europe/Stockholm:20240629T170000
DTEND;TZID=Europe/Stockholm:20240629T200000
DTSTAMP:20260421T142059
CREATED:20240604T101636Z
LAST-MODIFIED:20240604T101636Z
UID:10000698-1719680400-1719691200@visitpajala.se
SUMMARY:Tapaskväll 29 juni
DESCRIPTION:Varma och kalla tapas rätter 18.00-21.00\, Woodland Lounge & Bar öppet till 24.00. Boka bord senast 26 juni
URL:https://visitpajala.se/kalender/tapaskvall-29-juni/
LOCATION:Arctic River Lodge\, Niemenrova 43\, Tärendö\, 98493\, Sverige
ATTACH;FMTTYPE=image/jpeg:https://visitpajala.se/wp-content/uploads/2024/06/ARL_Tapaskvall_Juni_2024_SoMe.jpg
END:VEVENT
BEGIN:VEVENT
DTSTART;TZID=Europe/Stockholm:20240622T110000
DTEND;TZID=Europe/Stockholm:20240622T130000
DTSTAMP:20260421T142059
CREATED:20240604T101707Z
LAST-MODIFIED:20240604T101707Z
UID:10000697-1719054000-1719061200@visitpajala.se
SUMMARY:Midsommarlunch 22 juni
DESCRIPTION:Midsommarbuffé med varma och kalla rätter. Boka bord innan 17 juni\, pris 249kr
URL:https://visitpajala.se/kalender/midsommarlunch-22-juni/
LOCATION:Arctic River Lodge\, Niemenrova 43\, Tärendö\, 98493\, Sverige
ATTACH;FMTTYPE=image/jpeg:https://visitpajala.se/wp-content/uploads/2024/06/ARL_Midsommarlunch_Juni_2024_SoMe.jpg
END:VEVENT
BEGIN:VEVENT
DTSTART;TZID=Europe/Stockholm:20240621T070000
DTEND;TZID=Europe/Stockholm:20240831T220000
DTSTAMP:20260421T142059
CREATED:20240615T230639Z
LAST-MODIFIED:20240615T230639Z
UID:10000707-1718953200-1725141600@visitpajala.se
SUMMARY:Sommar i Tärendö
DESCRIPTION:Arctic River Lodge är öppet dagligen 21 juni – 31 augusti\nBoende – Restaurang – Aktiviteter \nVarmt välkomna!
URL:https://visitpajala.se/kalender/sommar-i-tarendo/
LOCATION:Arctic River Lodge\, Niemenrova 43\, Tärendö\, 98493\, Sverige
ATTACH;FMTTYPE=image/jpeg:https://visitpajala.se/wp-content/uploads/2024/06/ARL_SommarInfo2024_SVE_Web.jpg
END:VEVENT
BEGIN:VEVENT
DTSTART;TZID=Europe/Stockholm:20240526T110000
DTEND;TZID=Europe/Stockholm:20240526T130000
DTSTAMP:20260421T142059
CREATED:20240514T083215Z
LAST-MODIFIED:20240514T083215Z
UID:10000674-1716721200-1716728400@visitpajala.se
SUMMARY:Morsdags brunch
DESCRIPTION:Fira mor på hennes dag!\nVälkomna att boka bord för brunch den 26 maj. Vi serverar varma och kalla rätter på buffé.\nBoka bord innan 22 maj.
URL:https://visitpajala.se/kalender/morsdags-brunch/
LOCATION:Arctic River Lodge\, Niemenrova 43\, Tärendö\, 98493\, Sverige
ATTACH;FMTTYPE=image/jpeg:https://visitpajala.se/wp-content/uploads/2024/05/ARL_VarInfo_2024_Web-1.jpg
END:VEVENT
BEGIN:VEVENT
DTSTART;TZID=Europe/Stockholm:20240518T170000
DTEND;TZID=Europe/Stockholm:20240518T200000
DTSTAMP:20260421T142059
CREATED:20240514T083146Z
LAST-MODIFIED:20240514T083146Z
UID:10000673-1716051600-1716062400@visitpajala.se
SUMMARY:Grillbuffé
DESCRIPTION:Arctic River Lodge i Tärendö välkomnar våren och har vår första grillkväll!\nBuffé 18.00-21.00 för 345 sek/person\, baren är öppen till 00.00. Boka bord innan 15 maj.\nVarmt välkomna!
URL:https://visitpajala.se/kalender/grillbuffe/
LOCATION:Arctic River Lodge\, Niemenrova 43\, Tärendö\, 98493\, Sverige
ATTACH;FMTTYPE=image/jpeg:https://visitpajala.se/wp-content/uploads/2024/05/ARL_VarInfo_2024_Web.jpg
END:VEVENT
BEGIN:VEVENT
DTSTART;TZID=Europe/Stockholm:20231028T170000
DTEND;TZID=Europe/Stockholm:20231028T193000
DTSTAMP:20260421T142059
CREATED:20231020T085313Z
LAST-MODIFIED:20231020T090313Z
UID:10000340-1698512400-1698521400@visitpajala.se
SUMMARY:Pizzakväll
DESCRIPTION:28/10 dukar Arctic River Lodge upp till pizzakväll! Boka plats innan 25/10. Pris 310sek per person.\nBaren är öppen till midnatt. Välkomna!
URL:https://visitpajala.se/kalender/pizzakvall/
LOCATION:Arctic River Lodge\, Niemenrova 43\, Tärendö\, 98493\, Sverige
ATTACH;FMTTYPE=image/png:https://visitpajala.se/wp-content/uploads/2023/10/undersokning-Instagram-inlagg-1.png
END:VEVENT
END:VCALENDAR