BEGIN:VCALENDAR
VERSION:2.0
PRODID:-//Visit Pajala - ECPv6.14.2//NONSGML v1.0//EN
CALSCALE:GREGORIAN
METHOD:PUBLISH
X-WR-CALNAME:Visit Pajala
X-ORIGINAL-URL:https://visitpajala.se
X-WR-CALDESC:Händelser för Visit Pajala
REFRESH-INTERVAL;VALUE=DURATION:PT1H
X-Robots-Tag:noindex
X-PUBLISHED-TTL:PT1H
BEGIN:VTIMEZONE
TZID:Europe/Stockholm
BEGIN:DAYLIGHT
TZOFFSETFROM:+0100
TZOFFSETTO:+0200
TZNAME:CEST
DTSTART:20250330T010000
END:DAYLIGHT
BEGIN:STANDARD
TZOFFSETFROM:+0200
TZOFFSETTO:+0100
TZNAME:CET
DTSTART:20251026T010000
END:STANDARD
BEGIN:DAYLIGHT
TZOFFSETFROM:+0100
TZOFFSETTO:+0200
TZNAME:CEST
DTSTART:20260329T010000
END:DAYLIGHT
BEGIN:STANDARD
TZOFFSETFROM:+0200
TZOFFSETTO:+0100
TZNAME:CET
DTSTART:20261025T010000
END:STANDARD
END:VTIMEZONE
BEGIN:VEVENT
DTSTART;TZID=Europe/Stockholm:20251127T190000
DTEND;TZID=Europe/Stockholm:20251127T203000
DTSTAMP:20260423T005320
CREATED:20250917T192420Z
LAST-MODIFIED:20250917T192420Z
UID:10002094-1764270000-1764275400@visitpajala.se
SUMMARY:Barndomshemmet
DESCRIPTION:Den 27/11 kommer Norrbottensteatern till oss med föreställningen ”Barndomshemmet” \n”Monica Törnells vis- och låtskatt har kantat min egen ungdom. Första kyssen. Svettig manchesterbyxa. Ullig pullover. Mensvärk. Nu skapar vi ett helt nytt drama efter samma visor. Här är perspektivet: hemvändande systrar till Luleå efter mammans begravning. Skuld. Skam. Döda flugor och Hälsingeskåp. Här minns de sin barndom. Men vad minns de? Rätt och fel finns inte – bara en svidande återförening som skapar sig själv framför våra ögon!” (Gunilla Röör\, regissör) \nHoppas vi ses!
URL:https://visitpajala.se/kalender/barndomshemmet-2/
LOCATION:Saittarova
CATEGORIES:Familjeunderhållning,Kultur
ATTACH;FMTTYPE=image/jpeg:https://visitpajala.se/wp-content/uploads/2025/09/Barndomshemmet-Saittarova.jpg
END:VEVENT
BEGIN:VEVENT
DTSTART;TZID=Europe/Stockholm:20251130T120000
DTEND;TZID=Europe/Stockholm:20251130T200000
DTSTAMP:20260423T005320
CREATED:20251006T134827Z
LAST-MODIFIED:20251112T143615Z
UID:10002112-1764504000-1764532800@visitpajala.se
SUMMARY:Skyltsöndag - Första advent
DESCRIPTION:Vi firar in julen i centrala Pajala med skyltsöndag.\nEn dag full av aktiviteter för stora och små.
URL:https://visitpajala.se/kalender/skyltsondag-2/
LOCATION:Centrala Pajala\, Sverige
CATEGORIES:Kaffe/fika/mat,skyltsöndag
ATTACH;FMTTYPE=image/png:https://visitpajala.se/wp-content/uploads/2025/10/Tomte-Julmarknad-Julklappsjakt-Bio-Byns-finaste-skyltfonster-allsang-Fordonsvisning-av-brandkaren-Hastar-med-mera-297-x-210-mm-4.png
ORGANIZER;CN="Pajala Turism & Evenemang - Visitpajala":MAILTO:visitpajala@pajala.se
END:VEVENT
BEGIN:VEVENT
DTSTART;TZID=Europe/Stockholm:20251130T130000
DTEND;TZID=Europe/Stockholm:20251130T144800
DTSTAMP:20260423T005320
CREATED:20251120T131935Z
LAST-MODIFIED:20251120T131935Z
UID:10002508-1764507600-1764514080@visitpajala.se
SUMMARY:Bion i Pajala Visar: Zootropolis 2
DESCRIPTION:SYNOPSIS\nDjuren är tillbaka i uppföljaren till Disneys ”Zootropolis”.
URL:https://visitpajala.se/kalender/bion-i-pajala-visar-zootropolis-2/
LOCATION:Folkets hus Pajala\, Fridhemsvägen 1A\, Pajala\, 98431\, Sverige
ATTACH;FMTTYPE=image/jpeg:https://visitpajala.se/wp-content/uploads/2025/11/Zootropolis-2.jpg
ORGANIZER;CN="Pajala Folkets Husf%C3%B6rening":MAILTO:folkets.hus.pajala@telia.com
END:VEVENT
BEGIN:VEVENT
DTSTART;TZID=Europe/Stockholm:20251201T180000
DTEND;TZID=Europe/Stockholm:20251201T192800
DTSTAMP:20260423T005320
CREATED:20251120T133146Z
LAST-MODIFIED:20251120T133146Z
UID:10002510-1764612000-1764617280@visitpajala.se
SUMMARY:Bion i Pajala Visar: Sisu - Road to Revenge
DESCRIPTION:SYNOPSIS\nNär ”mannen som vägrar dö” återvänder till huset där hans familj brutalt mördades under kriget\, monterar han ner och lastar det på en lastbil för att bygga upp det igen på en säker plats.\nMen när den hänsynslöse Röda armé-befälhavaren som dödade hans familj återvänder\, fast besluten att avsluta jobbet\, exploderar en hänsynslös jakt tvärs över landet.
URL:https://visitpajala.se/kalender/bion-i-pajala-visar-sisu-road-to-revenge/2025-12-01/
LOCATION:Folkets hus Pajala\, Fridhemsvägen 1A\, Pajala\, 98431\, Sverige
ATTACH;FMTTYPE=image/jpeg:https://visitpajala.se/wp-content/uploads/2025/11/Sisu-2.jpg
ORGANIZER;CN="Pajala Folkets Husf%C3%B6rening":MAILTO:folkets.hus.pajala@telia.com
END:VEVENT
BEGIN:VEVENT
DTSTART;TZID=Europe/Stockholm:20251202T180000
DTEND;TZID=Europe/Stockholm:20251202T192800
DTSTAMP:20260423T005320
CREATED:20251120T133146Z
LAST-MODIFIED:20251120T133146Z
UID:10002511-1764698400-1764703680@visitpajala.se
SUMMARY:Bion i Pajala Visar: Sisu - Road to Revenge
DESCRIPTION:SYNOPSIS\nNär ”mannen som vägrar dö” återvänder till huset där hans familj brutalt mördades under kriget\, monterar han ner och lastar det på en lastbil för att bygga upp det igen på en säker plats.\nMen när den hänsynslöse Röda armé-befälhavaren som dödade hans familj återvänder\, fast besluten att avsluta jobbet\, exploderar en hänsynslös jakt tvärs över landet.
URL:https://visitpajala.se/kalender/bion-i-pajala-visar-sisu-road-to-revenge/2025-12-02/
LOCATION:Folkets hus Pajala\, Fridhemsvägen 1A\, Pajala\, 98431\, Sverige
ATTACH;FMTTYPE=image/jpeg:https://visitpajala.se/wp-content/uploads/2025/11/Sisu-2.jpg
ORGANIZER;CN="Pajala Folkets Husf%C3%B6rening":MAILTO:folkets.hus.pajala@telia.com
END:VEVENT
BEGIN:VEVENT
DTSTART;TZID=Europe/Stockholm:20251203T180000
DTEND;TZID=Europe/Stockholm:20251203T192800
DTSTAMP:20260423T005320
CREATED:20251120T133146Z
LAST-MODIFIED:20251120T133146Z
UID:10002512-1764784800-1764790080@visitpajala.se
SUMMARY:Bion i Pajala Visar: Sisu - Road to Revenge
DESCRIPTION:SYNOPSIS\nNär ”mannen som vägrar dö” återvänder till huset där hans familj brutalt mördades under kriget\, monterar han ner och lastar det på en lastbil för att bygga upp det igen på en säker plats.\nMen när den hänsynslöse Röda armé-befälhavaren som dödade hans familj återvänder\, fast besluten att avsluta jobbet\, exploderar en hänsynslös jakt tvärs över landet.
URL:https://visitpajala.se/kalender/bion-i-pajala-visar-sisu-road-to-revenge/2025-12-03/
LOCATION:Folkets hus Pajala\, Fridhemsvägen 1A\, Pajala\, 98431\, Sverige
ATTACH;FMTTYPE=image/jpeg:https://visitpajala.se/wp-content/uploads/2025/11/Sisu-2.jpg
ORGANIZER;CN="Pajala Folkets Husf%C3%B6rening":MAILTO:folkets.hus.pajala@telia.com
END:VEVENT
BEGIN:VEVENT
DTSTART;TZID=Europe/Stockholm:20251206T110000
DTEND;TZID=Europe/Stockholm:20251206T140000
DTSTAMP:20260423T005320
CREATED:20251007T114113Z
LAST-MODIFIED:20251117T100853Z
UID:10002113-1765018800-1765029600@visitpajala.se
SUMMARY:Kangos Julmarknad
DESCRIPTION:Välkommen till den årliga julmarknaden i Kangos lördagen den 6 december kl.11-14.\nBoka gärna marknadsbord i god tid\, 200kr (extra bord +100kr) kontakta 070-6920718
URL:https://visitpajala.se/kalender/kangos-julmarknad-2/
LOCATION:Allhuset i Kangos\, Kangos\, 98063\, Sverige
CATEGORIES:Kaffe/fika/mat
ATTACH;FMTTYPE=image/jpeg:https://visitpajala.se/wp-content/uploads/2025/10/Green-and-Beige-Ilustrative-Christmas-Market-Poster_20251117_103507_0000.jpg
ORGANIZER;CN="Kangos Idrottsklubb":MAILTO:kangosik@kangos.com
END:VEVENT
BEGIN:VEVENT
DTSTART;TZID=Europe/Stockholm:20251208T180000
DTEND;TZID=Europe/Stockholm:20251208T200000
DTSTAMP:20260423T005320
CREATED:20251120T134956Z
LAST-MODIFIED:20251120T134956Z
UID:10002513-1765216800-1765224000@visitpajala.se
SUMMARY:Bion i Pajala Visar: Springsteen
DESCRIPTION:SYNOPSIS\nEn film om Bruce Springsteen och tillkomsten av albumet Nebraska 1982. Bygger på Warren Zanes bok.
URL:https://visitpajala.se/kalender/bion-i-pajala-visar-springsteen/2025-12-08/
LOCATION:Folkets hus Pajala\, Fridhemsvägen 1A\, Pajala\, 98431\, Sverige
ATTACH;FMTTYPE=image/jpeg:https://visitpajala.se/wp-content/uploads/2025/11/Sprinsteen.jpg
ORGANIZER;CN="Pajala Folkets Husf%C3%B6rening":MAILTO:folkets.hus.pajala@telia.com
END:VEVENT
BEGIN:VEVENT
DTSTART;TZID=Europe/Stockholm:20251209T180000
DTEND;TZID=Europe/Stockholm:20251209T200000
DTSTAMP:20260423T005320
CREATED:20251120T134956Z
LAST-MODIFIED:20251120T134956Z
UID:10002514-1765303200-1765310400@visitpajala.se
SUMMARY:Bion i Pajala Visar: Springsteen
DESCRIPTION:SYNOPSIS\nEn film om Bruce Springsteen och tillkomsten av albumet Nebraska 1982. Bygger på Warren Zanes bok.
URL:https://visitpajala.se/kalender/bion-i-pajala-visar-springsteen/2025-12-09/
LOCATION:Folkets hus Pajala\, Fridhemsvägen 1A\, Pajala\, 98431\, Sverige
ATTACH;FMTTYPE=image/jpeg:https://visitpajala.se/wp-content/uploads/2025/11/Sprinsteen.jpg
ORGANIZER;CN="Pajala Folkets Husf%C3%B6rening":MAILTO:folkets.hus.pajala@telia.com
END:VEVENT
BEGIN:VEVENT
DTSTART;TZID=Europe/Stockholm:20251211T180000
DTEND;TZID=Europe/Stockholm:20251211T190000
DTSTAMP:20260423T005320
CREATED:20251203T110908Z
LAST-MODIFIED:20251203T110908Z
UID:10002518-1765476000-1765479600@visitpajala.se
SUMMARY:Solskensvännernas julsång
DESCRIPTION:Välkommen att sjunga julsånger och fika med oss!
URL:https://visitpajala.se/kalender/solskensvannernas-julsang-2/
LOCATION:Pajala Kyrka\, Kyrkallén\, Pajala\, 98431\, Sverige
CATEGORIES:Musik
ATTACH;FMTTYPE=image/jpeg:https://visitpajala.se/wp-content/uploads/2025/12/SolskenJul25.jpg
ORGANIZER;CN="Svenska kyrkan":MAILTO:ritvaelsa.seppala@svenskakyrkan.se
END:VEVENT
BEGIN:VEVENT
DTSTART;TZID=Europe/Stockholm:20251212T143000
DTEND;TZID=Europe/Stockholm:20251212T153000
DTSTAMP:20260423T005320
CREATED:20251203T110807Z
LAST-MODIFIED:20251203T110807Z
UID:10002517-1765549800-1765553400@visitpajala.se
SUMMARY:Lucia på bibblo
DESCRIPTION:Kulturskolans luciatåg lussar på biblioteket i Pajala.\nDen 12/12- 26 kl 14.30. \nVälkomna!
URL:https://visitpajala.se/kalender/lucia-pa-bibblo/
LOCATION:Pajala bibliotek\, Biblioteksvägen 1\, Pajala\, 98432\, Sverige
CATEGORIES:Kultur
ATTACH;FMTTYPE=image/png:https://visitpajala.se/wp-content/uploads/2025/12/Lucia-Pa-bibblo.png
ORGANIZER;CN="Pajala Kulturskola":MAILTO:kulturskola@pajala.se
END:VEVENT
BEGIN:VEVENT
DTSTART;TZID=Europe/Stockholm:20251213T150000
DTEND;TZID=Europe/Stockholm:20251213T160000
DTSTAMP:20260423T005320
CREATED:20251203T112140Z
LAST-MODIFIED:20251203T112140Z
UID:10002519-1765638000-1765641600@visitpajala.se
SUMMARY:Lucia med fordon
DESCRIPTION:I år kommer ni att få uppleva ett tyngre och ett lättare luciatåg.\nDet tyngre luciatåget arrangeras av Visit Pajala och består likt tidigare år av fordon som bil/epa\, traktor\, lastbil eller liknande. Det tyngre luciatåget startar på Malmens Busstation. \nNytt för i år!\nDet lättare luciatåget (Vid Soltorget) består av spark\, permobil\, rullstol eller liknande. och arrangeras av Studieförbundet Vuxenskolan och FUB. \nVisit Pajala bjuder på Glögg\, varm saft och pepparkaka utanför Infocenter\, Torggatan 1. \nVälkommen \n 
URL:https://visitpajala.se/kalender/lucia-med-fordon/
LOCATION:Centrala Pajala\, Sverige
CATEGORIES:Familjeunderhållning
ATTACH;FMTTYPE=image/png:https://visitpajala.se/wp-content/uploads/2025/12/Lucia-med-fordon216-x-303-mm.png
ORGANIZER;CN="Pajala Turism & Evenemang - Visitpajala":MAILTO:visitpajala@pajala.se
END:VEVENT
BEGIN:VEVENT
DTSTART;TZID=Europe/Stockholm:20251217T180000
DTEND;TZID=Europe/Stockholm:20251217T211700
DTSTAMP:20260423T005320
CREATED:20251208T091600Z
LAST-MODIFIED:20251208T091600Z
UID:10002520-1765994400-1766006220@visitpajala.se
SUMMARY:Bion i Pajala Visar: Avatar - Fire and Ash
DESCRIPTION:SYNOPSIS\nDen andra uppföljaren till James Camerons tredimensionella dundersuccé ”Avatar”\, en av tidernas mest framgångsrika biofilmer någonsin.
URL:https://visitpajala.se/kalender/bion-i-pajala-visar-avatar-fire-and-ash/2025-12-17/
LOCATION:Folkets hus Pajala\, Fridhemsvägen 1A\, Pajala\, 98431\, Sverige
ATTACH;FMTTYPE=image/jpeg:https://visitpajala.se/wp-content/uploads/2025/12/Avatar.jpg
ORGANIZER;CN="Pajala Folkets Husf%C3%B6rening":MAILTO:folkets.hus.pajala@telia.com
END:VEVENT
BEGIN:VEVENT
DTSTART;TZID=Europe/Stockholm:20251217T190000
DTEND;TZID=Europe/Stockholm:20251217T200000
DTSTAMP:20260423T005320
CREATED:20251211T084507Z
LAST-MODIFIED:20251211T084507Z
UID:10002528-1765998000-1766001600@visitpajala.se
SUMMARY:Julkonsert
DESCRIPTION:Pajala kyrkokör/Minda Esberg/Lydia Thiger/Magnus Aasa
URL:https://visitpajala.se/kalender/julkonsert-3/
LOCATION:Pajala Kyrka\, Kyrkallén\, Pajala\, 98431\, Sverige
CATEGORIES:Musik
ATTACH;FMTTYPE=image/jpeg:https://visitpajala.se/wp-content/uploads/2025/12/Julkons2025.jpg
END:VEVENT
BEGIN:VEVENT
DTSTART;TZID=Europe/Stockholm:20251218T180000
DTEND;TZID=Europe/Stockholm:20251218T211700
DTSTAMP:20260423T005320
CREATED:20251208T091600Z
LAST-MODIFIED:20251208T091600Z
UID:10002521-1766080800-1766092620@visitpajala.se
SUMMARY:Bion i Pajala Visar: Avatar - Fire and Ash
DESCRIPTION:SYNOPSIS\nDen andra uppföljaren till James Camerons tredimensionella dundersuccé ”Avatar”\, en av tidernas mest framgångsrika biofilmer någonsin.
URL:https://visitpajala.se/kalender/bion-i-pajala-visar-avatar-fire-and-ash/2025-12-18/
LOCATION:Folkets hus Pajala\, Fridhemsvägen 1A\, Pajala\, 98431\, Sverige
ATTACH;FMTTYPE=image/jpeg:https://visitpajala.se/wp-content/uploads/2025/12/Avatar.jpg
ORGANIZER;CN="Pajala Folkets Husf%C3%B6rening":MAILTO:folkets.hus.pajala@telia.com
END:VEVENT
BEGIN:VEVENT
DTSTART;TZID=Europe/Stockholm:20251220T120000
DTEND;TZID=Europe/Stockholm:20251220T160000
DTSTAMP:20260423T005320
CREATED:20251124T140421Z
LAST-MODIFIED:20251124T140421Z
UID:10002515-1766232000-1766246400@visitpajala.se
SUMMARY:Julcafé
DESCRIPTION:Välkommen på Julcafé i ’Vanha Pappilas’ – Junosuando.\nVi säljer julfika\, mackor\, sista minuten klappar\, lokala hantverk\, ljus\, presentkort m.m.\nÄven gluten- och laktosfritt fikaalternativ finns.
URL:https://visitpajala.se/kalender/julcafe/
LOCATION:Lapland Nature & Health\, Folketshusvägen 37\, Junosuando\, Sverige
CATEGORIES:Kaffe/fika/mat
ATTACH;FMTTYPE=image/png:https://visitpajala.se/wp-content/uploads/2025/11/LNH-julcafe-vanlig-pdf-1.png
ORGANIZER;CN="Lapland Nature &amp%3B Health":MAILTO:info@laplandnatureandhealth.com
END:VEVENT
BEGIN:VEVENT
DTSTART;TZID=Europe/Stockholm:20251228T150000
DTEND;TZID=Europe/Stockholm:20251228T164000
DTSTAMP:20260423T005320
CREATED:20251208T091630Z
LAST-MODIFIED:20251208T091630Z
UID:10002522-1766934000-1766940000@visitpajala.se
SUMMARY:Bion i Pajala Visar: Handbok för Superhjältar
DESCRIPTION:SYNOPSIS\nLisa är nyinflyttad i staden Rosenhill och har svårt att finna sin plats. Men en dag hittar hon en handbok som lär ut superkrafter. Hon blir superhjälten Röda Masken och hindrar en stöld av ett sällsynt mynt. Men när stadens gangsterkung Wolfgang kidnappar borgmästaren för att komma åt myntet ställs allt på sin spets. Kan hon samarbeta med sina mobbare och besegra Wolfgang innan han stjäl en 700 år gammal skatt avsedd att rädda staden från undergång?
URL:https://visitpajala.se/kalender/bion-i-pajala-visar-handbok-for-superhjaltar/
LOCATION:Folkets hus Pajala\, Fridhemsvägen 1A\, Pajala\, 98431\, Sverige
ATTACH;FMTTYPE=image/jpeg:https://visitpajala.se/wp-content/uploads/2025/12/Handbok-for-Superhjaltar.jpg
ORGANIZER;CN="Pajala Folkets Husf%C3%B6rening":MAILTO:folkets.hus.pajala@telia.com
END:VEVENT
BEGIN:VEVENT
DTSTART;TZID=Europe/Stockholm:20251229T150000
DTEND;TZID=Europe/Stockholm:20251229T163400
DTSTAMP:20260423T005320
CREATED:20251211T084420Z
LAST-MODIFIED:20251211T084420Z
UID:10002524-1767020400-1767026040@visitpajala.se
SUMMARY:Bion i Pajala Visar: Håkan Bråkan 003
DESCRIPTION:SYNOPSIS\nI den nya filmen får vi följa Håkans actionspäckade äventyr i en apokalyptisk zombievärld och med ett spännande agenttema.
URL:https://visitpajala.se/kalender/bion-i-pajala-visar-hakan-brakan-003/2025-12-29/
LOCATION:Folkets hus Pajala\, Fridhemsvägen 1A\, Pajala\, 98431\, Sverige
ATTACH;FMTTYPE=image/jpeg:https://visitpajala.se/wp-content/uploads/2025/12/Hakan-brakan-003.jpg
ORGANIZER;CN="Pajala Folkets Husf%C3%B6rening":MAILTO:folkets.hus.pajala@telia.com
END:VEVENT
BEGIN:VEVENT
DTSTART;TZID=Europe/Stockholm:20251229T180000
DTEND;TZID=Europe/Stockholm:20251229T194900
DTSTAMP:20260423T005320
CREATED:20251211T084442Z
LAST-MODIFIED:20251211T084442Z
UID:10002526-1767031200-1767037740@visitpajala.se
SUMMARY:Bion i Pajala Visar: Regnmannen
DESCRIPTION:SYNOPSIS\n”Regnmannen” är ett feelgood-drama fullt av värme\, skratt och tårar baserad på Jonas Karlssons bok med samma namn.
URL:https://visitpajala.se/kalender/bion-i-pajala-visar-regnmannen/2025-12-29/
LOCATION:Folkets hus Pajala\, Fridhemsvägen 1A\, Pajala\, 98431\, Sverige
ATTACH;FMTTYPE=image/jpeg:https://visitpajala.se/wp-content/uploads/2025/12/Regnmannen.jpg
ORGANIZER;CN="Pajala Folkets Husf%C3%B6rening":MAILTO:folkets.hus.pajala@telia.com
END:VEVENT
BEGIN:VEVENT
DTSTART;TZID=Europe/Stockholm:20251230T150000
DTEND;TZID=Europe/Stockholm:20251230T163400
DTSTAMP:20260423T005320
CREATED:20251211T084420Z
LAST-MODIFIED:20251211T084420Z
UID:10002525-1767106800-1767112440@visitpajala.se
SUMMARY:Bion i Pajala Visar: Håkan Bråkan 003
DESCRIPTION:SYNOPSIS\nI den nya filmen får vi följa Håkans actionspäckade äventyr i en apokalyptisk zombievärld och med ett spännande agenttema.
URL:https://visitpajala.se/kalender/bion-i-pajala-visar-hakan-brakan-003/2025-12-30/
LOCATION:Folkets hus Pajala\, Fridhemsvägen 1A\, Pajala\, 98431\, Sverige
ATTACH;FMTTYPE=image/jpeg:https://visitpajala.se/wp-content/uploads/2025/12/Hakan-brakan-003.jpg
ORGANIZER;CN="Pajala Folkets Husf%C3%B6rening":MAILTO:folkets.hus.pajala@telia.com
END:VEVENT
BEGIN:VEVENT
DTSTART;TZID=Europe/Stockholm:20251230T180000
DTEND;TZID=Europe/Stockholm:20251230T194900
DTSTAMP:20260423T005320
CREATED:20251211T084442Z
LAST-MODIFIED:20251211T084442Z
UID:10002527-1767117600-1767124140@visitpajala.se
SUMMARY:Bion i Pajala Visar: Regnmannen
DESCRIPTION:SYNOPSIS\n”Regnmannen” är ett feelgood-drama fullt av värme\, skratt och tårar baserad på Jonas Karlssons bok med samma namn.
URL:https://visitpajala.se/kalender/bion-i-pajala-visar-regnmannen/2025-12-30/
LOCATION:Folkets hus Pajala\, Fridhemsvägen 1A\, Pajala\, 98431\, Sverige
ATTACH;FMTTYPE=image/jpeg:https://visitpajala.se/wp-content/uploads/2025/12/Regnmannen.jpg
ORGANIZER;CN="Pajala Folkets Husf%C3%B6rening":MAILTO:folkets.hus.pajala@telia.com
END:VEVENT
BEGIN:VEVENT
DTSTART;VALUE=DATE:20260102
DTEND;VALUE=DATE:20260105
DTSTAMP:20260423T005320
CREATED:20251208T091651Z
LAST-MODIFIED:20251208T091651Z
UID:10002523-1767312000-1767571199@visitpajala.se
SUMMARY:Workshop med Pajala rytmiska
DESCRIPTION:En 3 dagars workshop för åk1-åk6. Där får man testa olika stilar och lära sig koreografier.
URL:https://visitpajala.se/kalender/workshop-med-pajala-rytmiska/
LOCATION:Pajala Gamla Sporthallen\, Sverige
CATEGORIES:Kultur
ATTACH;FMTTYPE=image/png:https://visitpajala.se/wp-content/uploads/2025/12/IMG_8984-1.png
ORGANIZER;CN="Pajala Rytmiska":MAILTO:pajalarytmiska@gmail.com
END:VEVENT
BEGIN:VEVENT
DTSTART;TZID=Europe/Stockholm:20260112T180000
DTEND;TZID=Europe/Stockholm:20260112T192700
DTSTAMP:20260423T005320
CREATED:20260112T092450Z
LAST-MODIFIED:20260112T092450Z
UID:10002533-1768240800-1768246020@visitpajala.se
SUMMARY:Bion i Pajala Visar: 100 Liter Guld
DESCRIPTION:100 liter guld är den roligaste (och enda) finska västernfilmen du sett om systerskap och alkoholism. Pirkko och Taina är två systrar som följer släktens tradition som sahti*-tillverkare. Då deras tredje syster Päivi en dag dyker upp med sin nya fästman\, så vill hon att de gör 100 liter sahti till hennes stundande bröllop. Systrarna sätter genast i gång med förberedelserna eftersom den perfekta sahtin tar flera veckor att framställa. Både deras rykte och familjerelationer står nu på spel\, de måste få till en fantastisk sats sahti. Och det lyckas de med\, så pass bra att den obligatoriska smakprovningen spårar ur totalt. Två dagar innan bröllopet vaknar systrarna till den grymma verkligheten: sahtin är slut. Här börjar en kamp mot klockan där alla medel är tillåtna. En humoristisk\, mörk berättelse om att fastna i dåtid\, om självförakt och om förlåtelse. *Sahti är en ölsort som bryggs på ett litet område i Finland. Den lilla staden Sysmä ses ofta som dryckens hemort. På grund av hur sahtin tillverkas har den mycket kort hållbarhet och måste därför inmundigas snabbt efter färdigställning.
URL:https://visitpajala.se/kalender/bion-i-pajala-visar-100-liter-guld/2026-01-12/
LOCATION:Folkets hus Pajala\, Fridhemsvägen 1A\, Pajala\, 98431\, Sverige
ATTACH;FMTTYPE=image/jpeg:https://visitpajala.se/wp-content/uploads/2026/01/100-liter-guld.jpg
ORGANIZER;CN="Pajala Folkets Husf%C3%B6rening":MAILTO:folkets.hus.pajala@telia.com
END:VEVENT
BEGIN:VEVENT
DTSTART;TZID=Europe/Stockholm:20260113T180000
DTEND;TZID=Europe/Stockholm:20260113T192700
DTSTAMP:20260423T005320
CREATED:20260112T092450Z
LAST-MODIFIED:20260112T092450Z
UID:10002534-1768327200-1768332420@visitpajala.se
SUMMARY:Bion i Pajala Visar: 100 Liter Guld
DESCRIPTION:100 liter guld är den roligaste (och enda) finska västernfilmen du sett om systerskap och alkoholism. Pirkko och Taina är två systrar som följer släktens tradition som sahti*-tillverkare. Då deras tredje syster Päivi en dag dyker upp med sin nya fästman\, så vill hon att de gör 100 liter sahti till hennes stundande bröllop. Systrarna sätter genast i gång med förberedelserna eftersom den perfekta sahtin tar flera veckor att framställa. Både deras rykte och familjerelationer står nu på spel\, de måste få till en fantastisk sats sahti. Och det lyckas de med\, så pass bra att den obligatoriska smakprovningen spårar ur totalt. Två dagar innan bröllopet vaknar systrarna till den grymma verkligheten: sahtin är slut. Här börjar en kamp mot klockan där alla medel är tillåtna. En humoristisk\, mörk berättelse om att fastna i dåtid\, om självförakt och om förlåtelse. *Sahti är en ölsort som bryggs på ett litet område i Finland. Den lilla staden Sysmä ses ofta som dryckens hemort. På grund av hur sahtin tillverkas har den mycket kort hållbarhet och måste därför inmundigas snabbt efter färdigställning.
URL:https://visitpajala.se/kalender/bion-i-pajala-visar-100-liter-guld/2026-01-13/
LOCATION:Folkets hus Pajala\, Fridhemsvägen 1A\, Pajala\, 98431\, Sverige
ATTACH;FMTTYPE=image/jpeg:https://visitpajala.se/wp-content/uploads/2026/01/100-liter-guld.jpg
ORGANIZER;CN="Pajala Folkets Husf%C3%B6rening":MAILTO:folkets.hus.pajala@telia.com
END:VEVENT
BEGIN:VEVENT
DTSTART;TZID=Europe/Stockholm:20260114T130000
DTEND;TZID=Europe/Stockholm:20260114T142700
DTSTAMP:20260423T005320
CREATED:20260112T092450Z
LAST-MODIFIED:20260112T092450Z
UID:10002535-1768395600-1768400820@visitpajala.se
SUMMARY:Bion i Pajala Visar: 100 Liter Guld
DESCRIPTION:100 liter guld är den roligaste (och enda) finska västernfilmen du sett om systerskap och alkoholism. Pirkko och Taina är två systrar som följer släktens tradition som sahti*-tillverkare. Då deras tredje syster Päivi en dag dyker upp med sin nya fästman\, så vill hon att de gör 100 liter sahti till hennes stundande bröllop. Systrarna sätter genast i gång med förberedelserna eftersom den perfekta sahtin tar flera veckor att framställa. Både deras rykte och familjerelationer står nu på spel\, de måste få till en fantastisk sats sahti. Och det lyckas de med\, så pass bra att den obligatoriska smakprovningen spårar ur totalt. Två dagar innan bröllopet vaknar systrarna till den grymma verkligheten: sahtin är slut. Här börjar en kamp mot klockan där alla medel är tillåtna. En humoristisk\, mörk berättelse om att fastna i dåtid\, om självförakt och om förlåtelse. *Sahti är en ölsort som bryggs på ett litet område i Finland. Den lilla staden Sysmä ses ofta som dryckens hemort. På grund av hur sahtin tillverkas har den mycket kort hållbarhet och måste därför inmundigas snabbt efter färdigställning.
URL:https://visitpajala.se/kalender/bion-i-pajala-visar-100-liter-guld/2026-01-14/
LOCATION:Folkets hus Pajala\, Fridhemsvägen 1A\, Pajala\, 98431\, Sverige
ATTACH;FMTTYPE=image/jpeg:https://visitpajala.se/wp-content/uploads/2026/01/100-liter-guld.jpg
ORGANIZER;CN="Pajala Folkets Husf%C3%B6rening":MAILTO:folkets.hus.pajala@telia.com
END:VEVENT
BEGIN:VEVENT
DTSTART;TZID=Europe/Stockholm:20260119T180000
DTEND;TZID=Europe/Stockholm:20260119T202800
DTSTAMP:20260423T005320
CREATED:20260112T092514Z
LAST-MODIFIED:20260112T092514Z
UID:10002530-1768845600-1768854480@visitpajala.se
SUMMARY:Bion i Pajala Visar: Nurenberg
DESCRIPTION:SYNOPSIS\nEfter Nazitysklands fall i andra världskriget\, hålls de beryktade krigsrättegångarna i Nürnberg. En amerikansk psykiater har i uppdrag att bedöma om tillfångatagna nazister är lämpliga att åtalas för sina krigsbrott\, och möter på en oväntad utmaning i Hitlers närmaste man\, Hermann Göring.
URL:https://visitpajala.se/kalender/bion-i-pajala-visar-nurenberg/2026-01-19/
LOCATION:Folkets hus Pajala\, Fridhemsvägen 1A\, Pajala\, 98431\, Sverige
ATTACH;FMTTYPE=image/jpeg:https://visitpajala.se/wp-content/uploads/2026/01/Nuremberg.jpg
ORGANIZER;CN="Pajala Folkets Husf%C3%B6rening":MAILTO:folkets.hus.pajala@telia.com
END:VEVENT
BEGIN:VEVENT
DTSTART;TZID=Europe/Stockholm:20260120T110000
DTEND;TZID=Europe/Stockholm:20260212T150000
DTSTAMP:20260423T005320
CREATED:20260115T110044Z
LAST-MODIFIED:20260115T110044Z
UID:10002537-1768906800-1770908400@visitpajala.se
SUMMARY:Den som sover
DESCRIPTION:Utställningen Den som sover visas på Pajala bibliotek mellan 20 januari och 23 februari och är ett samarbete mellan Statens konstråd\, Kin Museum för samtidskonst i Kiruna och Nattfestivalen i Korpilombolo. Projektet tar avstamp i berättelsen om Nils Holgersson men lyfter samtidigt Tornedalen\, mörker\, språk och drömmar genom fyra samtida konstnärskap. \nPubliken möter videoverk av Karin Keisu och Josse Thuresson\, som vänder på perspektiven i Nils Holgersson-berättelsen och ger röst åt de annars osynliga trollen\, broderier av Anila Rubiku skapade tillsammans med Korpilombolobor\, Lena Ylipääs utforskning av meänkieli\, samt Agneta Anderssons presentation av Terese Torgrims ärvda vantsamling. \nDesigna din egen vante – stickningsworkshop med Tornedalsfrun (Kajsa Vuorela):\n20 januari kl. 17.30–19.30 \nVälkommen!
URL:https://visitpajala.se/kalender/den-som-sover/
LOCATION:Pajala bibliotek\, Biblioteksvägen 1\, Pajala\, 98432\, Sverige
CATEGORIES:Konst,Kultur
ATTACH;FMTTYPE=image/png:https://visitpajala.se/wp-content/uploads/2026/01/Drommar-morker-och-Tornedalen-star-i-fokus-nar-Statens-konstrad-och-Kin-Museum-for-samtidskonst-presenterar-Den-som-sover-pa-Pajala-bibliotek-mellan-20-januari-och-23-februari-2026.-Utstallningen-2.png
ORGANIZER;CN="Pajala bibliotek":MAILTO:bibliotek@pajala.se
END:VEVENT
BEGIN:VEVENT
DTSTART;TZID=Europe/Stockholm:20260120T173000
DTEND;TZID=Europe/Stockholm:20260120T193000
DTSTAMP:20260423T005320
CREATED:20260115T110223Z
LAST-MODIFIED:20260115T110223Z
UID:10002539-1768930200-1768937400@visitpajala.se
SUMMARY:Stickworkshop med @tornedalsfrun Kajsa Vuorela
DESCRIPTION:Kom på stickworkshop! \n@tornedalsfrun Kajsa Vuorela är på plats för att hjälpa dig designa ditt eget mönster att sticka vantar av. \nVälkommen!
URL:https://visitpajala.se/kalender/stickworkshop-med-tornedalsfrun-kajsa-vuorela/
LOCATION:Pajala bibliotek\, Biblioteksvägen 1\, Pajala\, 98432\, Sverige
CATEGORIES:Kultur
ATTACH;FMTTYPE=image/png:https://visitpajala.se/wp-content/uploads/2026/01/Gor-ditt-eget-stickmonster.png
ORGANIZER;CN="Pajala bibliotek":MAILTO:bibliotek@pajala.se
END:VEVENT
BEGIN:VEVENT
DTSTART;TZID=Europe/Stockholm:20260120T180000
DTEND;TZID=Europe/Stockholm:20260120T202800
DTSTAMP:20260423T005320
CREATED:20260112T092514Z
LAST-MODIFIED:20260112T092514Z
UID:10002531-1768932000-1768940880@visitpajala.se
SUMMARY:Bion i Pajala Visar: Nurenberg
DESCRIPTION:SYNOPSIS\nEfter Nazitysklands fall i andra världskriget\, hålls de beryktade krigsrättegångarna i Nürnberg. En amerikansk psykiater har i uppdrag att bedöma om tillfångatagna nazister är lämpliga att åtalas för sina krigsbrott\, och möter på en oväntad utmaning i Hitlers närmaste man\, Hermann Göring.
URL:https://visitpajala.se/kalender/bion-i-pajala-visar-nurenberg/2026-01-20/
LOCATION:Folkets hus Pajala\, Fridhemsvägen 1A\, Pajala\, 98431\, Sverige
ATTACH;FMTTYPE=image/jpeg:https://visitpajala.se/wp-content/uploads/2026/01/Nuremberg.jpg
ORGANIZER;CN="Pajala Folkets Husf%C3%B6rening":MAILTO:folkets.hus.pajala@telia.com
END:VEVENT
BEGIN:VEVENT
DTSTART;TZID=Europe/Stockholm:20260121T180000
DTEND;TZID=Europe/Stockholm:20260121T202800
DTSTAMP:20260423T005320
CREATED:20260112T092514Z
LAST-MODIFIED:20260112T092514Z
UID:10002532-1769018400-1769027280@visitpajala.se
SUMMARY:Bion i Pajala Visar: Nurenberg
DESCRIPTION:SYNOPSIS\nEfter Nazitysklands fall i andra världskriget\, hålls de beryktade krigsrättegångarna i Nürnberg. En amerikansk psykiater har i uppdrag att bedöma om tillfångatagna nazister är lämpliga att åtalas för sina krigsbrott\, och möter på en oväntad utmaning i Hitlers närmaste man\, Hermann Göring.
URL:https://visitpajala.se/kalender/bion-i-pajala-visar-nurenberg/2026-01-21/
LOCATION:Folkets hus Pajala\, Fridhemsvägen 1A\, Pajala\, 98431\, Sverige
ATTACH;FMTTYPE=image/jpeg:https://visitpajala.se/wp-content/uploads/2026/01/Nuremberg.jpg
ORGANIZER;CN="Pajala Folkets Husf%C3%B6rening":MAILTO:folkets.hus.pajala@telia.com
END:VEVENT
END:VCALENDAR