BEGIN:VCALENDAR
VERSION:2.0
PRODID:-//Visit Pajala - ECPv6.14.2//NONSGML v1.0//EN
CALSCALE:GREGORIAN
METHOD:PUBLISH
X-WR-CALNAME:Visit Pajala
X-ORIGINAL-URL:https://visitpajala.se
X-WR-CALDESC:Händelser för Visit Pajala
REFRESH-INTERVAL;VALUE=DURATION:PT1H
X-Robots-Tag:noindex
X-PUBLISHED-TTL:PT1H
BEGIN:VTIMEZONE
TZID:Europe/Stockholm
BEGIN:DAYLIGHT
TZOFFSETFROM:+0100
TZOFFSETTO:+0200
TZNAME:CEST
DTSTART:20230326T010000
END:DAYLIGHT
BEGIN:STANDARD
TZOFFSETFROM:+0200
TZOFFSETTO:+0100
TZNAME:CET
DTSTART:20231029T010000
END:STANDARD
END:VTIMEZONE
BEGIN:VEVENT
DTSTART;TZID=Europe/Stockholm:20230925T070000
DTEND;TZID=Europe/Stockholm:20231001T225900
DTSTAMP:20260423T171934
CREATED:20230920T131403Z
LAST-MODIFIED:20230920T131403Z
UID:10000247-1695625200-1696201140@visitpajala.se
SUMMARY:Höstjakten
DESCRIPTION:Välkommen att delta i Höstjakten. \nFör att ha en chans att vinna så behöver du samla symboler och få 4 i rad på din talong. Tävlingstalonger\, regler samt mer information om tävlingen hittar du utanför Infocenter i Pajala. \nDu som deltar kan vinna fina priser och presentkort sponsrade av lokala butiker. Vinnarna kontaktas på måndag 2 oktober. \nLycka till
URL:https://visitpajala.se/kalender/hostjakten/
LOCATION:Infocenter\, Torggatan 1\, Pajala\, 98431\, Sverige
CATEGORIES:Familjeunderhållning,Römppäviikko
ATTACH;FMTTYPE=image/png:https://visitpajala.se/wp-content/uploads/2023/09/Till-Instagram-7.png
ORGANIZER;CN="Pajala Turism & Evenemang - Visitpajala":MAILTO:visitpajala@pajala.se
END:VEVENT
BEGIN:VEVENT
DTSTART;TZID=Europe/Stockholm:20230925T170000
DTEND;TZID=Europe/Stockholm:20230925T190000
DTSTAMP:20260423T171934
CREATED:20230907T094208Z
LAST-MODIFIED:20230907T094208Z
UID:10000136-1695661200-1695668400@visitpajala.se
SUMMARY:Invigning av Römppäviikko
DESCRIPTION:Nu är det dags igen! \nRÖMPPÄVIIKKO vecka 39. \n𝟮𝟱 𝘀𝗲𝗽𝘁𝗲𝗺𝗯𝗲𝗿 INVIGNING av Römppäviikko 2023\, Folkets Hus Pajala. \n\nFilmvisning av kortfilmen Mummun leipä\nKulturskolan underhåller\nRegnbågsfamiljen\nFikaförsäljning\nUtställning\n\nKl: 18.00\, gratis inträde. \nDetta Evenemang arrangeras av Visit Pajala i samarbete med Folkets Hus\, Studieförbundet Vuxenskolan\, Kulturskolan samt Pajala kommun.  \n 
URL:https://visitpajala.se/kalender/invigning-av-romppaviikko/
LOCATION:Folkets hus Pajala\, Fridhemsvägen 1A\, Pajala\, 98431\, Sverige
CATEGORIES:Familjeunderhållning,Konst,Kultur,Musik,Römppäviikko
ATTACH;FMTTYPE=image/png:https://visitpajala.se/wp-content/uploads/2023/09/PAJALA-GALAN-1-1.png
ORGANIZER;CN="Pajala Turism & Evenemang - Visitpajala":MAILTO:visitpajala@pajala.se
END:VEVENT
END:VCALENDAR