BEGIN:VCALENDAR
VERSION:2.0
PRODID:-//Visit Pajala - ECPv6.14.2//NONSGML v1.0//EN
CALSCALE:GREGORIAN
METHOD:PUBLISH
X-WR-CALNAME:Visit Pajala
X-ORIGINAL-URL:https://visitpajala.se
X-WR-CALDESC:Händelser för Visit Pajala
REFRESH-INTERVAL;VALUE=DURATION:PT1H
X-Robots-Tag:noindex
X-PUBLISHED-TTL:PT1H
BEGIN:VTIMEZONE
TZID:Europe/Stockholm
BEGIN:DAYLIGHT
TZOFFSETFROM:+0100
TZOFFSETTO:+0200
TZNAME:CEST
DTSTART:20260329T010000
END:DAYLIGHT
BEGIN:STANDARD
TZOFFSETFROM:+0200
TZOFFSETTO:+0100
TZNAME:CET
DTSTART:20261025T010000
END:STANDARD
END:VTIMEZONE
BEGIN:VEVENT
DTSTART;TZID=Europe/Stockholm:20260318T190000
DTEND;TZID=Europe/Stockholm:20260318T200000
DTSTAMP:20260423T224812
CREATED:20260309T092518Z
LAST-MODIFIED:20260309T092518Z
UID:10002572-1773860400-1773864000@visitpajala.se
SUMMARY:Hjärtats längtan
DESCRIPTION:Välkommen på musikgudstjänst med kyrkokören.\nText & musik av Camilla Voigt och Ann-Charlotte Lundgren
URL:https://visitpajala.se/kalender/hjartats-langtan/
LOCATION:Pajala Kyrka\, Kyrkallén\, Pajala\, 98431\, Sverige
CATEGORIES:Musik
ATTACH;FMTTYPE=image/jpeg:https://visitpajala.se/wp-content/uploads/2026/03/Screenshot_20260305_162420_OneDrive.jpg
END:VEVENT
END:VCALENDAR