BEGIN:VCALENDAR
VERSION:2.0
PRODID:-//Visit Pajala - ECPv6.14.2//NONSGML v1.0//EN
CALSCALE:GREGORIAN
METHOD:PUBLISH
X-WR-CALNAME:Visit Pajala
X-ORIGINAL-URL:https://visitpajala.se
X-WR-CALDESC:Händelser för Visit Pajala
REFRESH-INTERVAL;VALUE=DURATION:PT1H
X-Robots-Tag:noindex
X-PUBLISHED-TTL:PT1H
BEGIN:VTIMEZONE
TZID:Europe/Stockholm
BEGIN:DAYLIGHT
TZOFFSETFROM:+0100
TZOFFSETTO:+0200
TZNAME:CEST
DTSTART:20250330T010000
END:DAYLIGHT
BEGIN:STANDARD
TZOFFSETFROM:+0200
TZOFFSETTO:+0100
TZNAME:CET
DTSTART:20251026T010000
END:STANDARD
END:VTIMEZONE
BEGIN:VEVENT
DTSTART;TZID=Europe/Stockholm:20250922T120000
DTEND;TZID=Europe/Stockholm:20250927T010000
DTSTAMP:20260424T012016
CREATED:20250611T211147Z
LAST-MODIFIED:20250917T111136Z
UID:10001586-1758542400-1758934800@visitpajala.se
SUMMARY:Römppäviikko 2025
DESCRIPTION:Program för Römppäviikko kan du läsa här https://visitpajala.se/romppaviikko/
URL:https://visitpajala.se/kalender/danser-under-romppaviikko/
CATEGORIES:Musik,Römppäviikko
ATTACH;FMTTYPE=image/png:https://visitpajala.se/wp-content/uploads/2025/06/Romppaannons-TB-216-x-303-mm-4.png
ORGANIZER;CN="Pajala Turism & Evenemang - Visitpajala":MAILTO:visitpajala@pajala.se
END:VEVENT
BEGIN:VEVENT
DTSTART;TZID=Europe/Stockholm:20250927T113000
DTEND;TZID=Europe/Stockholm:20250927T160000
DTSTAMP:20260424T012016
CREATED:20250917T085215Z
LAST-MODIFIED:20250917T085215Z
UID:10002091-1758972600-1758988800@visitpajala.se
SUMMARY:Askel sovinthoon – Steg för försoning
DESCRIPTION:Välkommen till Askel sovinthoon – Steg för försoning i Tärendö församlingshem\nEn dag för försoning\, samtal och kunskapsspridning. De tidigare träffarna har varit välbesökta och väldigt uppskattade. Före detta arbetsstugeelever är särskilt välkomna. \nOBS! Vi bjuder på lunch och fika\, men du behöver anmäla dig – senast 19 september!\nSe länk för mer information och anmälan: https://www.svenskakyrkan.se/lul…/askel-sovinthoon-tarendo \nDet blir föreläsning om försvenskningen i arbetsstugorna med Curt Persson\, musik med GlesbygdsDivan Carina Henriksson och Roger Norén – samt högtidstal från Svenska kyrkan\, STR-T\, Länsstyrelsen i Norrbotten och Region Norrbotten. \nDessutom ett intressant panelsamtal: Vad hände sen? Mitä sitte tapahtu?\n• Daniel Fjällborg\, forskare och poddare som lyfter tornedalingarnas historia till en bred publik.\n• Britt-Inger Keisu\, forskare med fokus på sociala och kulturella processer.\n• Marleena Öhman\, språklärare som arbetar med att bevara och revitalisera meänkieli. \nSamtalsledare är Stefan Aro. \nTervetuloa! Välkomna! \nAskel sovinthoon – Steg för försoning genomförs i bred samverkan mellan Svenska kyrkan\, STR-T\, Met Nuoret\, Länsstyrelsen i Norrbotten\, Region Norrbotten samt Luleå tekniska universitet
URL:https://visitpajala.se/kalender/askel-sovinthoon-steg-for-forsoning-2/
LOCATION:Tärendö församlingshem\, Kyrkbacken 9\, Tärendö\, 98493\, Sverige
CATEGORIES:Föreläsning,Kaffe/fika/mat,Kultur,Musik
ATTACH;FMTTYPE=image/png:https://visitpajala.se/wp-content/uploads/2025/09/Askel-Sovinthoon-Tarendo.png
ORGANIZER;CN="Svenska kyrkan":MAILTO:ritvaelsa.seppala@svenskakyrkan.se
END:VEVENT
BEGIN:VEVENT
DTSTART;TZID=Europe/Stockholm:20250927T200000
DTEND;TZID=Europe/Stockholm:20250928T010000
DTSTAMP:20260424T012016
CREATED:20250813T102909Z
LAST-MODIFIED:20250917T114611Z
UID:10002070-1759003200-1759021200@visitpajala.se
SUMMARY:Römppädans i Pajala
DESCRIPTION:Römppäviikkos FINALdans bjuds upp i Pajala \nVälkommen att dansa in hösten med både nyfunna eller gamla bekanta\, kanske ta ett glas i baren och ha en trevlig kväll. \nLördag 27/9 FINALDANS Pajala Folkets hus\, kl 21-01.  \nInträde: 300 kr (inklusive fri garderob\, kaffe & fika) \nBetalningsätt: Kort\, swish & kontant \nOrkester: Carisma \nBar: Baren sköts av Hotell Smedjan \nArrangör: Pajala Turism & Evenemang
URL:https://visitpajala.se/kalender/romppaviikko-i-pajala/
LOCATION:Folkets hus Pajala\, Fridhemsvägen 1A\, Pajala\, 98431\, Sverige
CATEGORIES:Musik,Römppäviikko
ATTACH;FMTTYPE=image/png:https://visitpajala.se/wp-content/uploads/2025/09/Affisch-Romppa-297-x-420-mm-Instagram-inlagg-21.png
ORGANIZER;CN="Pajala Turism & Evenemang - Visitpajala":MAILTO:visitpajala@pajala.se
END:VEVENT
END:VCALENDAR