BEGIN:VCALENDAR
VERSION:2.0
PRODID:-//Visit Pajala - ECPv6.14.2//NONSGML v1.0//EN
CALSCALE:GREGORIAN
METHOD:PUBLISH
X-WR-CALNAME:Visit Pajala
X-ORIGINAL-URL:https://visitpajala.se
X-WR-CALDESC:Händelser för Visit Pajala
REFRESH-INTERVAL;VALUE=DURATION:PT1H
X-Robots-Tag:noindex
X-PUBLISHED-TTL:PT1H
BEGIN:VTIMEZONE
TZID:Europe/Stockholm
BEGIN:DAYLIGHT
TZOFFSETFROM:+0100
TZOFFSETTO:+0200
TZNAME:CEST
DTSTART:20250330T010000
END:DAYLIGHT
BEGIN:STANDARD
TZOFFSETFROM:+0200
TZOFFSETTO:+0100
TZNAME:CET
DTSTART:20251026T010000
END:STANDARD
END:VTIMEZONE
BEGIN:VEVENT
DTSTART;TZID=Europe/Stockholm:20250520T170000
DTEND;TZID=Europe/Stockholm:20250520T190000
DTSTAMP:20260423T201045
CREATED:20250409T102616Z
LAST-MODIFIED:20250409T102616Z
UID:10001546-1747760400-1747767600@visitpajala.se
SUMMARY:KONSERT: Kulturskolans dag
DESCRIPTION:Vi firar Kulturskolans dag med en konsert med musikelever från Pajala Kulturskola och Porsanger Kulturskole.
URL:https://visitpajala.se/kalender/konsert-kulturskolans-dag/
LOCATION:Folkets Hus Pajala\, Fridhemsvägen 1A\, Pajala\, Sverige
CATEGORIES:Kultur,Musik
ATTACH;FMTTYPE=image/jpeg:https://visitpajala.se/wp-content/uploads/2025/04/En-kul-tur-091-scaled.jpg
ORGANIZER;CN="Pajala kommun":MAILTO:ylva.eriksson@pajala.se
END:VEVENT
END:VCALENDAR