BEGIN:VCALENDAR
VERSION:2.0
PRODID:-//Visit Pajala - ECPv6.14.2//NONSGML v1.0//EN
CALSCALE:GREGORIAN
METHOD:PUBLISH
X-ORIGINAL-URL:https://visitpajala.se
X-WR-CALDESC:Händelser för Visit Pajala
REFRESH-INTERVAL;VALUE=DURATION:PT1H
X-Robots-Tag:noindex
X-PUBLISHED-TTL:PT1H
BEGIN:VTIMEZONE
TZID:Europe/Stockholm
BEGIN:DAYLIGHT
TZOFFSETFROM:+0100
TZOFFSETTO:+0200
TZNAME:CEST
DTSTART:20250330T010000
END:DAYLIGHT
BEGIN:STANDARD
TZOFFSETFROM:+0200
TZOFFSETTO:+0100
TZNAME:CET
DTSTART:20251026T010000
END:STANDARD
END:VTIMEZONE
BEGIN:VEVENT
DTSTART;TZID=Europe/Stockholm:20250314T090000
DTEND;TZID=Europe/Stockholm:20250314T094500
DTSTAMP:20260423T230415
CREATED:20250211T104619Z
LAST-MODIFIED:20250327T141911Z
UID:10001498-1741942800-1741945500@visitpajala.se
SUMMARY:Norrbottensmusiken: Revulotion Blues!
DESCRIPTION:Ösig blueskonsert!\nTill vardags spelar Elin Öberg och Eva-Mi Ringqvist i det Stockholmsbaserade bandet Among Lynx. Nu är de en duo på scenen\, sprungen ur det bluesbandet. Eva-Mi sjunger lead\, spelar gitarr och slagverk med fötterna\, medan Elin spelar munspel och sjunger. \nKonserten innehåller både originallåtar och covers. Publiken får lära sig mer om blues och dess musikhistoria. Dessutom är det stort fokus på de kvinnliga förebilder som genren har att bjuda på\, som exempelvis Big Mama Thornton\, Sister Rosetta Tharpe och Memphis Minnie. Samtliga amerikanska kvinnliga bluespionjärer under den första halvan av 1900-talet. \nFör högstadiet på Gårdbyskolan och allmänheten.\nFri entré!
URL:https://visitpajala.se/kalender/norrbottensmusiken-revulotion-blues/
LOCATION:Medborgarhuset Korpilombolo\, Medborgarvägen 3\, Korpilombolo\, 980 60\, Sverige
CATEGORIES:Kultur,Musik
ATTACH;FMTTYPE=image/jpeg:https://visitpajala.se/wp-content/uploads/2025/02/REV-1.jpg
ORGANIZER;CN="Kultur i Pajala kommun - Kulttuuria Pajalan kunnassa":MAILTO:kultur@pajala.se
END:VEVENT
END:VCALENDAR