BEGIN:VCALENDAR
VERSION:2.0
PRODID:-//Visit Pajala - ECPv6.14.2//NONSGML v1.0//EN
CALSCALE:GREGORIAN
METHOD:PUBLISH
X-ORIGINAL-URL:https://visitpajala.se
X-WR-CALDESC:Händelser för Visit Pajala
REFRESH-INTERVAL;VALUE=DURATION:PT1H
X-Robots-Tag:noindex
X-PUBLISHED-TTL:PT1H
BEGIN:VTIMEZONE
TZID:Europe/Stockholm
BEGIN:DAYLIGHT
TZOFFSETFROM:+0100
TZOFFSETTO:+0200
TZNAME:CEST
DTSTART:20250330T010000
END:DAYLIGHT
BEGIN:STANDARD
TZOFFSETFROM:+0200
TZOFFSETTO:+0100
TZNAME:CET
DTSTART:20251026T010000
END:STANDARD
END:VTIMEZONE
BEGIN:VEVENT
DTSTART;TZID=Europe/Stockholm:20250301T140000
DTEND;TZID=Europe/Stockholm:20250301T151000
DTSTAMP:20260423T224415
CREATED:20250211T104550Z
LAST-MODIFIED:20250211T104550Z
UID:10001497-1740837600-1740841800@visitpajala.se
SUMMARY:Norrbottensmusiken: Norrbottens Kammarorkester möter Ale Möller med band & Berrin Sahrin
DESCRIPTION:Musik är en kraft som finns överallt\, i alla människor i hela världen. Multimusikern Ale Möller är den som kanske mest och bäst av alla visar att musiken är gränslös och att det är fullt möjligt att låta sig omfamnas av klanger från olika kulturer. Efter tre tidigare succéer möts nu återigen Ale Möller och Norrbottens Kammarorkester. Musik som går rakt in i hjärtat!\nFri entré!
URL:https://visitpajala.se/kalender/norrbottensmusiken-norrbottens-kammarorkester-moter-ale-moller-med-band-berrin-sahrin/
LOCATION:Pajala Kyrka\, Kyrkallén\, Pajala\, 98431\, Sverige
CATEGORIES:Musik
ATTACH;FMTTYPE=image/jpeg:https://visitpajala.se/wp-content/uploads/2025/02/SoMe_Norrbottensmusiken_Ale-Moller_1920x1080_PAJALA-2.jpg
END:VEVENT
END:VCALENDAR