BEGIN:VCALENDAR
VERSION:2.0
PRODID:-//Visit Pajala - ECPv6.14.2//NONSGML v1.0//EN
CALSCALE:GREGORIAN
METHOD:PUBLISH
X-ORIGINAL-URL:https://visitpajala.se
X-WR-CALDESC:Händelser för Visit Pajala
REFRESH-INTERVAL;VALUE=DURATION:PT1H
X-Robots-Tag:noindex
X-PUBLISHED-TTL:PT1H
BEGIN:VTIMEZONE
TZID:Europe/Stockholm
BEGIN:DAYLIGHT
TZOFFSETFROM:+0100
TZOFFSETTO:+0200
TZNAME:CEST
DTSTART:20240331T010000
END:DAYLIGHT
BEGIN:STANDARD
TZOFFSETFROM:+0200
TZOFFSETTO:+0100
TZNAME:CET
DTSTART:20241027T010000
END:STANDARD
END:VTIMEZONE
BEGIN:VEVENT
DTSTART;TZID=Europe/Stockholm:20241214T170000
DTEND;TZID=Europe/Stockholm:20241214T180000
DTSTAMP:20260424T021733
CREATED:20241125T094914Z
LAST-MODIFIED:20241125T094914Z
UID:10001095-1734195600-1734199200@visitpajala.se
SUMMARY:JULKONSERT
DESCRIPTION:En musikalisk resa från advent till jul
URL:https://visitpajala.se/kalender/julkonsert-2/
LOCATION:Korpilombolo kyrka\, Bergvägen 25\, Korpilombolo\, 98433\, Sverige
CATEGORIES:Musik
ATTACH;FMTTYPE=image/jpeg:https://visitpajala.se/wp-content/uploads/2024/11/JulElfteDecKorp.jpg
END:VEVENT
END:VCALENDAR