BEGIN:VCALENDAR
VERSION:2.0
PRODID:-//Visit Pajala - ECPv6.14.2//NONSGML v1.0//EN
CALSCALE:GREGORIAN
METHOD:PUBLISH
X-ORIGINAL-URL:https://visitpajala.se
X-WR-CALDESC:Händelser för Visit Pajala
REFRESH-INTERVAL;VALUE=DURATION:PT1H
X-Robots-Tag:noindex
X-PUBLISHED-TTL:PT1H
BEGIN:VTIMEZONE
TZID:Europe/Stockholm
BEGIN:DAYLIGHT
TZOFFSETFROM:+0100
TZOFFSETTO:+0200
TZNAME:CEST
DTSTART:20240331T010000
END:DAYLIGHT
BEGIN:STANDARD
TZOFFSETFROM:+0200
TZOFFSETTO:+0100
TZNAME:CET
DTSTART:20241027T010000
END:STANDARD
END:VTIMEZONE
BEGIN:VEVENT
DTSTART;TZID=Europe/Stockholm:20241013T110000
DTEND;TZID=Europe/Stockholm:20241013T160000
DTSTAMP:20260424T043846
CREATED:20240925T080848Z
LAST-MODIFIED:20240925T080848Z
UID:10001032-1728817200-1728835200@visitpajala.se
SUMMARY:Gospeldag "Ovan där"
DESCRIPTION:Gospeldag i Pajala kyrka\nSöndag 13 okt 12-17\nMaria Smeds m fl\nSamling kl 12.\nFika kl 15 (församlingen bjuder på kaffe & kaka)\nGospelgudstjänst kl 17.\nFÖR ALLA SOM GILLAR ATT SJUNGA!\nAnmälan till:\nkarin.andersson@svenskakyrkan.se före 9 okt.\nKostnad: GRATIS
URL:https://visitpajala.se/kalender/gospeldag-ovan-dar/
LOCATION:Pajala Kyrka\, Kyrkallén\, Pajala\, 98431\, Sverige
CATEGORIES:Musik
ATTACH;FMTTYPE=image/jpeg:https://visitpajala.se/wp-content/uploads/2024/09/HimmelGospel-1-scaled.jpg
END:VEVENT
END:VCALENDAR