BEGIN:VCALENDAR
VERSION:2.0
PRODID:-//Visit Pajala - ECPv6.14.2//NONSGML v1.0//EN
CALSCALE:GREGORIAN
METHOD:PUBLISH
X-WR-CALNAME:Visit Pajala
X-ORIGINAL-URL:https://visitpajala.se
X-WR-CALDESC:Händelser för Visit Pajala
REFRESH-INTERVAL;VALUE=DURATION:PT1H
X-Robots-Tag:noindex
X-PUBLISHED-TTL:PT1H
BEGIN:VTIMEZONE
TZID:Europe/Stockholm
BEGIN:DAYLIGHT
TZOFFSETFROM:+0100
TZOFFSETTO:+0200
TZNAME:CEST
DTSTART:20240331T010000
END:DAYLIGHT
BEGIN:STANDARD
TZOFFSETFROM:+0200
TZOFFSETTO:+0100
TZNAME:CET
DTSTART:20241027T010000
END:STANDARD
END:VTIMEZONE
BEGIN:VEVENT
DTSTART;TZID=Europe/Stockholm:20240924T160000
DTEND;TZID=Europe/Stockholm:20240928T225900
DTSTAMP:20260424T054634
CREATED:20240910T125321Z
LAST-MODIFIED:20240910T125321Z
UID:10001024-1727193600-1727564340@visitpajala.se
SUMMARY:Römppäviikko
DESCRIPTION:Här nedan ser du programmet för veckan (med reservation för förändringar)
URL:https://visitpajala.se/kalender/romppaviikko-2/
LOCATION:Centrala Pajala\, Sverige
CATEGORIES:Familjeunderhållning,Konst,Kultur,Musik,Römppäviikko
ATTACH;FMTTYPE=image/png:https://visitpajala.se/wp-content/uploads/2024/09/a3297-x-420-mm-1.png
ORGANIZER;CN="Pajala Turism & Evenemang - Visitpajala":MAILTO:visitpajala@pajala.se
END:VEVENT
END:VCALENDAR