BEGIN:VCALENDAR
VERSION:2.0
PRODID:-//Visit Pajala - ECPv6.14.2//NONSGML v1.0//EN
CALSCALE:GREGORIAN
METHOD:PUBLISH
X-ORIGINAL-URL:https://visitpajala.se
X-WR-CALDESC:Händelser för Visit Pajala
REFRESH-INTERVAL;VALUE=DURATION:PT1H
X-Robots-Tag:noindex
X-PUBLISHED-TTL:PT1H
BEGIN:VTIMEZONE
TZID:Europe/Stockholm
BEGIN:DAYLIGHT
TZOFFSETFROM:+0100
TZOFFSETTO:+0200
TZNAME:CEST
DTSTART:20240331T010000
END:DAYLIGHT
BEGIN:STANDARD
TZOFFSETFROM:+0200
TZOFFSETTO:+0100
TZNAME:CET
DTSTART:20241027T010000
END:STANDARD
END:VTIMEZONE
BEGIN:VEVENT
DTSTART;TZID=Europe/Stockholm:20240215T170000
DTEND;TZID=Europe/Stockholm:20240215T180000
DTSTAMP:20260424T145348
CREATED:20240201T121402Z
LAST-MODIFIED:20240201T122403Z
UID:10000492-1708016400-1708020000@visitpajala.se
SUMMARY:Från hjärta till hjärta
DESCRIPTION:Välkommen på allsång med Solskensvännerna till förmån för Hjärt- Lungfonden
URL:https://visitpajala.se/kalender/fran-hjarta-till-hjarta/
LOCATION:Kyrkans hus\, Laestadiusvägen 38\, Pajala\, Pajala\, 98431
CATEGORIES:Musik
ATTACH;FMTTYPE=image/jpeg:https://visitpajala.se/wp-content/uploads/2024/02/HjartatillhjartaJPEG-1.jpg
END:VEVENT
END:VCALENDAR