BEGIN:VCALENDAR
VERSION:2.0
PRODID:-//Visit Pajala - ECPv6.14.2//NONSGML v1.0//EN
CALSCALE:GREGORIAN
METHOD:PUBLISH
X-ORIGINAL-URL:https://visitpajala.se
X-WR-CALDESC:Händelser för Visit Pajala
REFRESH-INTERVAL;VALUE=DURATION:PT1H
X-Robots-Tag:noindex
X-PUBLISHED-TTL:PT1H
BEGIN:VTIMEZONE
TZID:Europe/Stockholm
BEGIN:DAYLIGHT
TZOFFSETFROM:+0100
TZOFFSETTO:+0200
TZNAME:CEST
DTSTART:20240331T010000
END:DAYLIGHT
BEGIN:STANDARD
TZOFFSETFROM:+0200
TZOFFSETTO:+0100
TZNAME:CET
DTSTART:20241027T010000
END:STANDARD
END:VTIMEZONE
BEGIN:VEVENT
DTSTART;TZID=Europe/Stockholm:20240128T160000
DTEND;TZID=Europe/Stockholm:20240128T173000
DTSTAMP:20260424T160916
CREATED:20240109T113905Z
LAST-MODIFIED:20240109T113905Z
UID:10000446-1706457600-1706463000@visitpajala.se
SUMMARY:Konsert i Folkton
DESCRIPTION:Anda folkmusik i samarbete med Pajala kyrkokör\nMattias Ristholm\, turkisk långhalsluta\, sång & bouzouki\nAnders Peev\, tenornyckelharpa & sång
URL:https://visitpajala.se/kalender/konsert-i-folkton/
LOCATION:Pajala Kyrka\, Kyrkallén\, Pajala\, 98431\, Sverige
CATEGORIES:Musik
ATTACH;FMTTYPE=image/jpeg:https://visitpajala.se/wp-content/uploads/2024/01/ANDAKonsertJPEG.jpg
END:VEVENT
END:VCALENDAR