BEGIN:VCALENDAR
VERSION:2.0
PRODID:-//Visit Pajala - ECPv6.14.2//NONSGML v1.0//EN
CALSCALE:GREGORIAN
METHOD:PUBLISH
X-WR-CALNAME:Visit Pajala
X-ORIGINAL-URL:https://visitpajala.se
X-WR-CALDESC:Händelser för Visit Pajala
REFRESH-INTERVAL;VALUE=DURATION:PT1H
X-Robots-Tag:noindex
X-PUBLISHED-TTL:PT1H
BEGIN:VTIMEZONE
TZID:Europe/Stockholm
BEGIN:DAYLIGHT
TZOFFSETFROM:+0100
TZOFFSETTO:+0200
TZNAME:CEST
DTSTART:20230326T010000
END:DAYLIGHT
BEGIN:STANDARD
TZOFFSETFROM:+0200
TZOFFSETTO:+0100
TZNAME:CET
DTSTART:20231029T010000
END:STANDARD
END:VTIMEZONE
BEGIN:VEVENT
DTSTART;TZID=Europe/Stockholm:20231216T170000
DTEND;TZID=Europe/Stockholm:20231216T180000
DTSTAMP:20260424T213527
CREATED:20231206T104746Z
LAST-MODIFIED:20231206T104746Z
UID:10000407-1702746000-1702749600@visitpajala.se
SUMMARY:I signad juletid
DESCRIPTION:Julkonsert med Fjellglim & Korpilombolo julkör
URL:https://visitpajala.se/kalender/i-signad-juletid-2/
LOCATION:Korpilombolo kyrka\, Bergvägen 25\, Korpilombolo\, 98433\, Sverige
CATEGORIES:Musik
ATTACH;FMTTYPE=image/jpeg:https://visitpajala.se/wp-content/uploads/2023/12/received_908272484326719-1.jpeg
END:VEVENT
END:VCALENDAR