BEGIN:VCALENDAR
VERSION:2.0
PRODID:-//Visit Pajala - ECPv6.14.2//NONSGML v1.0//EN
CALSCALE:GREGORIAN
METHOD:PUBLISH
X-ORIGINAL-URL:https://visitpajala.se
X-WR-CALDESC:Händelser för Visit Pajala
REFRESH-INTERVAL;VALUE=DURATION:PT1H
X-Robots-Tag:noindex
X-PUBLISHED-TTL:PT1H
BEGIN:VTIMEZONE
TZID:Europe/Stockholm
BEGIN:DAYLIGHT
TZOFFSETFROM:+0100
TZOFFSETTO:+0200
TZNAME:CEST
DTSTART:20230326T010000
END:DAYLIGHT
BEGIN:STANDARD
TZOFFSETFROM:+0200
TZOFFSETTO:+0100
TZNAME:CET
DTSTART:20231029T010000
END:STANDARD
END:VTIMEZONE
BEGIN:VEVENT
DTSTART;TZID=Europe/Stockholm:20231107T170000
DTEND;TZID=Europe/Stockholm:20231107T170000
DTSTAMP:20260424T225908
CREATED:20230927T122706Z
LAST-MODIFIED:20230927T174308Z
UID:10000256-1699376400-1699376400@visitpajala.se
SUMMARY:Ord och ton 'Allhelgonatid'
DESCRIPTION:Narken kapell\nTisdag 7 november kl 18.00\nOrd och ton\n’Allhelgonatid’\nVi bjuder på fika
URL:https://visitpajala.se/kalender/ord-och-ton-allhelgonatid/
CATEGORIES:Musik
ATTACH;FMTTYPE=image/jpeg:https://visitpajala.se/wp-content/uploads/2023/09/20230927_142350-scaled.jpg
END:VEVENT
END:VCALENDAR