BEGIN:VCALENDAR
VERSION:2.0
PRODID:-//Visit Pajala - ECPv6.14.2//NONSGML v1.0//EN
CALSCALE:GREGORIAN
METHOD:PUBLISH
X-ORIGINAL-URL:https://visitpajala.se
X-WR-CALDESC:Händelser för Visit Pajala
REFRESH-INTERVAL;VALUE=DURATION:PT1H
X-Robots-Tag:noindex
X-PUBLISHED-TTL:PT1H
BEGIN:VTIMEZONE
TZID:Europe/Stockholm
BEGIN:DAYLIGHT
TZOFFSETFROM:+0100
TZOFFSETTO:+0200
TZNAME:CEST
DTSTART:20230326T010000
END:DAYLIGHT
BEGIN:STANDARD
TZOFFSETFROM:+0200
TZOFFSETTO:+0100
TZNAME:CET
DTSTART:20231029T010000
END:STANDARD
END:VTIMEZONE
BEGIN:VEVENT
DTSTART;TZID=Europe/Stockholm:20231002T180000
DTEND;TZID=Europe/Stockholm:20231002T180000
DTSTAMP:20260425T002744
CREATED:20230922T190448Z
LAST-MODIFIED:20230922T190448Z
UID:10000248-1696269600-1696269600@visitpajala.se
SUMMARY:Konsert Jard Samuelsson
DESCRIPTION:Konsert: On The road again med Jard Samuelsson i Tärendö kyrka
URL:https://visitpajala.se/kalender/konsert-jard-samuelsson/
CATEGORIES:Musik
ATTACH;FMTTYPE=image/jpeg:https://visitpajala.se/wp-content/uploads/2023/09/Screenshot_20230921_184256_WhatsApp.jpg
END:VEVENT
BEGIN:VEVENT
DTSTART;TZID=Europe/Stockholm:20231002T180000
DTEND;TZID=Europe/Stockholm:20231002T190000
DTSTAMP:20260425T002744
CREATED:20231002T121513Z
LAST-MODIFIED:20231002T121513Z
UID:10000257-1696269600-1696273200@visitpajala.se
SUMMARY:On the road again
DESCRIPTION:Konsert med Jard Samuelsson. Fri entré!
URL:https://visitpajala.se/kalender/on-the-road-again/
LOCATION:Tärendö kyrka\, Tärendö\, Sverige
CATEGORIES:Musik
ATTACH;FMTTYPE=image/jpeg:https://visitpajala.se/wp-content/uploads/2023/09/JardJpeg.jpg
END:VEVENT
END:VCALENDAR