BEGIN:VCALENDAR
VERSION:2.0
PRODID:-//Visit Pajala - ECPv6.14.2//NONSGML v1.0//EN
CALSCALE:GREGORIAN
METHOD:PUBLISH
X-ORIGINAL-URL:https://visitpajala.se
X-WR-CALDESC:Händelser för Visit Pajala
REFRESH-INTERVAL;VALUE=DURATION:PT1H
X-Robots-Tag:noindex
X-PUBLISHED-TTL:PT1H
BEGIN:VTIMEZONE
TZID:Europe/Stockholm
BEGIN:DAYLIGHT
TZOFFSETFROM:+0100
TZOFFSETTO:+0200
TZNAME:CEST
DTSTART:20230326T010000
END:DAYLIGHT
BEGIN:STANDARD
TZOFFSETFROM:+0200
TZOFFSETTO:+0100
TZNAME:CET
DTSTART:20231029T010000
END:STANDARD
END:VTIMEZONE
BEGIN:VEVENT
DTSTART;TZID=Europe/Stockholm:20230929T200000
DTEND;TZID=Europe/Stockholm:20230930T000000
DTSTAMP:20260425T000913
CREATED:20230911T115154Z
LAST-MODIFIED:20230913T050343Z
UID:10000141-1696017600-1696032000@visitpajala.se
SUMMARY:Pubkväll med Livemusik
DESCRIPTION:Husets Bar & Bistro hälsar er välkomna till Junosuando på Pubkväll med Livemusik. \nKlockan 21:00-01:00 \nInträde 150 kr \nPå scen: Pekka Power \nRömppäbussen Avgår från Malmens busstation i Pajala kl 20:00. (Återresa efter Pubens slut) \n  \n 
URL:https://visitpajala.se/kalender/pubkvall-med-livemusik/
LOCATION:Husets Bar & Bistro\, Folketshusvägen 10\, Junosuando\, 984 96\, Sverige
CATEGORIES:Musik,Römppäviikko
ATTACH;FMTTYPE=image/png:https://visitpajala.se/wp-content/uploads/2023/09/Till-Instagram-8.png
END:VEVENT
END:VCALENDAR