BEGIN:VCALENDAR
VERSION:2.0
PRODID:-//Visit Pajala - ECPv6.14.2//NONSGML v1.0//EN
CALSCALE:GREGORIAN
METHOD:PUBLISH
X-WR-CALNAME:Visit Pajala
X-ORIGINAL-URL:https://visitpajala.se
X-WR-CALDESC:Händelser för Visit Pajala
REFRESH-INTERVAL;VALUE=DURATION:PT1H
X-Robots-Tag:noindex
X-PUBLISHED-TTL:PT1H
BEGIN:VTIMEZONE
TZID:Europe/Stockholm
BEGIN:DAYLIGHT
TZOFFSETFROM:+0100
TZOFFSETTO:+0200
TZNAME:CEST
DTSTART:20230326T010000
END:DAYLIGHT
BEGIN:STANDARD
TZOFFSETFROM:+0200
TZOFFSETTO:+0100
TZNAME:CET
DTSTART:20231029T010000
END:STANDARD
END:VTIMEZONE
BEGIN:VEVENT
DTSTART;TZID=Europe/Stockholm:20230726T120000
DTEND;TZID=Europe/Stockholm:20230726T164000
DTSTAMP:20260425T041357
CREATED:20230713T140000Z
LAST-MODIFIED:20230714T075751Z
UID:10000021-1690372800-1690389600@visitpajala.se
SUMMARY:Peking opera med Songyuan He och Yuxiao Chen - VARP
DESCRIPTION:kl 13:00-13:40\nPeking opera föreställning ”Modigt berg är blått” \nkl 16:15-16:45\nKungqu opera föreställning ”Berättelse från Tangdynastin” \nkl 17:00-17:40\nWorkshop inom smink och akrobatik \nVARP är ett sommarkulturprojekt som drivs av Pajala bibliotek tillsammans med Pajala kulturavdelning. Varje onsdag under 8 veckor kommer VARP att finnas på Soltorget i Centrala Pajala! Varje vecka blir det nya aktiviteter och evenemang till folk i alla åldrar. Vissa dagar kommer vi att finnas i Korpilombolo (som t.ex. för detta evenemang!) eller Tärendö. \nDet finns något för dig här i Pajala oavsett vad du gillar göra. Vi har ett brett utbud av föreställningar\, konserter\, verkstad och mer! Även när det inte pågår ett evenemang är du värmt välkommen att hänga i VARP tältet eller läsa på vårt pop-up bibliotek. \nVARP är till för alla: äldre\, unga\, turister\, Pajalabo\, kulturnördar och nybörjare. \nFör mer information:\n \nHämta ditt aktivitetsprogram på Pajala bibliotek eller Visit Pajala på Soltorget och följ @varp_pajala på instagram och få live uppdateringar.\n\nVälkomna!
URL:https://visitpajala.se/kalender/peking-opera-med-songyuan-he-och-yuxiao-chen-varp-2/
LOCATION:Café Liberté\, Överkalixvägen 5\, Korpilombolo\, 984 33\, Sverige
CATEGORIES:Familjeunderhållning,Konst,Musik
ATTACH;FMTTYPE=image/jpeg:https://visitpajala.se/wp-content/uploads/2023/07/Peking-opera-soltorget.jpg
END:VEVENT
END:VCALENDAR