BEGIN:VCALENDAR
VERSION:2.0
PRODID:-//Visit Pajala - ECPv6.14.2//NONSGML v1.0//EN
CALSCALE:GREGORIAN
METHOD:PUBLISH
X-WR-CALNAME:Visit Pajala
X-ORIGINAL-URL:https://visitpajala.se
X-WR-CALDESC:Händelser för Visit Pajala
REFRESH-INTERVAL;VALUE=DURATION:PT1H
X-Robots-Tag:noindex
X-PUBLISHED-TTL:PT1H
BEGIN:VTIMEZONE
TZID:Europe/Stockholm
BEGIN:DAYLIGHT
TZOFFSETFROM:+0100
TZOFFSETTO:+0200
TZNAME:CEST
DTSTART:20230326T010000
END:DAYLIGHT
BEGIN:STANDARD
TZOFFSETFROM:+0200
TZOFFSETTO:+0100
TZNAME:CET
DTSTART:20231029T010000
END:STANDARD
END:VTIMEZONE
BEGIN:VEVENT
DTSTART;TZID=Europe/Stockholm:20230707T090000
DTEND;TZID=Europe/Stockholm:20230709T160000
DTSTAMP:20260425T041233
CREATED:20230526T130440Z
LAST-MODIFIED:20230526T130541Z
UID:10000008-1688720400-1688918400@visitpajala.se
SUMMARY:Pajala Marknad
DESCRIPTION:Pajala marknad är alltid andra helgen efter midsommar.  \nMarknadsdagarna bjuder på shopping mellan kl 10-17\, allt från gediget hantverk till leksaker\, mat\, accessoarer eller delikatesser. Vi ser fram emot en helg full av \nKultur\, Underhållning\, Barnaktiviteter\, Tivoli\, Shopping\, Kvällsnöjen och Trevliga samtal \n 
URL:https://visitpajala.se/kalender/pajala-marknad/
LOCATION:Centrala Pajala\, Sverige
CATEGORIES:Familjeunderhållning,Konst,Musik,Pajala marknad
ATTACH;FMTTYPE=image/jpeg:https://visitpajala.se/wp-content/uploads/2023/05/instagram-visitpajala-2.jpg
ORGANIZER;CN="Pajala Turism & Evenemang - Visitpajala":MAILTO:visitpajala@pajala.se
END:VEVENT
END:VCALENDAR