BEGIN:VCALENDAR
VERSION:2.0
PRODID:-//Visit Pajala - ECPv6.14.2//NONSGML v1.0//EN
CALSCALE:GREGORIAN
METHOD:PUBLISH
X-WR-CALNAME:Visit Pajala
X-ORIGINAL-URL:https://visitpajala.se
X-WR-CALDESC:Händelser för Visit Pajala
REFRESH-INTERVAL;VALUE=DURATION:PT1H
X-Robots-Tag:noindex
X-PUBLISHED-TTL:PT1H
BEGIN:VTIMEZONE
TZID:Europe/Stockholm
BEGIN:DAYLIGHT
TZOFFSETFROM:+0100
TZOFFSETTO:+0200
TZNAME:CEST
DTSTART:20260329T010000
END:DAYLIGHT
BEGIN:STANDARD
TZOFFSETFROM:+0200
TZOFFSETTO:+0100
TZNAME:CET
DTSTART:20261025T010000
END:STANDARD
END:VTIMEZONE
BEGIN:VEVENT
DTSTART;TZID=Europe/Stockholm:20260317T180000
DTEND;TZID=Europe/Stockholm:20260317T193000
DTSTAMP:20260423T212655
CREATED:20260223T123258Z
LAST-MODIFIED:20260223T140906Z
UID:10002570-1773770400-1773775800@visitpajala.se
SUMMARY:Pohjoiset tuulet revontultentiellä
DESCRIPTION:Musik\, berättelser\, dikter och bilder från längs vägen.\nMed Tarja Ylitalo\, Tuomo Ylitalo\, Riitta Tirri och Veikko Hamaras bilder. \nFöreställningen ges på finska och meänkieli. \nFikaförsäljning \nPris: 200 kr/150 kr medlem \nBiljetter www.tickster.com\nKontant eller swish på dörren \nGå in på biblioteket och boka biljetter eller ring 0978/12150.
URL:https://visitpajala.se/kalender/pohjoiset-tuulet-revontultentiella/
LOCATION:Pajala Folkets hus\, Fridhemsvägen 1A\, Pajala\, Sverige
CATEGORIES:Musik
ATTACH;FMTTYPE=image/jpeg:https://visitpajala.se/wp-content/uploads/2026/02/Tarjan-esitys-kopio7-1-scaled.jpg
ORGANIZER;CN="Pajala Riksteaterf%C3%B6rening":MAILTO:pajala@riksteatern.se
END:VEVENT
BEGIN:VEVENT
DTSTART;TZID=Europe/Stockholm:20260318T190000
DTEND;TZID=Europe/Stockholm:20260318T200000
DTSTAMP:20260423T212655
CREATED:20260309T092518Z
LAST-MODIFIED:20260309T092518Z
UID:10002572-1773860400-1773864000@visitpajala.se
SUMMARY:Hjärtats längtan
DESCRIPTION:Välkommen på musikgudstjänst med kyrkokören.\nText & musik av Camilla Voigt och Ann-Charlotte Lundgren
URL:https://visitpajala.se/kalender/hjartats-langtan/
LOCATION:Pajala Kyrka\, Kyrkallén\, Pajala\, 98431\, Sverige
CATEGORIES:Musik
ATTACH;FMTTYPE=image/jpeg:https://visitpajala.se/wp-content/uploads/2026/03/Screenshot_20260305_162420_OneDrive.jpg
END:VEVENT
BEGIN:VEVENT
DTSTART;TZID=Europe/Stockholm:20260326T180000
DTEND;TZID=Europe/Stockholm:20260326T190000
DTSTAMP:20260423T212655
CREATED:20260309T092611Z
LAST-MODIFIED:20260309T092611Z
UID:10002573-1774548000-1774551600@visitpajala.se
SUMMARY:Hjärtats längtan
DESCRIPTION:Välkommen på musikgudstjänst med kyrkokören.\nText & musik av Camilla Voigt och Ann-Charlotte Lundgren
URL:https://visitpajala.se/kalender/hjartats-langtan-2/
LOCATION:Tärendö kyrka\, Tärendö\, Sverige
CATEGORIES:Musik
ATTACH;FMTTYPE=image/jpeg:https://visitpajala.se/wp-content/uploads/2026/03/Screenshot_20260305_162420_OneDrive-1.jpg
END:VEVENT
END:VCALENDAR