BEGIN:VCALENDAR
VERSION:2.0
PRODID:-//Visit Pajala - ECPv6.14.2//NONSGML v1.0//EN
CALSCALE:GREGORIAN
METHOD:PUBLISH
X-WR-CALNAME:Visit Pajala
X-ORIGINAL-URL:https://visitpajala.se
X-WR-CALDESC:Händelser för Visit Pajala
REFRESH-INTERVAL;VALUE=DURATION:PT1H
X-Robots-Tag:noindex
X-PUBLISHED-TTL:PT1H
BEGIN:VTIMEZONE
TZID:Europe/Stockholm
BEGIN:DAYLIGHT
TZOFFSETFROM:+0100
TZOFFSETTO:+0200
TZNAME:CEST
DTSTART:20250330T010000
END:DAYLIGHT
BEGIN:STANDARD
TZOFFSETFROM:+0200
TZOFFSETTO:+0100
TZNAME:CET
DTSTART:20251026T010000
END:STANDARD
END:VTIMEZONE
BEGIN:VEVENT
DTSTART;TZID=Europe/Stockholm:20251211T180000
DTEND;TZID=Europe/Stockholm:20251211T190000
DTSTAMP:20260424T011547
CREATED:20251203T110908Z
LAST-MODIFIED:20251203T110908Z
UID:10002518-1765476000-1765479600@visitpajala.se
SUMMARY:Solskensvännernas julsång
DESCRIPTION:Välkommen att sjunga julsånger och fika med oss!
URL:https://visitpajala.se/kalender/solskensvannernas-julsang-2/
LOCATION:Pajala Kyrka\, Kyrkallén\, Pajala\, 98431\, Sverige
CATEGORIES:Musik
ATTACH;FMTTYPE=image/jpeg:https://visitpajala.se/wp-content/uploads/2025/12/SolskenJul25.jpg
ORGANIZER;CN="Svenska kyrkan":MAILTO:ritvaelsa.seppala@svenskakyrkan.se
END:VEVENT
BEGIN:VEVENT
DTSTART;TZID=Europe/Stockholm:20251217T190000
DTEND;TZID=Europe/Stockholm:20251217T200000
DTSTAMP:20260424T011547
CREATED:20251211T084507Z
LAST-MODIFIED:20251211T084507Z
UID:10002528-1765998000-1766001600@visitpajala.se
SUMMARY:Julkonsert
DESCRIPTION:Pajala kyrkokör/Minda Esberg/Lydia Thiger/Magnus Aasa
URL:https://visitpajala.se/kalender/julkonsert-3/
LOCATION:Pajala Kyrka\, Kyrkallén\, Pajala\, 98431\, Sverige
CATEGORIES:Musik
ATTACH;FMTTYPE=image/jpeg:https://visitpajala.se/wp-content/uploads/2025/12/Julkons2025.jpg
END:VEVENT
END:VCALENDAR