BEGIN:VCALENDAR
VERSION:2.0
PRODID:-//Visit Pajala - ECPv6.14.2//NONSGML v1.0//EN
CALSCALE:GREGORIAN
METHOD:PUBLISH
X-ORIGINAL-URL:https://visitpajala.se
X-WR-CALDESC:Händelser för Visit Pajala
REFRESH-INTERVAL;VALUE=DURATION:PT1H
X-Robots-Tag:noindex
X-PUBLISHED-TTL:PT1H
BEGIN:VTIMEZONE
TZID:Europe/Stockholm
BEGIN:DAYLIGHT
TZOFFSETFROM:+0100
TZOFFSETTO:+0200
TZNAME:CEST
DTSTART:20250330T010000
END:DAYLIGHT
BEGIN:STANDARD
TZOFFSETFROM:+0200
TZOFFSETTO:+0100
TZNAME:CET
DTSTART:20251026T010000
END:STANDARD
END:VTIMEZONE
BEGIN:VEVENT
DTSTART;TZID=Europe/Stockholm:20250227T170000
DTEND;TZID=Europe/Stockholm:20250227T183000
DTSTAMP:20260423T224000
CREATED:20250207T095152Z
LAST-MODIFIED:20250207T095152Z
UID:10001495-1740675600-1740681000@visitpajala.se
SUMMARY:VÄYLÄMESSU
DESCRIPTION:Premiär på Meänkielidagen!\nVäylämessu-ensiilta\nMeänkielen päivänä\nMusik;\nPäivi Heikura\, piano & sång\nAdam Huuva\, sång\nJani-Petteri Hägg\, gitarr/saxofon & sång\nBengt Pohjanen\nMagnus Aasa
URL:https://visitpajala.se/kalender/vaylamessu/
LOCATION:Pajala Kyrka\, Kyrkallén\, Pajala\, 98431\, Sverige
CATEGORIES:Musik
ATTACH;FMTTYPE=image/jpeg:https://visitpajala.se/wp-content/uploads/2025/02/SLUTVayla.jpg
END:VEVENT
BEGIN:VEVENT
DTSTART;TZID=Europe/Stockholm:20250227T180000
DTEND;TZID=Europe/Stockholm:20250227T200000
DTSTAMP:20260423T224000
CREATED:20250210T103236Z
LAST-MODIFIED:20250210T103236Z
UID:10001496-1740679200-1740686400@visitpajala.se
SUMMARY:Norrbottensmusiken: Karin Hammar & Aventura Brasileira!
DESCRIPTION:Caféet öppnar 18.30\, konsert kl.19.00.\nEn svängig rytmisk konsert med en blandning av brasiliansk musik\, samba\, bossanova och jazz. Ackompanjerad av lyxfika från Tärendö IFK!\nDessutom ingår buss i biljettpriset för er som vill åka från centrala Pajala! (boka via lisa.hennix-raukola@pajala.se) \nTrombon – Karin Hammar\nSlagverk – Isidor Abdelkader\nTrummor – Robert Mehmet Ikiz\nBas – Rubem Farias\nPiano – Danilo Andrate
URL:https://visitpajala.se/kalender/norrbottensmusiken-karin-hammar-aventura-brasileira/
LOCATION:TÄRÄNDÖ FOLKETS HUS
CATEGORIES:Kultur,Musik
ATTACH;FMTTYPE=image/jpeg:https://visitpajala.se/wp-content/uploads/2025/02/SoMe_Norrbottensmusiken_Aventura-Brasileira_1080x1080_TARENDO-BUSSNING.jpg
END:VEVENT
END:VCALENDAR