BEGIN:VCALENDAR
VERSION:2.0
PRODID:-//Visit Pajala - ECPv6.14.2//NONSGML v1.0//EN
CALSCALE:GREGORIAN
METHOD:PUBLISH
X-WR-CALNAME:Visit Pajala
X-ORIGINAL-URL:https://visitpajala.se
X-WR-CALDESC:Händelser för Visit Pajala
REFRESH-INTERVAL;VALUE=DURATION:PT1H
X-Robots-Tag:noindex
X-PUBLISHED-TTL:PT1H
BEGIN:VTIMEZONE
TZID:Europe/Stockholm
BEGIN:DAYLIGHT
TZOFFSETFROM:+0100
TZOFFSETTO:+0200
TZNAME:CEST
DTSTART:20250330T010000
END:DAYLIGHT
BEGIN:STANDARD
TZOFFSETFROM:+0200
TZOFFSETTO:+0100
TZNAME:CET
DTSTART:20251026T010000
END:STANDARD
END:VTIMEZONE
BEGIN:VEVENT
DTSTART;TZID=Europe/Stockholm:20250126T170000
DTEND;TZID=Europe/Stockholm:20250126T180000
DTSTAMP:20260423T234618
CREATED:20250113T134810Z
LAST-MODIFIED:20250115T115512Z
UID:10001455-1737910800-1737914400@visitpajala.se
SUMMARY:Astrid Lindgrens sånger i folkmusikalisk dräkt
DESCRIPTION:ANDA & Pajala kyrkokör\nBild & dekoration: Centralskolan/Svenska kyrkans barn och unga
URL:https://visitpajala.se/kalender/astrid-lindgrens-sanger-i-folkmusikalisk-drakt/
LOCATION:Kyrkans hus\, Laestadiusvägen 38\, Pajala\, Pajala\, 98431
CATEGORIES:Musik
ATTACH;FMTTYPE=image/jpeg:https://visitpajala.se/wp-content/uploads/2025/01/ANDAAstridJPEG.jpg
END:VEVENT
END:VCALENDAR