BEGIN:VCALENDAR
VERSION:2.0
PRODID:-//Visit Pajala - ECPv6.14.2//NONSGML v1.0//EN
CALSCALE:GREGORIAN
METHOD:PUBLISH
X-ORIGINAL-URL:https://visitpajala.se
X-WR-CALDESC:Händelser för Visit Pajala
REFRESH-INTERVAL;VALUE=DURATION:PT1H
X-Robots-Tag:noindex
X-PUBLISHED-TTL:PT1H
BEGIN:VTIMEZONE
TZID:Europe/Stockholm
BEGIN:DAYLIGHT
TZOFFSETFROM:+0100
TZOFFSETTO:+0200
TZNAME:CEST
DTSTART:20240331T010000
END:DAYLIGHT
BEGIN:STANDARD
TZOFFSETFROM:+0200
TZOFFSETTO:+0100
TZNAME:CET
DTSTART:20241027T010000
END:STANDARD
END:VTIMEZONE
BEGIN:VEVENT
DTSTART;TZID=Europe/Stockholm:20241102T130000
DTEND;TZID=Europe/Stockholm:20241102T140000
DTSTAMP:20260424T021305
CREATED:20241024T080914Z
LAST-MODIFIED:20241024T080914Z
UID:10001058-1730552400-1730556000@visitpajala.se
SUMMARY:Minnesgudstjänst - ljuständning för de under året avlidna
DESCRIPTION:Peder Jonson\, präst/Kate Hearne\, cello & flöjt/Bruno Wallenström\, orgel
URL:https://visitpajala.se/kalender/minnesgudstjanst-ljustandning-for-de-under-aret-avlidna/
LOCATION:Junosuando kyrka\, Junosuando\, Sverige
CATEGORIES:Musik
ATTACH;FMTTYPE=image/jpeg:https://visitpajala.se/wp-content/uploads/2024/10/JohanNamn-scaled.jpg
END:VEVENT
BEGIN:VEVENT
DTSTART;TZID=Europe/Stockholm:20241102T130000
DTEND;TZID=Europe/Stockholm:20241102T140000
DTSTAMP:20260424T021305
CREATED:20241024T081123Z
LAST-MODIFIED:20241024T081123Z
UID:10001060-1730552400-1730556000@visitpajala.se
SUMMARY:Minnesgudstjänst
DESCRIPTION:Ljuständning för de under året avlidna\nMagnus Aasa\, präst/Elvira Esberg Ericsson\, sång/Ulrika Esberg\, orgel
URL:https://visitpajala.se/kalender/minnesgudstjanst-2/
LOCATION:Korpilombolo kyrka\, Bergvägen 25\, Korpilombolo\, 98433\, Sverige
CATEGORIES:Musik
ATTACH;FMTTYPE=image/jpeg:https://visitpajala.se/wp-content/uploads/2024/10/JohanNamn-2-scaled.jpg
END:VEVENT
BEGIN:VEVENT
DTSTART;TZID=Europe/Stockholm:20241102T170000
DTEND;TZID=Europe/Stockholm:20241102T180000
DTSTAMP:20260424T021305
CREATED:20241024T081149Z
LAST-MODIFIED:20241024T081149Z
UID:10001059-1730566800-1730570400@visitpajala.se
SUMMARY:Minnesgudstjänst
DESCRIPTION:Ljuständning för de under året avlidna\nPeder Jonson\, präst/Kate Hearne\, cello & flöjt/Bruno Wallenström\, orgel
URL:https://visitpajala.se/kalender/minnesgudstjanst-3/
LOCATION:Pajala Kyrka\, Kyrkallén\, Pajala\, 98431\, Sverige
CATEGORIES:Musik
ATTACH;FMTTYPE=image/jpeg:https://visitpajala.se/wp-content/uploads/2024/10/JohanNamn-1-scaled.jpg
END:VEVENT
BEGIN:VEVENT
DTSTART;TZID=Europe/Stockholm:20241102T170000
DTEND;TZID=Europe/Stockholm:20241102T180000
DTSTAMP:20260424T021305
CREATED:20241024T081226Z
LAST-MODIFIED:20241024T081226Z
UID:10001061-1730566800-1730570400@visitpajala.se
SUMMARY:Minnesgudstjänst
DESCRIPTION:Ljuständning för de under året avlidna\nMagnus Aasa\, präst/Elvira Esberg Ericsson\, sång/Ulrika Esberg\, orgel
URL:https://visitpajala.se/kalender/minnesgudstjanst-4/
LOCATION:Tärendö kyrka\, Tärendö\, Sverige
CATEGORIES:Musik
ATTACH;FMTTYPE=image/jpeg:https://visitpajala.se/wp-content/uploads/2024/10/JohanNamn-3-scaled.jpg
END:VEVENT
BEGIN:VEVENT
DTSTART;TZID=Europe/Stockholm:20241103T100000
DTEND;TZID=Europe/Stockholm:20241103T110000
DTSTAMP:20260424T021305
CREATED:20241024T081104Z
LAST-MODIFIED:20241024T081104Z
UID:10001062-1730628000-1730631600@visitpajala.se
SUMMARY:Minnesgudstjänst
DESCRIPTION:Ljuständning för de under året avlidna\nPeder Jonson\, präst/Bruno Wallenström\, orgel
URL:https://visitpajala.se/kalender/minnesgudstjanst/
LOCATION:Muodoslompolo kyrka\, Muodoslompolo\, 98431\, Sverige
CATEGORIES:Musik
ATTACH;FMTTYPE=image/jpeg:https://visitpajala.se/wp-content/uploads/2024/10/JohanNamn-4-scaled.jpg
END:VEVENT
BEGIN:VEVENT
DTSTART;TZID=Europe/Stockholm:20241110T120000
DTEND;TZID=Europe/Stockholm:20241110T180000
DTSTAMP:20260424T021305
CREATED:20241104T105427Z
LAST-MODIFIED:20241104T105427Z
UID:10001084-1731240000-1731261600@visitpajala.se
SUMMARY:Gospeldag
DESCRIPTION:Sjung gospel! För alla som gillar att sjunga!
URL:https://visitpajala.se/kalender/gospeldag/
LOCATION:Församlingshemmet Korpilombolo\, Bergvägen 25\, Korpilombolo\, 98433\, Sverige
CATEGORIES:Musik
ATTACH;FMTTYPE=image/jpeg:https://visitpajala.se/wp-content/uploads/2024/11/Screenshot_20241103_111922_OneDrive.jpg
END:VEVENT
BEGIN:VEVENT
DTSTART;TZID=Europe/Stockholm:20241124T130000
DTEND;TZID=Europe/Stockholm:20241124T170000
DTSTAMP:20260424T021305
CREATED:20241108T163651Z
LAST-MODIFIED:20241119T110458Z
UID:10001088-1732453200-1732467600@visitpajala.se
SUMMARY:Vi minns Lapin evakko - evakueringen från norra Finland
DESCRIPTION:För 80 år sedan evakuerades norra Finland\, en historisk händelse som har präglat flera generationer. \nVi minns\, berättar\, lyssnar och lär.\nVälkommen till en dag där vi gemensamt uppmärksammar vår historia genom \n\nKonstutställning med vernissage\nBerättelser och evakueringserfarenheter\nMusikunderhållning\nPanelsamtal\nBildspel\nKortfilmer\nBokbord\nAllsång\n\nÅk 9 säljer fika/varmkorv till förmån för sin studieresa.\nVälkommen \nProgram för dagen \n14.00-15.00 Avajaiset: Kouluoppilhaitten taitenäyttely Mamma kasteli kukat ennenko met lähimme.\nArkistomateriaalia Lapin soasta ja evakosta\, kirjapöytä.\nVernissage: Elevkonstutställning Mamma vattnade blommorna innan vi gav oss av.\nAutentiskt mediematerial från Lapplandskriget och evakueringen\, bokbord.\n \n15.00 och framåt Nisukahvit. Fikamingel. Årskurs 9 säljer fika och varmkorv till förmån för sin skolresa.\n \n15.30-17.30 Muistama yhessä Lapin evakkoa\, syyskuussa-lokakuussa 1944. Omista kokemuksia ja kertomuksia\, aitoa arkisto-materiaalia\, laulua ja musiikkia. Kulttuurikoulu ja Tornionlaakson teatteri esintyy\nTillsammans minns vi evakueringen av norra Finland\, september-oktober 1944. Egna upplevelser och erfarenheter\, autentiskt arkivmaterial\, sång och musik. Kulturskolan och Tornedalsteatern uppträder. \n\nUnder dagen gästas vi av Vesa Hiltunen\, Tyra Lindfors\, Erling Fredriksson\, Lars-Gunnar Forsberg\, Marianne Mäki\, Stefan Petäjävaara samt Ali Kangas som alla har personliga minnen och erfarenheter av evakueringen.\n\nTervetuloa! Välkommen!\nVapa päässy ja kaiken ikäsille\, fri entré och för alla åldrar.\nJärjestäjät/Arrangörer: Centralskolan\, Kulturskolan\, Biblioteket\, Visit Pajala\, Folkets hus\, Tornedalsteatern\, Studieförbundet Vuxenskolan\, STR-T Pajala och Kultur- och Minoritetsavdelningen  \nHåll utkik här. Programmet kan komma att uppdateras. 
URL:https://visitpajala.se/kalender/vi-minns-lapin-evakko-evakueringen-fran-norra-finland/
LOCATION:Folkets Hus Pajala\, Fridhemsvägen 1A\, Pajala\, Sverige
CATEGORIES:Föreläsning,Konst,Kultur,Musik
ATTACH;FMTTYPE=image/png:https://visitpajala.se/wp-content/uploads/2024/11/Instagram-Sondag.png
ORGANIZER;CN="Kultur i Pajala kommun - Kulttuuria Pajalan kunnassa":MAILTO:kultur@pajala.se
END:VEVENT
END:VCALENDAR