BEGIN:VCALENDAR
VERSION:2.0
PRODID:-//Visit Pajala - ECPv6.14.2//NONSGML v1.0//EN
CALSCALE:GREGORIAN
METHOD:PUBLISH
X-WR-CALNAME:Visit Pajala
X-ORIGINAL-URL:https://visitpajala.se
X-WR-CALDESC:Händelser för Visit Pajala
REFRESH-INTERVAL;VALUE=DURATION:PT1H
X-Robots-Tag:noindex
X-PUBLISHED-TTL:PT1H
BEGIN:VTIMEZONE
TZID:Europe/Stockholm
BEGIN:DAYLIGHT
TZOFFSETFROM:+0100
TZOFFSETTO:+0200
TZNAME:CEST
DTSTART:20240331T010000
END:DAYLIGHT
BEGIN:STANDARD
TZOFFSETFROM:+0200
TZOFFSETTO:+0100
TZNAME:CET
DTSTART:20241027T010000
END:STANDARD
END:VTIMEZONE
BEGIN:VEVENT
DTSTART;TZID=Europe/Stockholm:20241003T180000
DTEND;TZID=Europe/Stockholm:20241003T193000
DTSTAMP:20260424T032307
CREATED:20240918T092201Z
LAST-MODIFIED:20240918T092201Z
UID:10001027-1727978400-1727983800@visitpajala.se
SUMMARY:Moving Norrbotten Memory wax-Playground
DESCRIPTION:En livsbejakande dansföreställning som utforskar gruppens dynamik och lekens betydelse. \nProduktionen är en del av Dans i Nords regionala turné\, Moving Norrbotten\, som når publiken i Norrbottens samtliga 14 kommuner. \nI Playground utforskas gruppens dynamik och individens roll i mötet med andra.\nVad händer när rollerna förändras och när blir leken allvar?\nPlayground anspelar på lekens viktiga betydelse i livets alla skeenden.\nI samklang med fängslande ögonblick\, rörelseglädje och föränderliga vardagsobjekt bryter vi fasta mönster och bjuder in till nya möten\, nya möjligheter.\nDans i Nord samproducerar föreställningen tillsammans med Memory Wax och kubanska Danza Teatro Retazos.
URL:https://visitpajala.se/kalender/moving-norrbotten-memory-wax-playground/
LOCATION:Folkets Hus Pajala\, Fridhemsvägen 1A\, Pajala\, Sverige
CATEGORIES:Kultur,Musik
ATTACH;FMTTYPE=image/png:https://visitpajala.se/wp-content/uploads/2024/09/off-moving-n-24.png
ORGANIZER;CN="Pajala Rytmiska":MAILTO:pajalarytmiska@gmail.com
END:VEVENT
BEGIN:VEVENT
DTSTART;TZID=Europe/Stockholm:20241013T110000
DTEND;TZID=Europe/Stockholm:20241013T160000
DTSTAMP:20260424T032307
CREATED:20240925T080848Z
LAST-MODIFIED:20240925T080848Z
UID:10001032-1728817200-1728835200@visitpajala.se
SUMMARY:Gospeldag "Ovan där"
DESCRIPTION:Gospeldag i Pajala kyrka\nSöndag 13 okt 12-17\nMaria Smeds m fl\nSamling kl 12.\nFika kl 15 (församlingen bjuder på kaffe & kaka)\nGospelgudstjänst kl 17.\nFÖR ALLA SOM GILLAR ATT SJUNGA!\nAnmälan till:\nkarin.andersson@svenskakyrkan.se före 9 okt.\nKostnad: GRATIS
URL:https://visitpajala.se/kalender/gospeldag-ovan-dar/
LOCATION:Pajala Kyrka\, Kyrkallén\, Pajala\, 98431\, Sverige
CATEGORIES:Musik
ATTACH;FMTTYPE=image/jpeg:https://visitpajala.se/wp-content/uploads/2024/09/HimmelGospel-1-scaled.jpg
END:VEVENT
BEGIN:VEVENT
DTSTART;TZID=Europe/Stockholm:20241024T170000
DTEND;TZID=Europe/Stockholm:20241024T180000
DTSTAMP:20260424T032307
CREATED:20241021T094823Z
LAST-MODIFIED:20241021T094823Z
UID:10001052-1729789200-1729792800@visitpajala.se
SUMMARY:Tänd ljus!
DESCRIPTION:Tänd ljus! ✨️\nKYRKANS HUS\, PAJALA\nTors 24 okt kl 18:00\nSolskensvännerna sprider ljus i höstmörkret med sång 🎶\nVälkommen att sjunga med oss!\nVi bjuder på fika 🍂
URL:https://visitpajala.se/kalender/tand-ljus/
LOCATION:Pajala Kyrkans hus\, Laestadiusvägen 38\, Pajala\, 98431\, Sverige
CATEGORIES:Musik
ATTACH;FMTTYPE=image/jpeg:https://visitpajala.se/wp-content/uploads/2024/10/20241017_194821-1-scaled.jpg
END:VEVENT
END:VCALENDAR