BEGIN:VCALENDAR
VERSION:2.0
PRODID:-//Visit Pajala - ECPv6.14.2//NONSGML v1.0//EN
CALSCALE:GREGORIAN
METHOD:PUBLISH
X-ORIGINAL-URL:https://visitpajala.se
X-WR-CALDESC:Händelser för Visit Pajala
REFRESH-INTERVAL;VALUE=DURATION:PT1H
X-Robots-Tag:noindex
X-PUBLISHED-TTL:PT1H
BEGIN:VTIMEZONE
TZID:Europe/Stockholm
BEGIN:DAYLIGHT
TZOFFSETFROM:+0100
TZOFFSETTO:+0200
TZNAME:CEST
DTSTART:20240331T010000
END:DAYLIGHT
BEGIN:STANDARD
TZOFFSETFROM:+0200
TZOFFSETTO:+0100
TZNAME:CET
DTSTART:20241027T010000
END:STANDARD
END:VTIMEZONE
BEGIN:VEVENT
DTSTART;TZID=Europe/Stockholm:20240608T150000
DTEND;TZID=Europe/Stockholm:20240608T163000
DTSTAMP:20260424T080832
CREATED:20240506T081406Z
LAST-MODIFIED:20240506T081406Z
UID:10000669-1717858800-1717864200@visitpajala.se
SUMMARY:Ljuva sommartid
DESCRIPTION:Konsert med Pajala kyrkokör och Hillaviik
URL:https://visitpajala.se/kalender/ljuva-sommartid/
LOCATION:Pajala Kyrka\, Kyrkallén\, Pajala\, 98431\, Sverige
CATEGORIES:Musik
ATTACH;FMTTYPE=image/jpeg:https://visitpajala.se/wp-content/uploads/2024/05/LjuvaSommartidJPEG.jpg
END:VEVENT
BEGIN:VEVENT
DTSTART;TZID=Europe/Stockholm:20240609T140000
DTEND;TZID=Europe/Stockholm:20240609T153000
DTSTAMP:20260424T080832
CREATED:20240314T131323Z
LAST-MODIFIED:20240530T075930Z
UID:10000611-1717941600-1717947000@visitpajala.se
SUMMARY:Sol\, sommar & sång
DESCRIPTION:Junis sommarkör & Anki Ojanlatvas musikaliska hyllning till sommaren
URL:https://visitpajala.se/kalender/sol-sommar-sang/
LOCATION:Junosuando kyrka\, Junosuando\, Sverige
CATEGORIES:Musik
ATTACH;FMTTYPE=image/jpeg:https://visitpajala.se/wp-content/uploads/2024/03/20210714_124000-scaled.jpg
END:VEVENT
BEGIN:VEVENT
DTSTART;TZID=Europe/Stockholm:20240613T170000
DTEND;TZID=Europe/Stockholm:20240613T180000
DTSTAMP:20260424T080832
CREATED:20240506T081519Z
LAST-MODIFIED:20240506T081519Z
UID:10000670-1718298000-1718301600@visitpajala.se
SUMMARY:Ljus & värme
DESCRIPTION:Allsång med Solskensvännerna
URL:https://visitpajala.se/kalender/ljus-varme/
LOCATION:Kyrkans hus\, Laestadiusvägen 38\, Pajala\, Pajala\, 98431
CATEGORIES:Musik
ATTACH;FMTTYPE=image/jpeg:https://visitpajala.se/wp-content/uploads/2024/05/LjusVarmeJPEG.jpg
END:VEVENT
BEGIN:VEVENT
DTSTART;VALUE=DATE:20240628
DTEND;VALUE=DATE:20240701
DTSTAMP:20260424T080832
CREATED:20240624T142437Z
LAST-MODIFIED:20240624T142437Z
UID:10000717-1719615600-1719788399@visitpajala.se
SUMMARY:Teurajärvidagarna 29-30/6
DESCRIPTION:Teurajärvidagarna 29-30/6\nPå Träffpunkten i Teurajärvi 29/6 från kl 11 med tipspromenad\, musikalisk underhållning av Emil Hangasjärvi\, Erik Willman & Tallbokören. Försäljning av köttsoppa\, kaffe & våfflor. Söndag 30/6 kl 14 Gudstjänst med kyrkkaffe. Johan Sundbäck/Bruno Wallerström. Arrangeras av Teurajärvi Intresseförening i samarbete med Studieförbundet Vuxenskolan.
URL:https://visitpajala.se/kalender/teurajarvidagarna-29-30-6/
LOCATION:Teurajärvi\, Träffpunkten\, Teurajärvi\, 98470\, Sverige
CATEGORIES:Familjeunderhållning,Musik
ATTACH;FMTTYPE=image/png:https://visitpajala.se/wp-content/uploads/2024/06/Voluntarer-sokes-1.png
END:VEVENT
BEGIN:VEVENT
DTSTART;TZID=Europe/Stockholm:20240630T170000
DTEND;TZID=Europe/Stockholm:20240630T180000
DTSTAMP:20260424T080832
CREATED:20240314T131842Z
LAST-MODIFIED:20240314T131842Z
UID:10000613-1719766800-1719770400@visitpajala.se
SUMMARY:Ted Gärdestads låtar
DESCRIPTION:Sommartoner med Ted Gärdestads låtar med Julia & Erik Duo
URL:https://visitpajala.se/kalender/ted-gardestads-latar/
LOCATION:Junosuando kyrka\, Junosuando\, Sverige
CATEGORIES:Musik
ATTACH;FMTTYPE=image/jpeg:https://visitpajala.se/wp-content/uploads/2024/03/Promobild-scaled.jpg
END:VEVENT
END:VCALENDAR