BEGIN:VCALENDAR
VERSION:2.0
PRODID:-//Visit Pajala - ECPv6.14.2//NONSGML v1.0//EN
CALSCALE:GREGORIAN
METHOD:PUBLISH
X-ORIGINAL-URL:https://visitpajala.se
X-WR-CALDESC:Händelser för Visit Pajala
REFRESH-INTERVAL;VALUE=DURATION:PT1H
X-Robots-Tag:noindex
X-PUBLISHED-TTL:PT1H
BEGIN:VTIMEZONE
TZID:Europe/Stockholm
BEGIN:DAYLIGHT
TZOFFSETFROM:+0100
TZOFFSETTO:+0200
TZNAME:CEST
DTSTART:20240331T010000
END:DAYLIGHT
BEGIN:STANDARD
TZOFFSETFROM:+0200
TZOFFSETTO:+0100
TZNAME:CET
DTSTART:20241027T010000
END:STANDARD
END:VTIMEZONE
BEGIN:VEVENT
DTSTART;TZID=Europe/Stockholm:20240211T110000
DTEND;TZID=Europe/Stockholm:20240211T170000
DTSTAMP:20260424T133256
CREATED:20230914T065411Z
LAST-MODIFIED:20240126T065732Z
UID:10000145-1707649200-1707670800@visitpajala.se
SUMMARY:Gospelkördag
DESCRIPTION:Gospelkördag i Tärendö kyrka med Maria Smeds musikant\, sångerska\, körledare & präst\, Kiruna\nFör alla som gillar att sjunga!!\nSöndag 11 feb  2024 kl 12-18\nAnmälan före 2/2 till: karin.andersson@svenskakyrkan.se
URL:https://visitpajala.se/kalender/gospelkordag/
CATEGORIES:Musik
ATTACH;FMTTYPE=image/jpeg:https://visitpajala.se/wp-content/uploads/2023/09/clouds-2329680_1280.jpg
END:VEVENT
BEGIN:VEVENT
DTSTART;TZID=Europe/Stockholm:20240211T160000
DTEND;TZID=Europe/Stockholm:20240211T170000
DTSTAMP:20260424T133256
CREATED:20240201T114108Z
LAST-MODIFIED:20240201T114108Z
UID:10000479-1707667200-1707670800@visitpajala.se
SUMMARY:Ovan där
DESCRIPTION:Gospelkonsert med allsång!\n30-talet körsångare under ledning av Maria Smeds\nVälkomna🩵
URL:https://visitpajala.se/kalender/ovan-dar/
LOCATION:Tärendö kyrka\, Tärendö\, Sverige
CATEGORIES:Musik
ATTACH;FMTTYPE=image/jpeg:https://visitpajala.se/wp-content/uploads/2024/01/beach-1852945_1280.jpg
END:VEVENT
BEGIN:VEVENT
DTSTART;TZID=Europe/Stockholm:20240215T170000
DTEND;TZID=Europe/Stockholm:20240215T180000
DTSTAMP:20260424T133256
CREATED:20240201T121402Z
LAST-MODIFIED:20240201T122403Z
UID:10000492-1708016400-1708020000@visitpajala.se
SUMMARY:Från hjärta till hjärta
DESCRIPTION:Välkommen på allsång med Solskensvännerna till förmån för Hjärt- Lungfonden
URL:https://visitpajala.se/kalender/fran-hjarta-till-hjarta/
LOCATION:Kyrkans hus\, Laestadiusvägen 38\, Pajala\, Pajala\, 98431
CATEGORIES:Musik
ATTACH;FMTTYPE=image/jpeg:https://visitpajala.se/wp-content/uploads/2024/02/HjartatillhjartaJPEG-1.jpg
END:VEVENT
BEGIN:VEVENT
DTSTART;TZID=Europe/Stockholm:20240227T170000
DTEND;TZID=Europe/Stockholm:20240227T190000
DTSTAMP:20260424T133256
CREATED:20240125T102427Z
LAST-MODIFIED:20240125T102427Z
UID:10000477-1709053200-1709060400@visitpajala.se
SUMMARY:Meänkielidagen 'I berättelsens vida famn'
DESCRIPTION:Vi firar meänkielidagen i ord & ton\nBengt Pohjanen\nDaniel Eneris Sandström & Karin Andersson\, sång
URL:https://visitpajala.se/kalender/meankielidagen-i-berattelsens-vida-famn/
LOCATION:Jarhois\, Jarhois\, PAJALA\, 984 92\, Sverige
CATEGORIES:Musik
ATTACH;FMTTYPE=image/jpeg:https://visitpajala.se/wp-content/uploads/2024/01/MeankielidagenJPEG.jpg
END:VEVENT
END:VCALENDAR