BEGIN:VCALENDAR
VERSION:2.0
PRODID:-//Visit Pajala - ECPv6.14.2//NONSGML v1.0//EN
CALSCALE:GREGORIAN
METHOD:PUBLISH
X-WR-CALNAME:Visit Pajala
X-ORIGINAL-URL:https://visitpajala.se
X-WR-CALDESC:Händelser för Visit Pajala
REFRESH-INTERVAL;VALUE=DURATION:PT1H
X-Robots-Tag:noindex
X-PUBLISHED-TTL:PT1H
BEGIN:VTIMEZONE
TZID:Europe/Stockholm
BEGIN:DAYLIGHT
TZOFFSETFROM:+0100
TZOFFSETTO:+0200
TZNAME:CEST
DTSTART:20230326T010000
END:DAYLIGHT
BEGIN:STANDARD
TZOFFSETFROM:+0200
TZOFFSETTO:+0100
TZNAME:CET
DTSTART:20231029T010000
END:STANDARD
END:VTIMEZONE
BEGIN:VEVENT
DTSTART;TZID=Europe/Stockholm:20230912T180000
DTEND;TZID=Europe/Stockholm:20230912T193000
DTSTAMP:20260425T000242
CREATED:20230825T090624Z
LAST-MODIFIED:20230825T090624Z
UID:10000102-1694541600-1694547000@visitpajala.se
SUMMARY:POPPA ILTA
DESCRIPTION:Mikael Niemi berättar om sin purfärska roman ”Sten i siden”.\nVi bjuder på musik\, allsång och lite teater.\nStefan Millgård och Sixten Snell medverkar som musiker. \nFri entré men vi hoppas att ni köper boken och fika! \nBegränsat antal platser. Kom i tid!
URL:https://visitpajala.se/kalender/poppa-ilta/
LOCATION:Tornedalsteatern\, Tingsgatan 1\, Pajala\, 98432
CATEGORIES:Musik
ORGANIZER;CN="Tornedalsteatern - Tornionlaakson Teatteri":MAILTO:info@tornedalsteatern.se
END:VEVENT
BEGIN:VEVENT
DTSTART;TZID=Europe/Stockholm:20230925T170000
DTEND;TZID=Europe/Stockholm:20230925T190000
DTSTAMP:20260425T000242
CREATED:20230907T094208Z
LAST-MODIFIED:20230907T094208Z
UID:10000136-1695661200-1695668400@visitpajala.se
SUMMARY:Invigning av Römppäviikko
DESCRIPTION:Nu är det dags igen! \nRÖMPPÄVIIKKO vecka 39. \n𝟮𝟱 𝘀𝗲𝗽𝘁𝗲𝗺𝗯𝗲𝗿 INVIGNING av Römppäviikko 2023\, Folkets Hus Pajala. \n\nFilmvisning av kortfilmen Mummun leipä\nKulturskolan underhåller\nRegnbågsfamiljen\nFikaförsäljning\nUtställning\n\nKl: 18.00\, gratis inträde. \nDetta Evenemang arrangeras av Visit Pajala i samarbete med Folkets Hus\, Studieförbundet Vuxenskolan\, Kulturskolan samt Pajala kommun.  \n 
URL:https://visitpajala.se/kalender/invigning-av-romppaviikko/
LOCATION:Folkets hus Pajala\, Fridhemsvägen 1A\, Pajala\, 98431\, Sverige
CATEGORIES:Familjeunderhållning,Konst,Kultur,Musik,Römppäviikko
ATTACH;FMTTYPE=image/png:https://visitpajala.se/wp-content/uploads/2023/09/PAJALA-GALAN-1-1.png
ORGANIZER;CN="Pajala Turism & Evenemang - Visitpajala":MAILTO:visitpajala@pajala.se
END:VEVENT
BEGIN:VEVENT
DTSTART;TZID=Europe/Stockholm:20230927T190000
DTEND;TZID=Europe/Stockholm:20230927T230000
DTSTAMP:20260425T000242
CREATED:20230907T130900Z
LAST-MODIFIED:20230907T132706Z
UID:10000137-1695841200-1695855600@visitpajala.se
SUMMARY:Römppädans i Jarhois
DESCRIPTION:Jar-Ka IF välkomnar er på Römppädans i Jarhois. \nDansen äger rum på Jar-Ka IF´s klubblokal. \nKlockan 20:00-24:00 \nInträde 250 kr (Kaffe och bulla ingår) \nLaxsmörgåsar finns till försäljning. \n  \nCampingmöjligheter finns både med eller utan el. \n  \nRömppäbussen Avgår från Malmens busstation i Pajala kl 19:30. (Återresa efter dansens slut)
URL:https://visitpajala.se/kalender/romppadans-i-jarhois/
LOCATION:Jar-Ka IF klubblokal\, Jarhois\, Sverige
CATEGORIES:Musik,Römppäviikko
ATTACH;FMTTYPE=image/png:https://visitpajala.se/wp-content/uploads/2023/09/PAJALA-GALAN-6.png
END:VEVENT
BEGIN:VEVENT
DTSTART;TZID=Europe/Stockholm:20230928T170000
DTEND;TZID=Europe/Stockholm:20230928T180000
DTSTAMP:20260425T000242
CREATED:20230913T115409Z
LAST-MODIFIED:20230913T115409Z
UID:10000142-1695920400-1695924000@visitpajala.se
SUMMARY:Ord & Ton `Höstens rike´
DESCRIPTION:Muodoslompolo kyrka\nVälkommen att sjunga!\nVi bjuder på fika
URL:https://visitpajala.se/kalender/ord-ton-hostens-rike/
LOCATION:Muodoslompolo\, Muodoslompolo\, Sverige
CATEGORIES:Musik
ATTACH;FMTTYPE=image/jpeg:https://visitpajala.se/wp-content/uploads/2023/09/HostensrikeMuo.jpg
END:VEVENT
BEGIN:VEVENT
DTSTART;TZID=Europe/Stockholm:20230928T190000
DTEND;TZID=Europe/Stockholm:20230928T230000
DTSTAMP:20260425T000242
CREATED:20230907T132638Z
LAST-MODIFIED:20230907T132638Z
UID:10000138-1695927600-1695942000@visitpajala.se
SUMMARY:Römppädans i Erkheikki
DESCRIPTION:Vasikkavuoma Utveckling välkomnar er på Römppädans i Erkheikki. \nDansen äger rum på Erkheikki Folkets hus. \nKlockan 20:00-24:00 \nInträde 250 kr (Kaffe och bulla ingår) \n  \nRömppäbussen Avgår från Malmens busstation i Pajala kl 19:30. (Återresa efter dansens slut)
URL:https://visitpajala.se/kalender/romppadans-i-erkheikki/
LOCATION:Erkheikki Folkets hus
CATEGORIES:Musik,Römppäviikko
ATTACH;FMTTYPE=image/png:https://visitpajala.se/wp-content/uploads/2023/09/PAJALA-GALAN-5.png
ORGANIZER;CN="Vasikkavuoma Utveckling Ekonomisk F%C3%B6rening":MAILTO:info@vasikkavuoma.se
END:VEVENT
BEGIN:VEVENT
DTSTART;TZID=Europe/Stockholm:20230929T200000
DTEND;TZID=Europe/Stockholm:20230930T000000
DTSTAMP:20260425T000242
CREATED:20230911T115154Z
LAST-MODIFIED:20230913T050343Z
UID:10000141-1696017600-1696032000@visitpajala.se
SUMMARY:Pubkväll med Livemusik
DESCRIPTION:Husets Bar & Bistro hälsar er välkomna till Junosuando på Pubkväll med Livemusik. \nKlockan 21:00-01:00 \nInträde 150 kr \nPå scen: Pekka Power \nRömppäbussen Avgår från Malmens busstation i Pajala kl 20:00. (Återresa efter Pubens slut) \n  \n 
URL:https://visitpajala.se/kalender/pubkvall-med-livemusik/
LOCATION:Husets Bar & Bistro\, Folketshusvägen 10\, Junosuando\, 984 96\, Sverige
CATEGORIES:Musik,Römppäviikko
ATTACH;FMTTYPE=image/png:https://visitpajala.se/wp-content/uploads/2023/09/Till-Instagram-8.png
END:VEVENT
BEGIN:VEVENT
DTSTART;TZID=Europe/Stockholm:20230930T200000
DTEND;TZID=Europe/Stockholm:20231001T200000
DTSTAMP:20260425T000242
CREATED:20230907T135117Z
LAST-MODIFIED:20230907T135117Z
UID:10000139-1696104000-1696190400@visitpajala.se
SUMMARY:FINALDANS i Tärendö
DESCRIPTION:Römppäviikkos danser avslutas med FINALDANS på Tärendö Folkets hus. \nTärendö Husmodersförening hälsar er välkomna till en helkväll med \n\nDans till Jive\nBar med fullständiga rättigheter (Krögare: Husets Bar & Bistro)\nFörsäljning av smörgåsar\, fika och varmkorv\n\nKlockan 21:00-01:00 \nInträde 300 kr (Kaffe och bulla ingår) \n  \nDansbandet: Jive är ett populärt dansband som bildades 2002 av Torbjörn Eriksson (tidigare kapellmästare i Dansbandet Black jack) samt Leif Wallin. Jive kommer från Sundsvall och har en given plats på den svenska dansbandsscenen\, \nEn kväll ni inte vill missa! \n  \nRömppäbussen Avgår från Malmens busstation i Pajala kl 20:00. (Återresa efter dansens slut)
URL:https://visitpajala.se/kalender/finaldans-i-tarendo/
LOCATION:Tärendö Folkets hus\, talinenvägen 30\, Tärendö\, 98493\, Sverige
CATEGORIES:Musik,Römppäviikko
ATTACH;FMTTYPE=image/png:https://visitpajala.se/wp-content/uploads/2023/09/PAJALA-GALAN-7.png
END:VEVENT
END:VCALENDAR