BEGIN:VCALENDAR
VERSION:2.0
PRODID:-//Visit Pajala - ECPv6.14.2//NONSGML v1.0//EN
CALSCALE:GREGORIAN
METHOD:PUBLISH
X-ORIGINAL-URL:https://visitpajala.se
X-WR-CALDESC:Händelser för Visit Pajala
REFRESH-INTERVAL;VALUE=DURATION:PT1H
X-Robots-Tag:noindex
X-PUBLISHED-TTL:PT1H
BEGIN:VTIMEZONE
TZID:Europe/Stockholm
BEGIN:DAYLIGHT
TZOFFSETFROM:+0100
TZOFFSETTO:+0200
TZNAME:CEST
DTSTART:20230326T010000
END:DAYLIGHT
BEGIN:STANDARD
TZOFFSETFROM:+0200
TZOFFSETTO:+0100
TZNAME:CET
DTSTART:20231029T010000
END:STANDARD
END:VTIMEZONE
BEGIN:VEVENT
DTSTART;TZID=Europe/Stockholm:20230802T173000
DTEND;TZID=Europe/Stockholm:20230802T193000
DTSTAMP:20260425T012139
CREATED:20230802T065422Z
LAST-MODIFIED:20230802T065422Z
UID:10000077-1690997400-1691004600@visitpajala.se
SUMMARY:Rollerdisco – VARP
DESCRIPTION:Onsdag den 2:a augusti är det rullskridskodisko på Rian! \nAlla åldrar är välkomna! Ta med dina barn\, en kompis\, din sambo eller kom själv! \nDörrarna öppnar kl 18:30 och vi rullar tills 20:30. \nTa med dina inlines\, rullskridskor eller låna utrustning på plats. \nVARP är ett sommarkulturprojekt som drivs av Pajala bibliotek tillsammans med Pajala kulturavdelning. Varje onsdag under 8 veckor kommer VARP att finnas på Soltorget i Centrala Pajala! Varje vecka blir det nya aktiviteter och evenemang till folk i alla åldrar. Vissa dagar kommer vi att finnas i Korpilombolo eller Tärendö. \nDet finns något för dig här i Pajala oavsett vad du gillar göra. Vi har ett brett utbud av föreställningar\, konserter\, verkstad och mer! Även när det inte pågår ett evenemang är du värmt välkommen att hänga i VARP tältet eller läsa på vårt pop-up bibliotek. \nVARP är till för alla: äldre\, unga\, turister\, Pajalabo\, kulturnördar och nybörjare. \nFör mer information hämta ditt aktivitetsprogram på Pajala bibliotek eller Visit Pajala och följ @varp_pajala på instagram och få live uppdateringar. \nVälkomna!
URL:https://visitpajala.se/kalender/rollerdisco-varp/
LOCATION:Rian\, Pajala\, Sverige
CATEGORIES:Familjeunderhållning,Idrott,Konst,Musik
ATTACH;FMTTYPE=image/png:https://visitpajala.se/wp-content/uploads/2023/08/roller-disco-bild-1.png
END:VEVENT
BEGIN:VEVENT
DTSTART;TZID=Europe/Stockholm:20230816T120000
DTEND;TZID=Europe/Stockholm:20230816T160000
DTSTAMP:20260425T012139
CREATED:20230816T065619Z
LAST-MODIFIED:20230816T065619Z
UID:10000090-1692187200-1692201600@visitpajala.se
SUMMARY:Avslutningsfest - VARP
DESCRIPTION:Sommarkulturprojektet VARP som har erbjudit gratis kulturella evenemang under åtta veckor i Pajala kommer nu att fira en lyckad sommar med avslutningsfest onsdag den 16/8. På avslutningsfesten kommer publiken att följa VARP-arrangörerna på en kulturell rundtur i Pajala. \nDe som kommer till Soltorget kl 13:00 på onsdag kan höra tal av kulturchef Mathias Lafolie och biblioteksassistent Wanja Skrealid. Sedan får de gå tillsammans med VARP-arrangörerna till Pajala bibliotek för invigning av bibliotekets nya ungdomsrum. Därefter kommer väggmålningen på Kulturskolans yttervägg presenteras av konstnären Oliver Morales Eriksson innan sista VARP-aktiviteten\, nämligen ”Spela i band” och pop-up bibliotek på Kulturskolan! \nAlla åldrar är välkomna till hela dagsprogrammet. Inga förkunskaper krävs för ”spela i band”-aktiviteten. \nVARP är ett kultursommarprojekt som anordnas av Pajala bibliotek tillsammans med Pajala kulturavdelning för att skapa utrymme för nya kulturella upplevelser för alla. Under 8 veckor har det funnits något nytt på Soltorget varje onsdag \nDagsprogram\, onsdag 16/8: \nkl 13:00-13:20\, Soltorget\nInvigning\nTal av Mathias Lafolie\, kulturchef\nTal av Wanja Skrealid\, biblioteksassistent \n13:20-13:25\, Pajala bibliotek\nInvigning av Pajala biblioteks nya ungdomsrum \n13:25-13:30\, Utanför Pajala kulturskola\nInvigning av Pajala kulturskolas nya väggmålning med konstnär Oliver Morales Eriksson \n13:30-17:00\, Pajala kulturskola\nSpela i band (drop-in aktivitet)\nPop-up bibliotek (drop-in aktivitet)\nFika
URL:https://visitpajala.se/kalender/avslutningsfest-varp/
LOCATION:Soltorget\, Pajala\, Torggatan\, Pajala\, Sverige
CATEGORIES:Familjeunderhållning,Konst,Musik
END:VEVENT
END:VCALENDAR