BEGIN:VCALENDAR
VERSION:2.0
PRODID:-//Visit Pajala - ECPv6.14.2//NONSGML v1.0//EN
CALSCALE:GREGORIAN
METHOD:PUBLISH
X-ORIGINAL-URL:https://visitpajala.se
X-WR-CALDESC:Händelser för Visit Pajala
REFRESH-INTERVAL;VALUE=DURATION:PT1H
X-Robots-Tag:noindex
X-PUBLISHED-TTL:PT1H
BEGIN:VTIMEZONE
TZID:Europe/Stockholm
BEGIN:DAYLIGHT
TZOFFSETFROM:+0100
TZOFFSETTO:+0200
TZNAME:CEST
DTSTART:20260329T010000
END:DAYLIGHT
BEGIN:STANDARD
TZOFFSETFROM:+0200
TZOFFSETTO:+0100
TZNAME:CET
DTSTART:20261025T010000
END:STANDARD
END:VTIMEZONE
BEGIN:VEVENT
DTSTART;TZID=Europe/Stockholm:20260227T170000
DTEND;TZID=Europe/Stockholm:20260227T223000
DTSTAMP:20260425T002020
CREATED:20260210T121650Z
LAST-MODIFIED:20260210T121800Z
UID:10002559-1772211600-1772231400@visitpajala.se
SUMMARY:SPARK-BIO / PARKKARI-PIIU
DESCRIPTION:HÄR NEDAN KAN NI LÄSA OM FILMERNA SAMT VISNINGSTIDER.\n \n \n \n \n 
URL:https://visitpajala.se/kalender/spark-bio-parkkari-piiu/
LOCATION:Tornedalsvägen 1\, Tornedalsvägen 1\, Pajala\, 98431\, Sverige
CATEGORIES:Familjeunderhållning,Film & Bio,Kultur
ATTACH;FMTTYPE=image/png:https://visitpajala.se/wp-content/uploads/2026/02/Till-Instagram-Instagram-inlagg-4.png
ORGANIZER;CN="Kultur i Pajala kommun - Kulttuuria Pajalan kunnassa":MAILTO:kultur@pajala.se
END:VEVENT
END:VCALENDAR