BEGIN:VCALENDAR
VERSION:2.0
PRODID:-//Visit Pajala - ECPv6.14.2//NONSGML v1.0//EN
CALSCALE:GREGORIAN
METHOD:PUBLISH
X-WR-CALNAME:Visit Pajala
X-ORIGINAL-URL:https://visitpajala.se
X-WR-CALDESC:Händelser för Visit Pajala
REFRESH-INTERVAL;VALUE=DURATION:PT1H
X-Robots-Tag:noindex
X-PUBLISHED-TTL:PT1H
BEGIN:VTIMEZONE
TZID:Europe/Stockholm
BEGIN:DAYLIGHT
TZOFFSETFROM:+0100
TZOFFSETTO:+0200
TZNAME:CEST
DTSTART:20260329T010000
END:DAYLIGHT
BEGIN:STANDARD
TZOFFSETFROM:+0200
TZOFFSETTO:+0100
TZNAME:CET
DTSTART:20261025T010000
END:STANDARD
END:VTIMEZONE
BEGIN:VEVENT
DTSTART;TZID=Europe/Stockholm:20260428T180000
DTEND;TZID=Europe/Stockholm:20260428T200700
DTSTAMP:20260422T235734
CREATED:20260420T120631Z
LAST-MODIFIED:20260420T120631Z
UID:10002609-1777399200-1777406820@visitpajala.se
SUMMARY:Bion i Pajala Visar: Michael
DESCRIPTION:SYNOPSIS\nEtt filmiskt porträtt av en av världens mest inflytelserika artister någonsin\, av hans liv och det musikaliska arvet efter honom. Den följer Michael Jacksons resa från upptäckten\, som sångare i Jackson Five\, till skapandet av den visionära artist som skulle bli den största underhållaren i världen. Det är här hans historia börjar.
URL:https://visitpajala.se/kalender/bion-i-pajala-visar-michael/2026-04-28/
LOCATION:Folkets Hus Pajala\, Fridhemsvägen 1A\, Pajala\, Sverige
ATTACH;FMTTYPE=image/jpeg:https://visitpajala.se/wp-content/uploads/2026/04/Michael.jpg
ORGANIZER;CN="Pajala Folkets Husf%C3%B6rening":MAILTO:folkets.hus.pajala@telia.com
END:VEVENT
BEGIN:VEVENT
DTSTART;TZID=Europe/Stockholm:20260429T180000
DTEND;TZID=Europe/Stockholm:20260429T200700
DTSTAMP:20260422T235734
CREATED:20260420T120631Z
LAST-MODIFIED:20260420T120631Z
UID:10002610-1777485600-1777493220@visitpajala.se
SUMMARY:Bion i Pajala Visar: Michael
DESCRIPTION:SYNOPSIS\nEtt filmiskt porträtt av en av världens mest inflytelserika artister någonsin\, av hans liv och det musikaliska arvet efter honom. Den följer Michael Jacksons resa från upptäckten\, som sångare i Jackson Five\, till skapandet av den visionära artist som skulle bli den största underhållaren i världen. Det är här hans historia börjar.
URL:https://visitpajala.se/kalender/bion-i-pajala-visar-michael/2026-04-29/
LOCATION:Folkets Hus Pajala\, Fridhemsvägen 1A\, Pajala\, Sverige
ATTACH;FMTTYPE=image/jpeg:https://visitpajala.se/wp-content/uploads/2026/04/Michael.jpg
ORGANIZER;CN="Pajala Folkets Husf%C3%B6rening":MAILTO:folkets.hus.pajala@telia.com
END:VEVENT
BEGIN:VEVENT
DTSTART;TZID=Europe/Stockholm:20260430T170000
DTEND;TZID=Europe/Stockholm:20260430T193000
DTSTAMP:20260422T235734
CREATED:20260421T115546Z
LAST-MODIFIED:20260421T115546Z
UID:10002613-1777568400-1777577400@visitpajala.se
SUMMARY:Majbrasa
DESCRIPTION:IFK Tärendö basket anordnar traditionsenlig majbrasa vid Folkets Hus.\nFörsäljning av grillade hamburgare\, kaffe & hembakt fika samt lotter. Brandkåren är på plats och visar upp sig.
URL:https://visitpajala.se/kalender/majbrasa-2/
LOCATION:Folkets Hus Tärendö\, Sverige
CATEGORIES:Familjeunderhållning
ATTACH;FMTTYPE=image/png:https://visitpajala.se/wp-content/uploads/2026/04/1_20260420_151844_0000.png
END:VEVENT
BEGIN:VEVENT
DTSTART;TZID=Europe/Stockholm:20260430T180000
DTEND;TZID=Europe/Stockholm:20260430T190000
DTSTAMP:20260422T235734
CREATED:20260415T095639Z
LAST-MODIFIED:20260415T095639Z
UID:10002603-1777572000-1777575600@visitpajala.se
SUMMARY:Majbrasa
DESCRIPTION:Majbrasa med sång på Udden i Kangos. Grillad korv till alla barn. Fikaförsäljning. Besökare ombeds parkera uppe på vägen och promenera ner
URL:https://visitpajala.se/kalender/majbrasa/
LOCATION:Uddens Fritidsområde\, Uddenvägen 1\, Kangos\, Pajala\, 98497\, Sverige
CATEGORIES:Familjeunderhållning
ATTACH;FMTTYPE=image/jpeg:https://visitpajala.se/wp-content/uploads/2026/04/inbound5186734109599571008.jpg
ORGANIZER;CN="Kangos Idrottsklubb":MAILTO:kangosik@kangos.com
END:VEVENT
BEGIN:VEVENT
DTSTART;TZID=Europe/Stockholm:20260509T110000
DTEND;TZID=Europe/Stockholm:20260509T150000
DTSTAMP:20260422T235734
CREATED:20260417T110142Z
LAST-MODIFIED:20260417T110142Z
UID:10002608-1778324400-1778338800@visitpajala.se
SUMMARY:MEÄNPÄIVÄ 2026
DESCRIPTION:Pajala och Kolari kommuners gemensamma kulturdag\, i år på Kolari bibliotek //\nPajalan ja Kolarin kunnitten yhteinen kulttuuripäivä\, tänä vuona Kolarin kirjastossa.\nOBS! Kl. 11-15.00 svensk tid. \nI PROGRAMMET // OHJELMASSA: \n– ”Tunteistasi kauneimmat laulut tee ja kaipuusi kevenee.”\nElina Alatörmänen\, låtskrivare // lauluntekiä. elinamusic.fi \n– Hur bevarar vi dialekten? Funderingar av Unto Matinlompolo //\nMiltäs met saama murtheen säilymhään? tuumaa Unto Matinlompolo \n– Musik bryr sig inte om ålder // Musiikki ei perusta iästä\nPajala Dragspelsgille feat. Pajala Kulturskola \n– Alaston hirvi – Tornionlaaksolaisen huumorin tutkimuslaitoksessa\nHannu Alatalo presenterar sin bok // Hannu Alatalo kertoo hänen kirjasta \n– Tornionlaakson neuvoston kulttuuriavustuksesta ja tominasta\, toiminanjohtaja Tuula Ajanki //\nVerksamhetsledare Tuula Ajanki berättar om Tornedalsrådets kulturbidrag och verksamhet \n– Tornedalsteatern firar 40 år – producent Mia Fors berättar om gångna teaterår //\nTornionlaakson teatteri juhlii 40 vuotta – tuottaja Mia Fors kertoo teatterivuosista \n– Hoppets mur – vi skapar tillsammans ett bestående minne av den gränsöverskridande kulturdagen Meänpäivä //\nToivon muuri – luoma yhessä kestävän muiston rajatommasta kulttuuripäivästä Meänpäivä \n– Snickra en fågelholk – familjeworkshop under ledning av Kjell Kangas //\nNikkaroi linnunholkin – työpaja perheile Kankhaan Kjellin johola \n– Pysselhörna\, traditionella lekar och annat skoj för barnen //\nPuuhausnurkka\, perineleikkiä ja muuta mukavaa lapsile \n– Försäljning/visning av lokalt hantverk\, bakverk\, böcker\, föreningar etc //\nPaikalista käsityötä\, leivoksia\, kirjoja\, föreninkiä y m myynissä/näkösellä \n– Kaffe och fika // Kahvia ja nisua
URL:https://visitpajala.se/kalender/meanpaiva-2026/
LOCATION:Biblioteket i Finska Kolari\, Isopalontie 2\, Kolari\, Finland\, 95900\, Sverige
ATTACH;FMTTYPE=image/png:https://visitpajala.se/wp-content/uploads/2026/04/Meanpaiva-annons-1-1.png
END:VEVENT
BEGIN:VEVENT
DTSTART;TZID=Europe/Stockholm:20260511T180000
DTEND;TZID=Europe/Stockholm:20260511T194000
DTSTAMP:20260422T235734
CREATED:20260421T115604Z
LAST-MODIFIED:20260421T115604Z
UID:10002611-1778522400-1778528400@visitpajala.se
SUMMARY:Bion i Pajala Visar: Whistle
DESCRIPTION:SYNOPSIS\nEn grupp ungdomar hittar ett föremål med en förbannelse över sig: en gammal dödsvissla från Aztekriket. Ljudet från den isar inte bara blodet på dom som hör det\, det frammanar deras onaturliga dödsögonblick.
URL:https://visitpajala.se/kalender/bion-i-pajala-visar-whistle/2026-05-11/
LOCATION:Folkets hus Pajala\, Fridhemsvägen 1A\, Pajala\, 98431\, Sverige
ATTACH;FMTTYPE=image/jpeg:https://visitpajala.se/wp-content/uploads/2026/04/Whistle.jpg
ORGANIZER;CN="Pajala Folkets Husf%C3%B6rening":MAILTO:folkets.hus.pajala@telia.com
END:VEVENT
BEGIN:VEVENT
DTSTART;TZID=Europe/Stockholm:20260512T180000
DTEND;TZID=Europe/Stockholm:20260512T194000
DTSTAMP:20260422T235734
CREATED:20260421T115604Z
LAST-MODIFIED:20260421T115604Z
UID:10002612-1778608800-1778614800@visitpajala.se
SUMMARY:Bion i Pajala Visar: Whistle
DESCRIPTION:SYNOPSIS\nEn grupp ungdomar hittar ett föremål med en förbannelse över sig: en gammal dödsvissla från Aztekriket. Ljudet från den isar inte bara blodet på dom som hör det\, det frammanar deras onaturliga dödsögonblick.
URL:https://visitpajala.se/kalender/bion-i-pajala-visar-whistle/2026-05-12/
LOCATION:Folkets hus Pajala\, Fridhemsvägen 1A\, Pajala\, 98431\, Sverige
ATTACH;FMTTYPE=image/jpeg:https://visitpajala.se/wp-content/uploads/2026/04/Whistle.jpg
ORGANIZER;CN="Pajala Folkets Husf%C3%B6rening":MAILTO:folkets.hus.pajala@telia.com
END:VEVENT
BEGIN:VEVENT
DTSTART;TZID=Europe/Stockholm:20260703T100000
DTEND;TZID=Europe/Stockholm:20260705T170000
DTSTAMP:20260422T235734
CREATED:20260121T144159Z
LAST-MODIFIED:20260121T144159Z
UID:10002547-1783072800-1783270800@visitpajala.se
SUMMARY:Pajala Marknad
DESCRIPTION:Pajala Marknad – Norrbottens största sommarmarknad.\nMed anor från 1700-talet. Infaller alltid andra helgen efter midsommar. \nHos oss finns något för alla åldrar. \n  \nVi ses i vimlet kompisar :)
URL:https://visitpajala.se/kalender/pajala-marknad-2/
CATEGORIES:Pajala marknad
ATTACH;FMTTYPE=image/png:https://visitpajala.se/wp-content/uploads/2026/01/Pm-3.png
ORGANIZER;CN="Pajala Turism & Evenemang - Visitpajala":MAILTO:visitpajala@pajala.se
END:VEVENT
BEGIN:VEVENT
DTSTART;TZID=Europe/Stockholm:20260710T180000
DTEND;TZID=Europe/Stockholm:20260711T180000
DTSTAMP:20260422T235734
CREATED:20260112T092431Z
LAST-MODIFIED:20260112T092431Z
UID:10002536-1783706400-1783792800@visitpajala.se
SUMMARY:Tornedalscupen
DESCRIPTION:13:e upplagan för Norrbottens största fotbollscup för aktiva och motionärer.\nSista anmälningsdag: 28/6
URL:https://visitpajala.se/kalender/tornedalscupen/
LOCATION:Riavallen\, Johans väg 6\, Pajala\, Pajala\, 98431\, Sverige
ATTACH;FMTTYPE=image/jpeg:https://visitpajala.se/wp-content/uploads/2026/01/DSC_0558-scaled.jpeg
END:VEVENT
END:VCALENDAR