BEGIN:VCALENDAR
VERSION:2.0
PRODID:-//Visit Pajala - ECPv6.14.2//NONSGML v1.0//EN
CALSCALE:GREGORIAN
METHOD:PUBLISH
X-WR-CALNAME:Visit Pajala
X-ORIGINAL-URL:https://visitpajala.se
X-WR-CALDESC:Händelser för Visit Pajala
REFRESH-INTERVAL;VALUE=DURATION:PT1H
X-Robots-Tag:noindex
X-PUBLISHED-TTL:PT1H
BEGIN:VTIMEZONE
TZID:Europe/Stockholm
BEGIN:DAYLIGHT
TZOFFSETFROM:+0100
TZOFFSETTO:+0200
TZNAME:CEST
DTSTART:20230326T010000
END:DAYLIGHT
BEGIN:STANDARD
TZOFFSETFROM:+0200
TZOFFSETTO:+0100
TZNAME:CET
DTSTART:20231029T010000
END:STANDARD
END:VTIMEZONE
BEGIN:VEVENT
DTSTART;TZID=Europe/Stockholm:20230726T100000
DTEND;TZID=Europe/Stockholm:20230726T150000
DTSTAMP:20260421T151449
CREATED:20230713T140301Z
LAST-MODIFIED:20230714T075859Z
UID:10000016-1690365600-1690383600@visitpajala.se
SUMMARY:Spela brädspel på Soltorget - VARP
DESCRIPTION:11:00 – 16:00\n– Drop-in brädspelshäng\nSpela brädspel med nya och gamla kompisar. Vi har ett stort utbud av olika spel samt vana brädspelare som kan hjälpa dig och svara på frågor.\n– Drop-in bibliotek\nTema: spel och nördkultur \n11:00\nKategori: Samarbete\nSpela i en grupp som leds av en van brädspelare. \n11:45\nKategori: Expert\nSpela i en grupp som leds av en van brädspelare. \n12:30\nKategori: Strategi\nSpela i en grupp som leds av en van brädspelare. \n13:15\nKategori: Expansion\nSpela i en grupp som leds av en van brädspelare. \nVARP är ett sommarkulturprojekt som drivs av Pajala bibliotek tillsammans med Pajala kulturavdelning. Varje onsdag under 8 veckor kommer VARP att finnas på Soltorget i Centrala Pajala! Varje vecka blir det nya aktiviteter och evenemang till folk i alla åldrar. Vissa dagar kommer vi också att finnas i Tärendö och Korpilombolo! \nDet finns något för dig här i Pajala oavsett vad du gillar göra. Vi har ett brett utbud av föreställningar\, konserter\, verkstad och mer! Även när det inte pågår ett evenemang är du värmt välkommen att hänga i VARP tältet eller läsa på vårt pop-up bibliotek. \nVARP är till för alla: äldre\, unga\, turister\, Pajalabo\, kulturnördar och nybörjare. \nFör mer information:\n \nHämta ditt aktivitetsprogram på Pajala bibliotek eller Visit Pajala på Soltorget och följ @varp_pajala på instagram och få live uppdateringar.\n\nVälkomna!
URL:https://visitpajala.se/kalender/spela-bradspel-pa-soltorget-varp/
LOCATION:Soltorgsscenen\, Soltorget i Centrum\, Pajala\, 98431\, Sverige
CATEGORIES:Familjeunderhållning
ATTACH;FMTTYPE=image/jpeg:https://visitpajala.se/wp-content/uploads/2023/07/bradspel-bild.jpg
END:VEVENT
BEGIN:VEVENT
DTSTART;TZID=Europe/Stockholm:20230722T190000
DTEND;TZID=Europe/Stockholm:20230722T230000
DTSTAMP:20260421T151449
CREATED:20230717T060740Z
LAST-MODIFIED:20230717T060740Z
UID:10000046-1690052400-1690066800@visitpajala.se
SUMMARY:Semesterdans till Thor Görans
DESCRIPTION:Dans till Thor Görans på Kaunisvaara Folkets hus.\n250kr inträde\, swish eller kontant.\nHamburgare\, kaffe och fika till salu.
URL:https://visitpajala.se/kalender/semesterdans-till-thor-gorans/
LOCATION:Kaunisvaara folkets hus\, Kaunisvaara 133\, Sverige
CATEGORIES:Musik
END:VEVENT
BEGIN:VEVENT
DTSTART;TZID=Europe/Stockholm:20230722T090000
DTEND;TZID=Europe/Stockholm:20230722T140000
DTSTAMP:20260421T151449
CREATED:20230717T060900Z
LAST-MODIFIED:20230718T120643Z
UID:10000047-1690016400-1690034400@visitpajala.se
SUMMARY:Loppisrunda längsmed gränsälven
DESCRIPTION:Välkommen till kommunens längsta färdiglagade loppisrunda. \nFlera säljare på adresserna. \nPå Heiskari rastplats har Aareavaara Fritidsförening barnaktiviteter samt försäljning av hamburgare\, kaffe och fika.
URL:https://visitpajala.se/kalender/loppisrunda-langsmed-gransalven/
LOCATION:Aareavaara\, Sverige
CATEGORIES:Familjeunderhållning
ORGANIZER;CN="Aareavaara fritidsf%C3%B6rening":MAILTO:aareavaara.ff@gmail.com
END:VEVENT
BEGIN:VEVENT
DTSTART;TZID=Europe/Stockholm:20230719T090000
DTEND;TZID=Europe/Stockholm:20230719T153000
DTSTAMP:20260421T151449
CREATED:20230712T134041Z
LAST-MODIFIED:20230714T080024Z
UID:10000020-1689757200-1689780600@visitpajala.se
SUMMARY:Föreläsning och skrivarverkstad med författare Andrea Lundgren - VARP
DESCRIPTION:10:00 – 16:30\nPop-up bibliotek: skrivande\, dramaturgi\, Norrbottnisk litteratur och Andreas boktips \n13:00 – 14:00\nFöreläsning med Andrea Lundgren \n15:00 – 16:30\nSkrivarverkstad för ungdomar och vuxna \nFöranmälan för skrivarverkstad krävs\nAnmäl dig på: kultur@pajala.se \nAndrea Lundgren är en Norrbottnisk författare från Boden som har skrivit I tunga vintrars mage (2010)\, Glupahungern (2014)\, prisbelönade Nordiska fauna (2018) och den Underjordiska solen (2022). \nVARP är ett sommarkulturprojekt som drivs av Pajala kulturavdelning. Varje onsdag under 8 veckor kommer VARP att finnas på Soltorget i Centrala Pajala! Varje vecka blir det nya aktiviteter och evenemang till folk i alla åldrar. Vissa dagar kommer vi också att finnas i Tärendö och Korpilombolo! \nDet finns något för dig här i Pajala oavsett vad du gillar göra. Vi har ett brett utbud av föreställningar\, konserter\, verkstad och mer! Även när det inte pågår ett evenemang är du värmt välkommen att hänga i VARP tältet eller läsa på vårt pop-up bibliotek. \nVARP är till för alla: äldre\, unga\, turister\, Pajalabo\, kulturnördar och nybörjare. \nFör mer information: \nHämta ditt aktivitetsprogram på Pajala bibliotek eller Visit Pajala på Soltorget! \nFölj @varp_pajala på instagram och få live uppdateringar! \nVälkomna!
URL:https://visitpajala.se/kalender/forelasning-och-skrivarverkstad-med-forfattare-andrea-lundgren-varp/
LOCATION:Soltorgsscenen\, Soltorget i Centrum\, Pajala\, 98431\, Sverige
CATEGORIES:Familjeunderhållning,Konst
ATTACH;FMTTYPE=image/jpeg:https://visitpajala.se/wp-content/uploads/2023/07/andrea-lundgren-vBy7ng-portrait.jpg
END:VEVENT
BEGIN:VEVENT
DTSTART;TZID=Europe/Stockholm:20230718T110000
DTEND;TZID=Europe/Stockholm:20230718T130000
DTSTAMP:20260421T151449
CREATED:20230714T080145Z
LAST-MODIFIED:20230714T080145Z
UID:10000024-1689678000-1689685200@visitpajala.se
SUMMARY:Ponnyridning med Pajala hästkraft - VARP
DESCRIPTION:Rida ponnyer i Tärendö med Pajala hästkraft! \nPajala hästkraft kommer att finnas på Tärendöholmsparkeringen mellan 12:00 och 14:00 med ponnyer och käpphästar! Alla är välkomna! \nVARP är ett sommarkulturprojekt som drivs av Pajala bibliotek tillsammans med Pajala kulturavdelning. Varje onsdag (och ibland även andra dagar!) under 8 veckor kommer VARP att finnas på Soltorget i Centrala Pajala! Varje vecka blir det nya aktiviteter och evenemang till folk i alla åldrar. Vissa dagar kommer vi att finnas i Tärendö (som t.ex. för detta evenemang!) eller Korpilombolo. \nDet finns något för dig här i Pajala oavsett vad du gillar göra. Vi har ett brett utbud av föreställningar\, konserter\, verkstad och mer! Även när det inte pågår ett evenemang är du värmt välkommen att hänga i VARP tältet eller läsa på vårt pop-up bibliotek. \nVARP är till för alla: äldre\, unga\, turister\, Pajalabo\, kulturnördar och nybörjare. \nFör mer information:\n \nHämta ditt aktivitetsprogram på Pajala bibliotek eller Visit Pajala på Soltorget och följ @varp_pajala på instagram och få live uppdateringar.\n\nVälkomna!
URL:https://visitpajala.se/kalender/ponnyridning-med-pajala-hastkraft-varp/
LOCATION:Tärendöholmens parkering\, Bifurkationsvägen 29\, Tärendö\, 980 61\, Sverige
CATEGORIES:Familjeunderhållning
ATTACH;FMTTYPE=image/jpeg:https://visitpajala.se/wp-content/uploads/2023/07/ponnyridning.jpg
END:VEVENT
BEGIN:VEVENT
DTSTART;TZID=Europe/Stockholm:20230714T080000
DTEND;TZID=Europe/Stockholm:20230716T010000
DTSTAMP:20260421T151449
CREATED:20230714T080626Z
LAST-MODIFIED:20230714T080626Z
UID:10000042-1689321600-1689469200@visitpajala.se
SUMMARY:Kangos Laxfestival
DESCRIPTION:Årlig laxfisketävling med underhållning för både stor och liten. Trollkarl\, ballongfigurer och metartävling för de små\, träning\, loppis\, prisutdelning på startkort\, laxsoppa serveras till lunch och mycket mer! Discobingo fredag kl.18.00 följt av Kiruna Kickers på scen kl.21.00. Lördag dans till Carisma kl.21.00 på dansbanan och i puben spelar Kiruna Kickers.
URL:https://visitpajala.se/kalender/kangos-laxfestival/
LOCATION:Udden\, Uddenvägen 1\, Kangos\, Pajala\, 98497\, Sverige
CATEGORIES:Musik
ATTACH;FMTTYPE=image/jpeg:https://visitpajala.se/wp-content/uploads/2023/07/IMG_20230713_164031.jpg
ORGANIZER;CN="Kangos Idrottsklubb%2C Kangos FVO":MAILTO:kangosik@kangos.com
END:VEVENT
BEGIN:VEVENT
DTSTART;TZID=Europe/Stockholm:20230712T120000
DTEND;TZID=Europe/Stockholm:20230712T170000
DTSTAMP:20260421T151449
CREATED:20230712T125555Z
LAST-MODIFIED:20230712T125555Z
UID:10000014-1689163200-1689181200@visitpajala.se
SUMMARY:Peking opera med VARP
DESCRIPTION:kl 13:00 – 18:00\nPop-up bibliotek\, tema: kinesisk kultur och opera\nPyssla: gör egen Pekingopera-mask \nkl 13:00-13:40\nPeking opera föreställning ”Modigt berg är blått” \nkl 16:15-16:45\nKungqu opera föreställning ”Berättelse från Tangdynastin” \nkl 17:00-17:40\nWorkshop inom smink och akrobatik \nVARP är ett sommarkulturprojekt som drivs av Pajala bibliotek tillsammans med Pajala kulturavdelning. Varje onsdag under 8 veckor kommer VARP att finnas på Soltorget i Centrala Pajala! Varje vecka blir det nya aktiviteter och evenemang till folk i alla åldrar. Vissa dagar kommer vi också att finnas i Tärendö och Korpilombolo! \nDet finns något för dig här i Pajala oavsett vad du gillar göra. Vi har ett brett utbud av föreställningar\, konserter\, verkstad och mer! Även när det inte pågår ett evenemang är du värmt välkommen att hänga i VARP tältet eller läsa på vårt pop-up bibliotek. \nVARP är till för alla: äldre\, unga\, turister\, Pajalabo\, kulturnördar och nybörjare. \nVälkomna!
URL:https://visitpajala.se/kalender/peking-opera-med-varp/2023-07-12/
LOCATION:Soltorgsscenen\, Soltorget i Centrum\, Pajala\, 98431\, Sverige
CATEGORIES:Familjeunderhållning,Konst,Musik
ATTACH;FMTTYPE=image/jpeg:https://visitpajala.se/wp-content/uploads/2023/07/Peking-opera3.jpg
END:VEVENT
END:VCALENDAR