BEGIN:VCALENDAR
VERSION:2.0
PRODID:-//Visit Pajala - ECPv6.14.2//NONSGML v1.0//EN
CALSCALE:GREGORIAN
METHOD:PUBLISH
X-WR-CALNAME:Visit Pajala
X-ORIGINAL-URL:https://visitpajala.se
X-WR-CALDESC:Händelser för Visit Pajala
REFRESH-INTERVAL;VALUE=DURATION:PT1H
X-Robots-Tag:noindex
X-PUBLISHED-TTL:PT1H
BEGIN:VTIMEZONE
TZID:Europe/Stockholm
BEGIN:DAYLIGHT
TZOFFSETFROM:+0100
TZOFFSETTO:+0200
TZNAME:CEST
DTSTART:20260329T010000
END:DAYLIGHT
BEGIN:STANDARD
TZOFFSETFROM:+0200
TZOFFSETTO:+0100
TZNAME:CET
DTSTART:20261025T010000
END:STANDARD
END:VTIMEZONE
BEGIN:VEVENT
DTSTART;TZID=Europe/Stockholm:20260421T180000
DTEND;TZID=Europe/Stockholm:20260421T223500
DTSTAMP:20260421T014919
CREATED:20260415T134247Z
LAST-MODIFIED:20260415T134247Z
UID:10002604-1776794400-1776810900@visitpajala.se
SUMMARY:Bion i Pajala Visar: Kill Bill - The Whole Bloody Affair
DESCRIPTION:SYNOPSIS\n”Kill Bill” släpptes ursprungligen som två filmer\, men för Tarantino var det alltid EN film i två delar. Hans fjärde film. Detta reflekteras i denna omklippta version där ”Volume 1” och ”Volume 2” sömlöst klippts ihop till en film tillsammans med tidigare bortklippt material och som under många år varit otillgänglig för allmänheten.
URL:https://visitpajala.se/kalender/bion-i-pajala-visar-kill-bill-the-whole-bloody-affair/2026-04-21/
LOCATION:Folkets hus Pajala\, Fridhemsvägen 1A\, Pajala\, 98431\, Sverige
ATTACH;FMTTYPE=image/jpeg:https://visitpajala.se/wp-content/uploads/2026/04/Kill-Bill.jpg
ORGANIZER;CN="Pajala Folkets Husf%C3%B6rening":MAILTO:folkets.hus.pajala@telia.com
END:VEVENT
END:VCALENDAR