BEGIN:VCALENDAR
VERSION:2.0
PRODID:-//Visit Pajala - ECPv6.14.2//NONSGML v1.0//EN
CALSCALE:GREGORIAN
METHOD:PUBLISH
X-WR-CALNAME:Visit Pajala
X-ORIGINAL-URL:https://visitpajala.se
X-WR-CALDESC:Händelser för Visit Pajala
REFRESH-INTERVAL;VALUE=DURATION:PT1H
X-Robots-Tag:noindex
X-PUBLISHED-TTL:PT1H
BEGIN:VTIMEZONE
TZID:Europe/Stockholm
BEGIN:DAYLIGHT
TZOFFSETFROM:+0100
TZOFFSETTO:+0200
TZNAME:CEST
DTSTART:20260329T010000
END:DAYLIGHT
BEGIN:STANDARD
TZOFFSETFROM:+0200
TZOFFSETTO:+0100
TZNAME:CET
DTSTART:20261025T010000
END:STANDARD
END:VTIMEZONE
BEGIN:VEVENT
DTSTART;TZID=Europe/Stockholm:20260223T110000
DTEND;TZID=Europe/Stockholm:20260305T170000
DTSTAMP:20260422T121831
CREATED:20260224T142227Z
LAST-MODIFIED:20260224T142227Z
UID:10002571-1771844400-1772730000@visitpajala.se
SUMMARY:Familjeveckor
DESCRIPTION:v.9 Måndag 11-17\nTisdag 11-18\nTorsdag 9-15\nFredag 12-16\nLördag 12-16 \nV.10 Måndag 11-17\nTisdag 11-18\nOnsdag 9-15\nTorsdag 9-15
URL:https://visitpajala.se/kalender/familjeveckor/
LOCATION:Pajala bibliotek\, Biblioteksvägen 1\, Pajala\, 98432\, Sverige
CATEGORIES:Familjeunderhållning
ATTACH;FMTTYPE=image/png:https://visitpajala.se/wp-content/uploads/2026/02/Familjeveckor-pa-bibblo.png
ORGANIZER;CN="Pajala bibliotek":MAILTO:bibliotek@pajala.se
END:VEVENT
END:VCALENDAR