BEGIN:VCALENDAR
VERSION:2.0
PRODID:-//Visit Pajala - ECPv6.14.2//NONSGML v1.0//EN
CALSCALE:GREGORIAN
METHOD:PUBLISH
X-WR-CALNAME:Visit Pajala
X-ORIGINAL-URL:https://visitpajala.se
X-WR-CALDESC:Händelser för Visit Pajala
REFRESH-INTERVAL;VALUE=DURATION:PT1H
X-Robots-Tag:noindex
X-PUBLISHED-TTL:PT1H
BEGIN:VTIMEZONE
TZID:Europe/Stockholm
BEGIN:DAYLIGHT
TZOFFSETFROM:+0100
TZOFFSETTO:+0200
TZNAME:CEST
DTSTART:20260329T010000
END:DAYLIGHT
BEGIN:STANDARD
TZOFFSETFROM:+0200
TZOFFSETTO:+0100
TZNAME:CET
DTSTART:20261025T010000
END:STANDARD
END:VTIMEZONE
BEGIN:VEVENT
DTSTART;TZID=Europe/Stockholm:20260113T180000
DTEND;TZID=Europe/Stockholm:20260113T192700
DTSTAMP:20260422T093708
CREATED:20260112T092450Z
LAST-MODIFIED:20260112T092450Z
UID:10002534-1768327200-1768332420@visitpajala.se
SUMMARY:Bion i Pajala Visar: 100 Liter Guld
DESCRIPTION:100 liter guld är den roligaste (och enda) finska västernfilmen du sett om systerskap och alkoholism. Pirkko och Taina är två systrar som följer släktens tradition som sahti*-tillverkare. Då deras tredje syster Päivi en dag dyker upp med sin nya fästman\, så vill hon att de gör 100 liter sahti till hennes stundande bröllop. Systrarna sätter genast i gång med förberedelserna eftersom den perfekta sahtin tar flera veckor att framställa. Både deras rykte och familjerelationer står nu på spel\, de måste få till en fantastisk sats sahti. Och det lyckas de med\, så pass bra att den obligatoriska smakprovningen spårar ur totalt. Två dagar innan bröllopet vaknar systrarna till den grymma verkligheten: sahtin är slut. Här börjar en kamp mot klockan där alla medel är tillåtna. En humoristisk\, mörk berättelse om att fastna i dåtid\, om självförakt och om förlåtelse. *Sahti är en ölsort som bryggs på ett litet område i Finland. Den lilla staden Sysmä ses ofta som dryckens hemort. På grund av hur sahtin tillverkas har den mycket kort hållbarhet och måste därför inmundigas snabbt efter färdigställning.
URL:https://visitpajala.se/kalender/bion-i-pajala-visar-100-liter-guld/2026-01-13/
LOCATION:Folkets hus Pajala\, Fridhemsvägen 1A\, Pajala\, 98431\, Sverige
ATTACH;FMTTYPE=image/jpeg:https://visitpajala.se/wp-content/uploads/2026/01/100-liter-guld.jpg
ORGANIZER;CN="Pajala Folkets Husf%C3%B6rening":MAILTO:folkets.hus.pajala@telia.com
END:VEVENT
END:VCALENDAR