BEGIN:VCALENDAR
VERSION:2.0
PRODID:-//Visit Pajala - ECPv6.14.2//NONSGML v1.0//EN
CALSCALE:GREGORIAN
METHOD:PUBLISH
X-ORIGINAL-URL:https://visitpajala.se
X-WR-CALDESC:Händelser för Visit Pajala
REFRESH-INTERVAL;VALUE=DURATION:PT1H
X-Robots-Tag:noindex
X-PUBLISHED-TTL:PT1H
BEGIN:VTIMEZONE
TZID:Europe/Stockholm
BEGIN:DAYLIGHT
TZOFFSETFROM:+0100
TZOFFSETTO:+0200
TZNAME:CEST
DTSTART:20250330T010000
END:DAYLIGHT
BEGIN:STANDARD
TZOFFSETFROM:+0200
TZOFFSETTO:+0100
TZNAME:CET
DTSTART:20251026T010000
END:STANDARD
END:VTIMEZONE
BEGIN:VEVENT
DTSTART;TZID=Europe/Stockholm:20251229T150000
DTEND;TZID=Europe/Stockholm:20251229T163400
DTSTAMP:20260422T094831
CREATED:20251211T084420Z
LAST-MODIFIED:20251211T084420Z
UID:10002524-1767020400-1767026040@visitpajala.se
SUMMARY:Bion i Pajala Visar: Håkan Bråkan 003
DESCRIPTION:SYNOPSIS\nI den nya filmen får vi följa Håkans actionspäckade äventyr i en apokalyptisk zombievärld och med ett spännande agenttema.
URL:https://visitpajala.se/kalender/bion-i-pajala-visar-hakan-brakan-003/2025-12-29/
LOCATION:Folkets hus Pajala\, Fridhemsvägen 1A\, Pajala\, 98431\, Sverige
ATTACH;FMTTYPE=image/jpeg:https://visitpajala.se/wp-content/uploads/2025/12/Hakan-brakan-003.jpg
ORGANIZER;CN="Pajala Folkets Husf%C3%B6rening":MAILTO:folkets.hus.pajala@telia.com
END:VEVENT
BEGIN:VEVENT
DTSTART;TZID=Europe/Stockholm:20251229T180000
DTEND;TZID=Europe/Stockholm:20251229T194900
DTSTAMP:20260422T094831
CREATED:20251211T084442Z
LAST-MODIFIED:20251211T084442Z
UID:10002526-1767031200-1767037740@visitpajala.se
SUMMARY:Bion i Pajala Visar: Regnmannen
DESCRIPTION:SYNOPSIS\n”Regnmannen” är ett feelgood-drama fullt av värme\, skratt och tårar baserad på Jonas Karlssons bok med samma namn.
URL:https://visitpajala.se/kalender/bion-i-pajala-visar-regnmannen/2025-12-29/
LOCATION:Folkets hus Pajala\, Fridhemsvägen 1A\, Pajala\, 98431\, Sverige
ATTACH;FMTTYPE=image/jpeg:https://visitpajala.se/wp-content/uploads/2025/12/Regnmannen.jpg
ORGANIZER;CN="Pajala Folkets Husf%C3%B6rening":MAILTO:folkets.hus.pajala@telia.com
END:VEVENT
END:VCALENDAR