BEGIN:VCALENDAR
VERSION:2.0
PRODID:-//Visit Pajala - ECPv6.14.2//NONSGML v1.0//EN
CALSCALE:GREGORIAN
METHOD:PUBLISH
X-WR-CALNAME:Visit Pajala
X-ORIGINAL-URL:https://visitpajala.se
X-WR-CALDESC:Händelser för Visit Pajala
REFRESH-INTERVAL;VALUE=DURATION:PT1H
X-Robots-Tag:noindex
X-PUBLISHED-TTL:PT1H
BEGIN:VTIMEZONE
TZID:Europe/Stockholm
BEGIN:DAYLIGHT
TZOFFSETFROM:+0100
TZOFFSETTO:+0200
TZNAME:CEST
DTSTART:20250330T010000
END:DAYLIGHT
BEGIN:STANDARD
TZOFFSETFROM:+0200
TZOFFSETTO:+0100
TZNAME:CET
DTSTART:20251026T010000
END:STANDARD
END:VTIMEZONE
BEGIN:VEVENT
DTSTART;TZID=Europe/Stockholm:20251206T110000
DTEND;TZID=Europe/Stockholm:20251206T140000
DTSTAMP:20260424T125112
CREATED:20251007T114113Z
LAST-MODIFIED:20251117T100853Z
UID:10002113-1765018800-1765029600@visitpajala.se
SUMMARY:Kangos Julmarknad
DESCRIPTION:Välkommen till den årliga julmarknaden i Kangos lördagen den 6 december kl.11-14.\nBoka gärna marknadsbord i god tid\, 200kr (extra bord +100kr) kontakta 070-6920718
URL:https://visitpajala.se/kalender/kangos-julmarknad-2/
LOCATION:Allhuset i Kangos\, Kangos\, 98063\, Sverige
CATEGORIES:Kaffe/fika/mat
ATTACH;FMTTYPE=image/jpeg:https://visitpajala.se/wp-content/uploads/2025/10/Green-and-Beige-Ilustrative-Christmas-Market-Poster_20251117_103507_0000.jpg
ORGANIZER;CN="Kangos Idrottsklubb":MAILTO:kangosik@kangos.com
END:VEVENT
END:VCALENDAR