BEGIN:VCALENDAR
VERSION:2.0
PRODID:-//Visit Pajala - ECPv6.14.2//NONSGML v1.0//EN
CALSCALE:GREGORIAN
METHOD:PUBLISH
X-ORIGINAL-URL:https://visitpajala.se
X-WR-CALDESC:Händelser för Visit Pajala
REFRESH-INTERVAL;VALUE=DURATION:PT1H
X-Robots-Tag:noindex
X-PUBLISHED-TTL:PT1H
BEGIN:VTIMEZONE
TZID:Europe/Stockholm
BEGIN:DAYLIGHT
TZOFFSETFROM:+0100
TZOFFSETTO:+0200
TZNAME:CEST
DTSTART:20250330T010000
END:DAYLIGHT
BEGIN:STANDARD
TZOFFSETFROM:+0200
TZOFFSETTO:+0100
TZNAME:CET
DTSTART:20251026T010000
END:STANDARD
END:VTIMEZONE
BEGIN:VEVENT
DTSTART;TZID=Europe/Stockholm:20251201T180000
DTEND;TZID=Europe/Stockholm:20251201T192800
DTSTAMP:20260422T180204
CREATED:20251120T133146Z
LAST-MODIFIED:20251120T133146Z
UID:10002510-1764612000-1764617280@visitpajala.se
SUMMARY:Bion i Pajala Visar: Sisu - Road to Revenge
DESCRIPTION:SYNOPSIS\nNär ”mannen som vägrar dö” återvänder till huset där hans familj brutalt mördades under kriget\, monterar han ner och lastar det på en lastbil för att bygga upp det igen på en säker plats.\nMen när den hänsynslöse Röda armé-befälhavaren som dödade hans familj återvänder\, fast besluten att avsluta jobbet\, exploderar en hänsynslös jakt tvärs över landet.
URL:https://visitpajala.se/kalender/bion-i-pajala-visar-sisu-road-to-revenge/2025-12-01/
LOCATION:Folkets hus Pajala\, Fridhemsvägen 1A\, Pajala\, 98431\, Sverige
ATTACH;FMTTYPE=image/jpeg:https://visitpajala.se/wp-content/uploads/2025/11/Sisu-2.jpg
ORGANIZER;CN="Pajala Folkets Husf%C3%B6rening":MAILTO:folkets.hus.pajala@telia.com
END:VEVENT
END:VCALENDAR