BEGIN:VCALENDAR
VERSION:2.0
PRODID:-//Visit Pajala - ECPv6.14.2//NONSGML v1.0//EN
CALSCALE:GREGORIAN
METHOD:PUBLISH
X-ORIGINAL-URL:https://visitpajala.se
X-WR-CALDESC:Händelser för Visit Pajala
REFRESH-INTERVAL;VALUE=DURATION:PT1H
X-Robots-Tag:noindex
X-PUBLISHED-TTL:PT1H
BEGIN:VTIMEZONE
TZID:Europe/Stockholm
BEGIN:DAYLIGHT
TZOFFSETFROM:+0100
TZOFFSETTO:+0200
TZNAME:CEST
DTSTART:20250330T010000
END:DAYLIGHT
BEGIN:STANDARD
TZOFFSETFROM:+0200
TZOFFSETTO:+0100
TZNAME:CET
DTSTART:20251026T010000
END:STANDARD
END:VTIMEZONE
BEGIN:VEVENT
DTSTART;TZID=Europe/Stockholm:20251127T190000
DTEND;TZID=Europe/Stockholm:20251127T203000
DTSTAMP:20260422T233803
CREATED:20250917T192420Z
LAST-MODIFIED:20250917T192420Z
UID:10002094-1764270000-1764275400@visitpajala.se
SUMMARY:Barndomshemmet
DESCRIPTION:Den 27/11 kommer Norrbottensteatern till oss med föreställningen ”Barndomshemmet” \n”Monica Törnells vis- och låtskatt har kantat min egen ungdom. Första kyssen. Svettig manchesterbyxa. Ullig pullover. Mensvärk. Nu skapar vi ett helt nytt drama efter samma visor. Här är perspektivet: hemvändande systrar till Luleå efter mammans begravning. Skuld. Skam. Döda flugor och Hälsingeskåp. Här minns de sin barndom. Men vad minns de? Rätt och fel finns inte – bara en svidande återförening som skapar sig själv framför våra ögon!” (Gunilla Röör\, regissör) \nHoppas vi ses!
URL:https://visitpajala.se/kalender/barndomshemmet-2/
LOCATION:Saittarova
CATEGORIES:Familjeunderhållning,Kultur
ATTACH;FMTTYPE=image/jpeg:https://visitpajala.se/wp-content/uploads/2025/09/Barndomshemmet-Saittarova.jpg
END:VEVENT
END:VCALENDAR