BEGIN:VCALENDAR
VERSION:2.0
PRODID:-//Visit Pajala - ECPv6.14.2//NONSGML v1.0//EN
CALSCALE:GREGORIAN
METHOD:PUBLISH
X-WR-CALNAME:Visit Pajala
X-ORIGINAL-URL:https://visitpajala.se
X-WR-CALDESC:Händelser för Visit Pajala
REFRESH-INTERVAL;VALUE=DURATION:PT1H
X-Robots-Tag:noindex
X-PUBLISHED-TTL:PT1H
BEGIN:VTIMEZONE
TZID:Europe/Stockholm
BEGIN:DAYLIGHT
TZOFFSETFROM:+0100
TZOFFSETTO:+0200
TZNAME:CEST
DTSTART:20250330T010000
END:DAYLIGHT
BEGIN:STANDARD
TZOFFSETFROM:+0200
TZOFFSETTO:+0100
TZNAME:CET
DTSTART:20251026T010000
END:STANDARD
END:VTIMEZONE
BEGIN:VEVENT
DTSTART;TZID=Europe/Stockholm:20251126T180000
DTEND;TZID=Europe/Stockholm:20251126T193000
DTSTAMP:20260423T004942
CREATED:20250917T192351Z
LAST-MODIFIED:20250917T192351Z
UID:10002093-1764180000-1764185400@visitpajala.se
SUMMARY:Barndomshemmet
DESCRIPTION:Den 26/11 kommer Norrbottensteatern till oss med föreställningen ”Barndomshemmet” \n”Monica Törnells vis- och låtskatt har kantat min egen ungdom. Första kyssen. Svettig manchesterbyxa. Ullig pullover. Mensvärk. Nu skapar vi ett helt nytt drama efter samma visor. Här är perspektivet: hemvändande systrar till Luleå efter mammans begravning. Skuld. Skam. Döda flugor och Hälsingeskåp. Här minns de sin barndom. Men vad minns de? Rätt och fel finns inte – bara en svidande återförening som skapar sig själv framför våra ögon!” (Gunilla Röör\, regissör) \nHoppas vi ses!
URL:https://visitpajala.se/kalender/barndomshemmet/
LOCATION:Jar-Ka IF klubblokal\, Jarhois\, Sverige
CATEGORIES:Familjeunderhållning,Kultur
ATTACH;FMTTYPE=image/jpeg:https://visitpajala.se/wp-content/uploads/2025/09/Barndomshemmet-A4-Kardis.jpg
END:VEVENT
BEGIN:VEVENT
DTSTART;TZID=Europe/Stockholm:20251126T180000
DTEND;TZID=Europe/Stockholm:20251126T200300
DTSTAMP:20260423T004942
CREATED:20251120T131858Z
LAST-MODIFIED:20251120T131858Z
UID:10002507-1764180000-1764187380@visitpajala.se
SUMMARY:Bion i Pajala Visar: Downton Abbey - The Grand Finale
DESCRIPTION:SYNOPSIS\nTredje långfilmen om Downton Abbey och dess boende och tjänstefolk\, följer familjen Crawley och deras tjänstefolk in i 1930-talet. När Mary plötsligt befinner sig i centrum för en offentlig skandal\, och familjen brottas med ekonomiska problem\, riskerar hela hushållet att drabbas av social vanära. Familjen Crawley måste välkomna förändring och tjänstefolket förbereder sig för ett nytt kapitel\, i vilket den nya generationen ska föra Downton Abbey in i framtiden.
URL:https://visitpajala.se/kalender/bion-i-pajala-visar-downton-abbey-the-grand-finale/2025-11-26/
LOCATION:Folkets hus Pajala\, Fridhemsvägen 1A\, Pajala\, 98431\, Sverige
ATTACH;FMTTYPE=image/jpeg:https://visitpajala.se/wp-content/uploads/2025/11/Downton.jpg
ORGANIZER;CN="Pajala Folkets Husf%C3%B6rening":MAILTO:folkets.hus.pajala@telia.com
END:VEVENT
END:VCALENDAR