BEGIN:VCALENDAR
VERSION:2.0
PRODID:-//Visit Pajala - ECPv6.14.2//NONSGML v1.0//EN
CALSCALE:GREGORIAN
METHOD:PUBLISH
X-WR-CALNAME:Visit Pajala
X-ORIGINAL-URL:https://visitpajala.se
X-WR-CALDESC:Händelser för Visit Pajala
REFRESH-INTERVAL;VALUE=DURATION:PT1H
X-Robots-Tag:noindex
X-PUBLISHED-TTL:PT1H
BEGIN:VTIMEZONE
TZID:Europe/Stockholm
BEGIN:DAYLIGHT
TZOFFSETFROM:+0100
TZOFFSETTO:+0200
TZNAME:CEST
DTSTART:20250330T010000
END:DAYLIGHT
BEGIN:STANDARD
TZOFFSETFROM:+0200
TZOFFSETTO:+0100
TZNAME:CET
DTSTART:20251026T010000
END:STANDARD
END:VTIMEZONE
BEGIN:VEVENT
DTSTART;TZID=Europe/Stockholm:20251121T180000
DTEND;TZID=Europe/Stockholm:20251121T200000
DTSTAMP:20260424T142646
CREATED:20251015T084114Z
LAST-MODIFIED:20251015T084222Z
UID:10002485-1763748000-1763755200@visitpajala.se
SUMMARY:Bion i Pajala visar: En sista kväll för Folkets Hus - med eftersnack och underhållning av Jonas Pietikäinen från Höstorkestern
DESCRIPTION:Kort synopsis\nVilka platser skapas för kultur när man har chansen att bygga ett helt nytt samhälle? Det frågar vi oss i mötet med delar av Kirunas ideella kulturliv mitt under stadsflytten\, när de slits mellan den gamla Folkets hus rörelsen och det nya Kulturhuset som ska drivas av ett kommunalt aktiebolag. \nEfter filmen – Cafékväll med fullständiga rättigheter. Jonas Pietikäinen från Höstorkestern underhåller och berättar om filmen kring Folkets Hus i Kiruna \nVälkommen.
URL:https://visitpajala.se/kalender/en-sista-kvall-for-folkets-hus-med-eftersnack-och-underhallning-av-jonas-pietikainen-fran-hostorkestern/
LOCATION:Folkets hus Pajala\, Fridhemsvägen 1A\, Pajala\, 98431\, Sverige
ATTACH;FMTTYPE=image/png:https://visitpajala.se/wp-content/uploads/2025/10/En-sista-kvall-9.png
ORGANIZER;CN="Folkets Hus Pajala":MAILTO:folkets.hus.pajala@telia.com
END:VEVENT
END:VCALENDAR