BEGIN:VCALENDAR
VERSION:2.0
PRODID:-//Visit Pajala - ECPv6.14.2//NONSGML v1.0//EN
CALSCALE:GREGORIAN
METHOD:PUBLISH
X-WR-CALNAME:Visit Pajala
X-ORIGINAL-URL:https://visitpajala.se
X-WR-CALDESC:Händelser för Visit Pajala
REFRESH-INTERVAL;VALUE=DURATION:PT1H
X-Robots-Tag:noindex
X-PUBLISHED-TTL:PT1H
BEGIN:VTIMEZONE
TZID:Europe/Stockholm
BEGIN:DAYLIGHT
TZOFFSETFROM:+0100
TZOFFSETTO:+0200
TZNAME:CEST
DTSTART:20250330T010000
END:DAYLIGHT
BEGIN:STANDARD
TZOFFSETFROM:+0200
TZOFFSETTO:+0100
TZNAME:CET
DTSTART:20251026T010000
END:STANDARD
END:VTIMEZONE
BEGIN:VEVENT
DTSTART;TZID=Europe/Stockholm:20251118T180000
DTEND;TZID=Europe/Stockholm:20251118T194000
DTSTAMP:20260424T142648
CREATED:20251110T092021Z
LAST-MODIFIED:20251110T092021Z
UID:10002501-1763488800-1763494800@visitpajala.se
SUMMARY:Bion i Pajala Visar: Chainsaw Man: The Movie – Reze Arc
DESCRIPTION:SYNOPSIS\nDenji har arbetat som djävulsjägare åt yakuzan för att betala av sin avlidna pappas skuld. Men när yakuzan förråder honom och lämnar honom att dö\, förändras allt. I sista stund offrar hans trofasta djävulshund Pochita – med motorsåg i bröstet – sig själv och sluter ett avtal som ger Denji nytt liv. Tillsammans blir de den ostoppbara: Chainsaw Man.
URL:https://visitpajala.se/kalender/bion-i-pajala-visar-chainsaw-man-the-movie-reze-arc/2025-11-18/
LOCATION:Folkets hus Pajala\, Fridhemsvägen 1A\, Pajala\, 98431\, Sverige
ATTACH;FMTTYPE=image/jpeg:https://visitpajala.se/wp-content/uploads/2025/11/Chainsaw-man.jpg
ORGANIZER;CN="Pajala Folkets Husf%C3%B6rening":MAILTO:folkets.hus.pajala@telia.com
END:VEVENT
END:VCALENDAR