BEGIN:VCALENDAR
VERSION:2.0
PRODID:-//Visit Pajala - ECPv6.14.2//NONSGML v1.0//EN
CALSCALE:GREGORIAN
METHOD:PUBLISH
X-WR-CALNAME:Visit Pajala
X-ORIGINAL-URL:https://visitpajala.se
X-WR-CALDESC:Händelser för Visit Pajala
REFRESH-INTERVAL;VALUE=DURATION:PT1H
X-Robots-Tag:noindex
X-PUBLISHED-TTL:PT1H
BEGIN:VTIMEZONE
TZID:Europe/Stockholm
BEGIN:DAYLIGHT
TZOFFSETFROM:+0100
TZOFFSETTO:+0200
TZNAME:CEST
DTSTART:20250330T010000
END:DAYLIGHT
BEGIN:STANDARD
TZOFFSETFROM:+0200
TZOFFSETTO:+0100
TZNAME:CET
DTSTART:20251026T010000
END:STANDARD
END:VTIMEZONE
BEGIN:VEVENT
DTSTART;TZID=Europe/Stockholm:20251102T160000
DTEND;TZID=Europe/Stockholm:20251102T180000
DTSTAMP:20260424T142646
CREATED:20251026T173729Z
LAST-MODIFIED:20251026T173729Z
UID:10002487-1762099200-1762106400@visitpajala.se
SUMMARY:Föreläsning med författare
DESCRIPTION:Författaren Mattias Timander berättar kring sin debutroman ”Din vilja sitter i skogen”.
URL:https://visitpajala.se/kalender/forelasning-med-forfattare/
LOCATION:ABF Pajala\, Tornedalsvägen 12 B\, Pajala\, Sverige
CATEGORIES:Föreläsning
ATTACH;FMTTYPE=image/jpeg:https://visitpajala.se/wp-content/uploads/2025/10/Annons-TB-21-Mattias-Timander-bild-2-scaled.jpg
ORGANIZER;CN="F%C3%B6reningen Norden Pajala i samverkan med Pajala kommun och ABF Pajala":MAILTO:berit.ostrom@gmail.com
END:VEVENT
END:VCALENDAR