BEGIN:VCALENDAR
VERSION:2.0
PRODID:-//Visit Pajala - ECPv6.14.2//NONSGML v1.0//EN
CALSCALE:GREGORIAN
METHOD:PUBLISH
X-ORIGINAL-URL:https://visitpajala.se
X-WR-CALDESC:Händelser för Visit Pajala
REFRESH-INTERVAL;VALUE=DURATION:PT1H
X-Robots-Tag:noindex
X-PUBLISHED-TTL:PT1H
BEGIN:VTIMEZONE
TZID:Europe/Stockholm
BEGIN:DAYLIGHT
TZOFFSETFROM:+0100
TZOFFSETTO:+0200
TZNAME:CEST
DTSTART:20250330T010000
END:DAYLIGHT
BEGIN:STANDARD
TZOFFSETFROM:+0200
TZOFFSETTO:+0100
TZNAME:CET
DTSTART:20251026T010000
END:STANDARD
END:VTIMEZONE
BEGIN:VEVENT
DTSTART;TZID=Europe/Stockholm:20251030T090000
DTEND;TZID=Europe/Stockholm:20251030T150000
DTSTAMP:20260424T142828
CREATED:20251001T112459Z
LAST-MODIFIED:20251001T112459Z
UID:10002107-1761814800-1761836400@visitpajala.se
SUMMARY:Serier hela lovet
DESCRIPTION:Under läslovs-/höstlovsveckan på biblioteket i Pajala anordnar vi olika aktiviteter för barn och unga. Detta år med temat serier. Ta med dina vänner och din familj till bibblo och få bra tips på serier att läsa. Du kommer balnd annat kunna rita din egen serie eller pärla din egen seriefigur med pärlplattor. För mer information om vad som händer under veckan\, håll koll på bibblos instagram @bibliotek.pajala\nVälkommen!
URL:https://visitpajala.se/kalender/serier-hela-lovet/2025-10-30/
LOCATION:Pajala bibliotek\, Biblioteksvägen 1\, Pajala\, 98432\, Sverige
CATEGORIES:Familjeunderhållning,Kultur
ATTACH;FMTTYPE=image/png:https://visitpajala.se/wp-content/uploads/2025/09/Hostlov-med-serier.png
ORGANIZER;CN="Pajala bibliotek":MAILTO:bibliotek@pajala.se
END:VEVENT
BEGIN:VEVENT
DTSTART;TZID=Europe/Stockholm:20251030T190000
DTEND;TZID=Europe/Stockholm:20251030T210000
DTSTAMP:20260424T142828
CREATED:20251029T130029Z
LAST-MODIFIED:20251029T130029Z
UID:10002496-1761850800-1761858000@visitpajala.se
SUMMARY:Bion i Pajala Visar: En kort films kväll
DESCRIPTION:Spökonsdag på Kiruna Radio 97\,3 av Magnus Fredriksson och Daniel Ojanlatva\, Det stora överflödet av Magnus Fredriksson och Öronmask av Patrik Eklund
URL:https://visitpajala.se/kalender/bion-i-pajala-visar-en-kort-films-kvall/
LOCATION:Folkets Hus Pajala\, Fridhemsvägen 1A\, Pajala\, Sverige
CATEGORIES:Film & Bio
ATTACH;FMTTYPE=image/jpeg:https://visitpajala.se/wp-content/uploads/2025/10/Filmpool-Nord-pa-turne_A3_Pajala_Dag.jpeg
END:VEVENT
END:VCALENDAR