BEGIN:VCALENDAR
VERSION:2.0
PRODID:-//Visit Pajala - ECPv6.14.2//NONSGML v1.0//EN
CALSCALE:GREGORIAN
METHOD:PUBLISH
X-WR-CALNAME:Visit Pajala
X-ORIGINAL-URL:https://visitpajala.se
X-WR-CALDESC:Händelser för Visit Pajala
REFRESH-INTERVAL;VALUE=DURATION:PT1H
X-Robots-Tag:noindex
X-PUBLISHED-TTL:PT1H
BEGIN:VTIMEZONE
TZID:Europe/Stockholm
BEGIN:DAYLIGHT
TZOFFSETFROM:+0100
TZOFFSETTO:+0200
TZNAME:CEST
DTSTART:20250330T010000
END:DAYLIGHT
BEGIN:STANDARD
TZOFFSETFROM:+0200
TZOFFSETTO:+0100
TZNAME:CET
DTSTART:20251026T010000
END:STANDARD
END:VTIMEZONE
BEGIN:VEVENT
DTSTART;TZID=Europe/Stockholm:20251028T110000
DTEND;TZID=Europe/Stockholm:20251028T180000
DTSTAMP:20260424T142645
CREATED:20251001T112459Z
LAST-MODIFIED:20251001T112459Z
UID:10002105-1761649200-1761674400@visitpajala.se
SUMMARY:Serier hela lovet
DESCRIPTION:Under läslovs-/höstlovsveckan på biblioteket i Pajala anordnar vi olika aktiviteter för barn och unga. Detta år med temat serier. Ta med dina vänner och din familj till bibblo och få bra tips på serier att läsa. Du kommer balnd annat kunna rita din egen serie eller pärla din egen seriefigur med pärlplattor. För mer information om vad som händer under veckan\, håll koll på bibblos instagram @bibliotek.pajala\nVälkommen!
URL:https://visitpajala.se/kalender/serier-hela-lovet/2025-10-28/
LOCATION:Pajala bibliotek\, Biblioteksvägen 1\, Pajala\, 98432\, Sverige
CATEGORIES:Familjeunderhållning,Kultur
ATTACH;FMTTYPE=image/png:https://visitpajala.se/wp-content/uploads/2025/09/Hostlov-med-serier.png
ORGANIZER;CN="Pajala bibliotek":MAILTO:bibliotek@pajala.se
END:VEVENT
BEGIN:VEVENT
DTSTART;TZID=Europe/Stockholm:20251028T180000
DTEND;TZID=Europe/Stockholm:20251028T201500
DTSTAMP:20260424T142645
CREATED:20251001T112419Z
LAST-MODIFIED:20251001T112419Z
UID:10002109-1761674400-1761682500@visitpajala.se
SUMMARY:Bion i Pajala Visar: Conjuring - Last Rites
DESCRIPTION:SYNOPSIS\nFjärde delen i berättelsen om Ed och Lorraine Warren i ”The Conjuring”-serien tar dem till familjen Smurls hemsökta hus\, där en förbannad spegel ställer till det.
URL:https://visitpajala.se/kalender/bion-i-pajala-visar-conjuring-last-rites/2025-10-28/
LOCATION:Folkets hus Pajala\, Fridhemsvägen 1A\, Pajala\, 98431\, Sverige
ATTACH;FMTTYPE=image/jpeg:https://visitpajala.se/wp-content/uploads/2025/10/Hostlov.jpg
ORGANIZER;CN="Pajala Folkets Husf%C3%B6rening":MAILTO:folkets.hus.pajala@telia.com
END:VEVENT
END:VCALENDAR