BEGIN:VCALENDAR
VERSION:2.0
PRODID:-//Visit Pajala - ECPv6.14.2//NONSGML v1.0//EN
CALSCALE:GREGORIAN
METHOD:PUBLISH
X-WR-CALNAME:Visit Pajala
X-ORIGINAL-URL:https://visitpajala.se
X-WR-CALDESC:Händelser för Visit Pajala
REFRESH-INTERVAL;VALUE=DURATION:PT1H
X-Robots-Tag:noindex
X-PUBLISHED-TTL:PT1H
BEGIN:VTIMEZONE
TZID:Europe/Stockholm
BEGIN:DAYLIGHT
TZOFFSETFROM:+0100
TZOFFSETTO:+0200
TZNAME:CEST
DTSTART:20250330T010000
END:DAYLIGHT
BEGIN:STANDARD
TZOFFSETFROM:+0200
TZOFFSETTO:+0100
TZNAME:CET
DTSTART:20251026T010000
END:STANDARD
END:VTIMEZONE
BEGIN:VEVENT
DTSTART;TZID=Europe/Stockholm:20251016T080000
DTEND;TZID=Europe/Stockholm:20251016T170000
DTSTAMP:20260424T160150
CREATED:20250922T184938Z
LAST-MODIFIED:20250922T184938Z
UID:10002095-1760601600-1760634000@visitpajala.se
SUMMARY:Publikutveckling i Glesbygd - föreläsning\, mingel\, middag och teater!
DESCRIPTION:Vi välkomnar er till en arrangörsträff i Pajala! \nI samband med premiären av föreställningen UMMIKKOS (en samproduktion mellan Riksteatern och Tornedalsteatern) bjuder vi på en nätverksträff\, plockmat och ett urval av biljetter till Ummikkos! \nÄr du arrangör i glesbygd eller på något annat sätt vill utveckla din publik – kom och nätverka så pratar vi om publikutveckling.\nVi bjuder på föreläsning i Publikutveckling samt en föreläsning i att söka finansiering till sitt arrangemang. Vi välkomnar även några personer från häftiga arrangemang i glesbygd och pratar om vad som driver dem att jobba så hårt för att få arrangemanget att bli av år efter år. \nPå eventet på fb kommer vi att publicera gästlistan allteftersom den är klar! \nProgrammet kommer att se ut ungefär så här:\n14:00-14:30 – Mingel/Välkommen\n14:30 – 15:45 – Föreläsning 1: om Publikutveckling med Mirjana Petrova Johansson och Föreläsning 2: om finansiering av kulturprojekt med Jimmy Lundegård.\n15:45 – 16:30 – Panelsamtal\n16:30 – 17:30 – Plockmat\n17:30 – Gå till Folkets hus\n18:00 – Förrätten (en del i programmet på Tornedalsteatern)\n19:00 – Föreställningen Ummikkos \nVilka är vi som arrangerar denna träff?\nTornedalsteatern – vars uppdrag är att skapa teater och andra konstnärliga produktioner till publiken i dess närhet\, men också att leda produktioner där folket själv deltar. Ett annat viktigt uppdrag är att revitalisera språket meänkieli\, att skapa ett intresse för meänkieli som scenspråk och att sprida kunskap om områdets kultur och historia. \nArrangörer i Norr – en förening som riktar sig framför allt till kulturarrangörer i Norrbotten. Föreningen finns till för att skapa nätverk och kompetenshöjande aktiviteter för de som jobbar med publika evenemang inom kultur. Detta event är för alla föreningar och arrangemang – inte bara inom kultur. \nTycker du att detta passar dig?\nVarmt välkommen!
URL:https://visitpajala.se/kalender/publikutveckling-i-glesbygd-forelasning-mingel-middag-och-teater/2025-10-16/1/
LOCATION:Tornedalsteatern\, Tingsgatan 1\, Pajala\, 98432
CATEGORIES:Kultur
ATTACH;FMTTYPE=image/png:https://visitpajala.se/wp-content/uploads/2025/09/2.png
ORGANIZER;CN="Arrang%C3%B6rer i Norr":MAILTO:mirjana@arrangorerinorr.se
END:VEVENT
BEGIN:VEVENT
DTSTART;TZID=Europe/Stockholm:20251016T140000
DTEND;TZID=Europe/Stockholm:20251016T210000
DTSTAMP:20260424T160150
CREATED:20250922T184938Z
LAST-MODIFIED:20250922T184938Z
UID:10002096-1760623200-1760648400@visitpajala.se
SUMMARY:Publikutveckling i Glesbygd - föreläsning\, mingel\, middag och teater!
DESCRIPTION:Vi välkomnar er till en arrangörsträff i Pajala! \nI samband med premiären av föreställningen UMMIKKOS (en samproduktion mellan Riksteatern och Tornedalsteatern) bjuder vi på en nätverksträff\, plockmat och ett urval av biljetter till Ummikkos! \nÄr du arrangör i glesbygd eller på något annat sätt vill utveckla din publik – kom och nätverka så pratar vi om publikutveckling.\nVi bjuder på föreläsning i Publikutveckling samt en föreläsning i att söka finansiering till sitt arrangemang. Vi välkomnar även några personer från häftiga arrangemang i glesbygd och pratar om vad som driver dem att jobba så hårt för att få arrangemanget att bli av år efter år. \nPå eventet på fb kommer vi att publicera gästlistan allteftersom den är klar! \nProgrammet kommer att se ut ungefär så här:\n14:00-14:30 – Mingel/Välkommen\n14:30 – 15:45 – Föreläsning 1: om Publikutveckling med Mirjana Petrova Johansson och Föreläsning 2: om finansiering av kulturprojekt med Jimmy Lundegård.\n15:45 – 16:30 – Panelsamtal\n16:30 – 17:30 – Plockmat\n17:30 – Gå till Folkets hus\n18:00 – Förrätten (en del i programmet på Tornedalsteatern)\n19:00 – Föreställningen Ummikkos \nVilka är vi som arrangerar denna träff?\nTornedalsteatern – vars uppdrag är att skapa teater och andra konstnärliga produktioner till publiken i dess närhet\, men också att leda produktioner där folket själv deltar. Ett annat viktigt uppdrag är att revitalisera språket meänkieli\, att skapa ett intresse för meänkieli som scenspråk och att sprida kunskap om områdets kultur och historia. \nArrangörer i Norr – en förening som riktar sig framför allt till kulturarrangörer i Norrbotten. Föreningen finns till för att skapa nätverk och kompetenshöjande aktiviteter för de som jobbar med publika evenemang inom kultur. Detta event är för alla föreningar och arrangemang – inte bara inom kultur. \nTycker du att detta passar dig?\nVarmt välkommen!
URL:https://visitpajala.se/kalender/publikutveckling-i-glesbygd-forelasning-mingel-middag-och-teater/2025-10-16/2/
LOCATION:Tornedalsteatern\, Tingsgatan 1\, Pajala\, 98432
CATEGORIES:Kultur
ATTACH;FMTTYPE=image/png:https://visitpajala.se/wp-content/uploads/2025/09/2.png
ORGANIZER;CN="Arrang%C3%B6rer i Norr":MAILTO:mirjana@arrangorerinorr.se
END:VEVENT
BEGIN:VEVENT
DTSTART;TZID=Europe/Stockholm:20251016T180000
DTEND;TZID=Europe/Stockholm:20251016T203000
DTSTAMP:20260424T160150
CREATED:20251008T091836Z
LAST-MODIFIED:20251013T064556Z
UID:10002115-1760637600-1760646600@visitpajala.se
SUMMARY:UMMIKKOS
DESCRIPTION:Ummikkos – Om att förlora rötter och att ta dem tillbaka\nEtt samarbete mellan Tornedalsteatern och Riksteatern. \nEn vinterkväll sitter Jonna i sin nyköpta gård och försöker lära sig meänkieli\, farfars språk\, det hon aldrig fick lära sig som barn. Språket farfar nu endast talar då blodproppen tagit svenskan ifrån honom. Utanför fönstret närmar sig Lasse. Han som en gång ägde samma gård\, han som lämnade byn för många år sen\, men som nu drivs tillbaka\, av anledningar inte ens han själv förstår. På andra sidan jorden grubblar Markus\, Lasses son\, på vad hans efternamn betyder\, och varför han inte verkar kunna vänja sig med de nya ljuden i den nya stora staden. Katarina minns kampen de förde på åttiotalet. Striden om språket\, identiteten och kulturen. Den de förde mot årtionden av försvenskningspolitik och skam. Striden de till slut vann\, men till vilket pris? Var det värt det? \nManus av Camilla Blomqvist\nRegi av Filip Alexanderson\nPå scen: Klara Pasma\, Timo Nieminen\, Nikolai Äystö\, Margareta Stone \nKl 18:00 börjar FÖRRÄTTEN som är en guidad smak- och kulturupplevelse med 100 platser. Kom ihåg att även välja biljett till FÖRRÄTTEN när du köper din teaterbiljett!\nKl 19:00-20:30 spelas föreställningen UMMIKKOS i biosalen på Folkets hus (ca 200 platser). \nBiljetterna säljs via Billetto eller via 0978-10299
URL:https://visitpajala.se/kalender/ummikkos/2025-10-16/
LOCATION:Folkets hus Pajala\, Fridhemsvägen 1A\, Pajala\, 98431\, Sverige
CATEGORIES:Kultur
ATTACH;FMTTYPE=image/jpeg:https://visitpajala.se/wp-content/uploads/2025/10/Ummikkos_1920x1080.jpg
ORGANIZER;CN="Tornedalsteatern - Tornionlaakson Teatteri":MAILTO:info@tornedalsteatern.se
END:VEVENT
END:VCALENDAR